BEGIN:VCALENDAR
VERSION:2.0
PRODID:IEEE vTools.Events//EN
CALSCALE:GREGORIAN
BEGIN:VTIMEZONE
TZID:America/New_York
BEGIN:DAYLIGHT
DTSTART:20230312T030000
TZOFFSETFROM:-0500
TZOFFSETTO:-0400
RRULE:FREQ=YEARLY;BYDAY=2SU;BYMONTH=3
TZNAME:EDT
END:DAYLIGHT
BEGIN:STANDARD
DTSTART:20221106T010000
TZOFFSETFROM:-0400
TZOFFSETTO:-0500
RRULE:FREQ=YEARLY;BYDAY=1SU;BYMONTH=11
TZNAME:EST
END:STANDARD
END:VTIMEZONE
BEGIN:VEVENT
DTSTAMP:20221204T045508Z
UID:621DF5A8-DC93-46C5-9348-DF47987DA95B
DTSTART;TZID=America/New_York:20221124T160000
DTEND;TZID=America/New_York:20221124T170000
DESCRIPTION:Come out\, hang out\, eat some snacks and bowl over the competi
 tion at Algonquin College&#39;s Wolves Den.\n\nBowling is free for anyone regi
 stered with Algonquin College Athletics (students and faculty).\n\nRoom: W
 olves Den\, Bldg: Jack Doyle Athletic Centre\, 1385 Woodroffe Ave Unit\, U
 nit X130\, Nepean\, Ontario\, Canada\, K2G 1V8
LOCATION:Room: Wolves Den\, Bldg: Jack Doyle Athletic Centre\, 1385 Woodrof
 fe Ave Unit\, Unit X130\, Nepean\, Ontario\, Canada\, K2G 1V8
ORGANIZER:ryc00001@algonquinlive.com
SEQUENCE:6
SUMMARY:Social Kinetics: Algonquin College Bowling Night
URL;VALUE=URI:https://events.vtools.ieee.org/m/333114
X-ALT-DESC:Description: &lt;br /&gt;&lt;p&gt;Come out\, hang out\, eat some snacks and 
 bowl over the competition at Algonquin College&#39;s Wolves Den.&lt;/p&gt;\n&lt;p&gt;Bowli
 ng is free for anyone registered with Algonquin College Athletics (student
 s and faculty).&lt;/p&gt;
END:VEVENT
END:VCALENDAR

