BEGIN:VCALENDAR
VERSION:2.0
PRODID:IEEE vTools.Events//EN
CALSCALE:GREGORIAN
BEGIN:VTIMEZONE
TZID:America/New_York
BEGIN:DAYLIGHT
DTSTART:20230312T030000
TZOFFSETFROM:-0500
TZOFFSETTO:-0400
RRULE:FREQ=YEARLY;BYDAY=2SU;BYMONTH=3
TZNAME:EDT
END:DAYLIGHT
BEGIN:STANDARD
DTSTART:20221106T010000
TZOFFSETFROM:-0400
TZOFFSETTO:-0500
RRULE:FREQ=YEARLY;BYDAY=1SU;BYMONTH=11
TZNAME:EST
END:STANDARD
END:VTIMEZONE
BEGIN:VEVENT
DTSTAMP:20221218T193907Z
UID:D288BB08-5E46-4ACA-8715-BD1A0D971467
DTSTART;TZID=America/New_York:20221215T190000
DTEND;TZID=America/New_York:20221215T200000
DESCRIPTION:The Long-Term Evolution (LTE) of Signal Transmission &amp; Receptio
 n Techniques used by cell phones have drastically changed with the introdu
 ction of 4G and evolved further with the implementation of 5G. The focus o
 f this lecture is to understand the implementation of more efficient modul
 ation techniques\, spectrum optimization\, complex packet transmission and
  multiple antenna technologies. These technologies still evolving and impr
 oving are significant to future applications such as autonomous vehicle sy
 stem\, personalized medical communications\, and higher speed connections.
 \n\nCo-sponsored by: LI Section EMB 18\n\nSpeaker(s): Howard Hausman\, \n\
 nVirtual: https://events.vtools.ieee.org/m/333179
LOCATION:Virtual: https://events.vtools.ieee.org/m/333179
ORGANIZER:h.hausman@ieee.org
SEQUENCE:10
SUMMARY:5G: Looking Behind the Curtain: Part 2 Modulation Constellations an
 d Orthogonal Multiplexing 
URL;VALUE=URI:https://events.vtools.ieee.org/m/333179
X-ALT-DESC:Description: &lt;br /&gt;&lt;p&gt;The Long-Term Evolution (LTE) of Signal Tr
 ansmission &amp;amp\; Reception Techniques used by cell phones have drasticall
 y changed with the introduction of 4G and evolved further with the impleme
 ntation of 5G. &amp;nbsp\;The focus of this lecture is to understand the imple
 mentation of more efficient modulation techniques\, spectrum optimization\
 , complex packet transmission and multiple antenna technologies.&amp;nbsp\; Th
 ese technologies still evolving and improving are significant to future ap
 plications such as autonomous vehicle system\, personalized medical commun
 ications\, and higher speed connections.&amp;nbsp\;&amp;nbsp\;&lt;/p&gt;
END:VEVENT
END:VCALENDAR

