BEGIN:VCALENDAR
VERSION:2.0
PRODID:IEEE vTools.Events//EN
CALSCALE:GREGORIAN
BEGIN:VTIMEZONE
TZID:America/New_York
BEGIN:DAYLIGHT
DTSTART:20230312T030000
TZOFFSETFROM:-0500
TZOFFSETTO:-0400
RRULE:FREQ=YEARLY;BYDAY=2SU;BYMONTH=3
TZNAME:EDT
END:DAYLIGHT
BEGIN:STANDARD
DTSTART:20221106T010000
TZOFFSETFROM:-0400
TZOFFSETTO:-0500
RRULE:FREQ=YEARLY;BYDAY=1SU;BYMONTH=11
TZNAME:EST
END:STANDARD
END:VTIMEZONE
BEGIN:VEVENT
DTSTAMP:20221202T130517Z
UID:79D3FC66-2772-47DD-B33A-A85223443F20
DTSTART;TZID=America/New_York:20221201T170000
DTEND;TZID=America/New_York:20221201T190000
DESCRIPTION:What is driving our industry to improve performance? How do we\
 , as an industry\, make sure we are performing to our customers’ expecta
 tions? In today’s power systems\, every technology employed\, trend esta
 blished\, and policy or standard implemented\, should be done so with the 
 best interests of the customer in mind. The utility sector is economically
  immense and vast in geographic scope\, and it combines ownership\, manage
 ment\, and regulation in complex ways to achieve r eliable energy service.
  This presentation will provide a broad view on energy market regulation i
 n the US\, including a rulemaking process and landmark orders. It addition
 \, it will explore how improving bulk power system performance through tec
 hnology\, data\, and policies will benefit the customers of electric power
 .\n\nSpeaker(s): Dr. Jessica Bian\, \n\nVirtual: https://events.vtools.iee
 e.org/m/333745
LOCATION:Virtual: https://events.vtools.ieee.org/m/333745
ORGANIZER:balakrishnan_mani@ieee.org,A.S.Tribbett@ieee.org
SEQUENCE:4
SUMMARY:Presentation of Finding a Balance: Regulation and Bulk Power System
  Performance
URL;VALUE=URI:https://events.vtools.ieee.org/m/333745
X-ALT-DESC:Description: &lt;br /&gt;&lt;h5 class=&quot;p1&quot;&gt;&lt;span class=&quot;s1&quot;&gt;What is drivi
 ng our industry to improve performance? How do we\, as an industry\, make 
 sure we are performing to our customers&amp;rsquo\; expectations? In today&amp;rsq
 uo\;s power systems\, every technology employed\, trend established\, and 
 policy or standard implemented\, should be done so with the best interests
  of the customer in mind.&amp;nbsp\;&amp;nbsp\;The utility sector is economically 
 immense and vast in geographic scope\, and it combines ownership\, managem
 ent\, and regulation in complex ways to achieve r &amp;nbsp\;eliable energy se
 rvice. &amp;nbsp\;This presentation will provide a broad view on energy market
  regulation in the US\, including a rulemaking process and landmark orders
 . It addition\, it will explore how improving bulk power system performanc
 e through technology\, data\, and policies will benefit the customers of e
 lectric power.&lt;/span&gt;&lt;/h5&gt;
END:VEVENT
END:VCALENDAR

