BEGIN:VCALENDAR
VERSION:2.0
PRODID:IEEE vTools.Events//EN
CALSCALE:GREGORIAN
BEGIN:VTIMEZONE
TZID:America/Lima
BEGIN:DAYLIGHT
DTSTART:20380118T221407
TZOFFSETFROM:-0500
TZOFFSETTO:-0500
RRULE:FREQ=YEARLY;BYDAY=3MO;BYMONTH=1
TZNAME:-05
END:DAYLIGHT
BEGIN:STANDARD
DTSTART:19940331T230000
TZOFFSETFROM:-0400
TZOFFSETTO:-0500
RRULE:FREQ=YEARLY;BYDAY=-1TH;BYMONTH=3
TZNAME:-05
END:STANDARD
END:VTIMEZONE
BEGIN:VEVENT
DTSTAMP:20221202T125124Z
UID:BCCD58D6-8020-4501-88AD-ECCD23080756
DTSTART;TZID=America/Lima:20221130T160000
DTEND;TZID=America/Lima:20221130T180000
DESCRIPTION:“Aspectos a Tener En Cuenta Para Publicar En Revistas Cientí
 ficas” 30 de noviembre de 2022\n\nEl Capítulo Estudiantil IEEE RAS URP 
 de la Rama IEEE URP tiene a bien realizar el webinar: “Aspectos a Tener 
 En Cuenta Para Publicar En Revistas Científicas” orientado hacia estudi
 antes\, profesionales y público en general.\n\nSe presentarán generalida
 des a tener en cuenta al momento de publicar resultados de investigación\
 , especialmente errores comunes que se presentan desde la construcción de
  un texto hasta el proceso de selección del medio de publicación. En est
 e webinar abordaremos estos temas como también veremos algunos proyectos 
 realizados.\n\n- Expositor: Magister Juan Sebastián González Sanabria\n-
  Fecha: miércoles 30 de noviembre\n- Hora: 16:00 hrs GMT-5\n- Inscripcion
 es: https://forms.gle/8FQm7DK9bNyvhvgv9\n\n¡ACCESO LIBRE Y GRATUITO!\n\nS
 e otorgarán certificados GRATUITOS en calidad de asistente a todos los mi
 embros IEEE.\n\nCondiciones: El miembro IEEE debe estar como mínimo en el
  75% del Webinar.\n\nAquellos asistentes al evento que no sean miembros IE
 EE y deseen que se le otorgue un certificado en calidad de asistente puede
 n solicitarlo estando sujeta a cobro.\n\n- Estudiantes que no son miembros
  IEEE: S/. 30.00 (soles)\n- Profesionales que no son miembros IEEE: S/. 60
 .00 (soles)\n\n¡TE ESPERAMOS!\n\nSpeaker(s): Juan Sebastián González Sa
 nabria\, \n\nVirtual: https://events.vtools.ieee.org/m/333930
LOCATION:Virtual: https://events.vtools.ieee.org/m/333930
ORGANIZER:ieee.ras@urp.edu.pe
SEQUENCE:3
SUMMARY:Webinar: Aspectos a Tener En Cuenta Para Publicar En Revistas Cient
 íficas
URL;VALUE=URI:https://events.vtools.ieee.org/m/333930
X-ALT-DESC:Description: &lt;br /&gt;&lt;p&gt;&lt;strong&gt;&amp;ldquo\;Aspectos a Tener En Cuenta
  Para Publicar En Revistas Cient&amp;iacute\;ficas&amp;rdquo\; 30 de noviembre de 
 2022&amp;nbsp\;&lt;/strong&gt;&lt;/p&gt;\n&lt;p&gt;&amp;nbsp\;&lt;/p&gt;\n&lt;p&gt;&lt;span style=&quot;font-weight: 400
 \;&quot;&gt;El Cap&amp;iacute\;tulo Estudiantil IEEE RAS URP de la Rama IEEE URP tiene
  a bien realizar el webinar: &amp;ldquo\;Aspectos a Tener En Cuenta Para Publi
 car En Revistas Cient&amp;iacute\;ficas&amp;rdquo\; orientado hacia estudiantes\, 
 profesionales y p&amp;uacute\;blico en general.&lt;/span&gt;&lt;/p&gt;\n&lt;p&gt;&lt;span style=&quot;fo
 nt-weight: 400\;&quot;&gt;Se presentar&amp;aacute\;n generalidades a tener en cuenta a
 l momento de publicar resultados de investigaci&amp;oacute\;n\, especialmente 
 errores comunes que se presentan desde la construcci&amp;oacute\;n de un texto
  hasta el proceso de selecci&amp;oacute\;n del medio de publicaci&amp;oacute\;n. E
 n este webinar abordaremos estos temas como tambi&amp;eacute\;n veremos alguno
 s proyectos realizados.&lt;/span&gt;&lt;/p&gt;\n&lt;p&gt;&amp;nbsp\;&lt;/p&gt;\n&lt;ul&gt;\n&lt;li style=&quot;font-
 weight: 400\;&quot; aria-level=&quot;1&quot;&gt;&lt;span style=&quot;font-weight: 400\;&quot;&gt;Expositor: 
 Magister Juan Sebasti&amp;aacute\;n Gonz&amp;aacute\;lez Sanabria&lt;/span&gt;&lt;/li&gt;\n&lt;li
  style=&quot;font-weight: 400\;&quot; aria-level=&quot;1&quot;&gt;&lt;span style=&quot;font-weight: 400\;
 &quot;&gt;Fecha: mi&amp;eacute\;rcoles 30 de noviembre&amp;nbsp\;&lt;/span&gt;&lt;/li&gt;\n&lt;li style=&quot;
 font-weight: 400\;&quot; aria-level=&quot;1&quot;&gt;&lt;span style=&quot;font-weight: 400\;&quot;&gt;Hora: 
 16:00 hrs GMT-5&lt;/span&gt;&lt;/li&gt;\n&lt;li style=&quot;font-weight: 400\;&quot; aria-level=&quot;1&quot;
 &gt;&lt;span style=&quot;font-weight: 400\;&quot;&gt;Inscripciones: https://forms.gle/8FQm7DK
 9bNyvhvgv9&lt;/span&gt;&lt;/li&gt;\n&lt;/ul&gt;\n&lt;p&gt;&amp;nbsp\;&lt;/p&gt;\n&lt;p&gt;&lt;span style=&quot;font-weight
 : 400\;&quot;&gt;&amp;iexcl\;ACCESO LIBRE Y GRATUITO!&amp;nbsp\;&lt;/span&gt;&lt;/p&gt;\n&lt;p&gt;&amp;nbsp\;&lt;/p
 &gt;\n&lt;p&gt;&lt;strong&gt;Se otorgar&amp;aacute\;n certificados GRATUITOS en calidad de as
 istente a todos los miembros IEEE.&lt;/strong&gt;&lt;/p&gt;\n&lt;p&gt;&lt;span style=&quot;font-weig
 ht: 400\;&quot;&gt;Condiciones: El miembro IEEE debe estar como m&amp;iacute\;nimo en 
 el 75% del Webinar.&lt;/span&gt;&lt;/p&gt;\n&lt;p&gt;&amp;nbsp\;&lt;/p&gt;\n&lt;p&gt;&lt;span style=&quot;font-weigh
 t: 400\;&quot;&gt;Aquellos asistentes al evento que no sean miembros IEEE y deseen
  que se le otorgue un certificado en calidad de asistente pueden solicitar
 lo estando sujeta a cobro.&lt;/span&gt;&lt;/p&gt;\n&lt;ul&gt;\n&lt;li style=&quot;font-weight: 400\;
 &quot; aria-level=&quot;1&quot;&gt;&lt;span style=&quot;font-weight: 400\;&quot;&gt;Estudiantes que no son m
 iembros IEEE: S/. 30.00 (soles)&lt;/span&gt;&lt;/li&gt;\n&lt;li style=&quot;font-weight: 400\;
 &quot; aria-level=&quot;1&quot;&gt;&lt;span style=&quot;font-weight: 400\;&quot;&gt;Profesionales que no son
  miembros IEEE: S/. 60.00 (soles)&lt;/span&gt;&lt;/li&gt;\n&lt;/ul&gt;\n&lt;p&gt;&amp;nbsp\;&lt;/p&gt;\n&lt;p&gt;&lt;
 span style=&quot;font-weight: 400\;&quot;&gt;&amp;iexcl\;TE ESPERAMOS!&amp;nbsp\;&lt;/span&gt;&lt;/p&gt;
END:VEVENT
END:VCALENDAR

