BEGIN:VCALENDAR
VERSION:2.0
PRODID:IEEE vTools.Events//EN
CALSCALE:GREGORIAN
BEGIN:VTIMEZONE
TZID:America/Lima
BEGIN:DAYLIGHT
DTSTART:20380118T221407
TZOFFSETFROM:-0500
TZOFFSETTO:-0500
RRULE:FREQ=YEARLY;BYDAY=3MO;BYMONTH=1
TZNAME:-05
END:DAYLIGHT
BEGIN:STANDARD
DTSTART:19940331T230000
TZOFFSETFROM:-0400
TZOFFSETTO:-0500
RRULE:FREQ=YEARLY;BYDAY=-1TH;BYMONTH=3
TZNAME:-05
END:STANDARD
END:VTIMEZONE
BEGIN:VEVENT
DTSTAMP:20221210T023848Z
UID:5DA3879E-0C85-4468-B699-86D98D944B4A
DTSTART;TZID=America/Lima:20221124T223000
DTEND;TZID=America/Lima:20221125T000000
DESCRIPTION:Reunión de capacitación a la directiva IEEE RAS UTP 2023\n\nV
 irtual: https://events.vtools.ieee.org/m/333981
LOCATION:Virtual: https://events.vtools.ieee.org/m/333981
ORGANIZER:rasutp.inscripciones@gmail.com
SEQUENCE:3
SUMMARY:4ta Capacitación Directiva IEEE RAS UTP 2023
URL;VALUE=URI:https://events.vtools.ieee.org/m/333981
X-ALT-DESC:Description: &lt;br /&gt;&lt;p&gt;Reuni&amp;oacute\;n de capacitaci&amp;oacute\;n a 
 la directiva IEEE RAS UTP 2023&lt;/p&gt;
END:VEVENT
END:VCALENDAR

