BEGIN:VCALENDAR
VERSION:2.0
PRODID:IEEE vTools.Events//EN
CALSCALE:GREGORIAN
BEGIN:VTIMEZONE
TZID:America/Guatemala
BEGIN:STANDARD
DTSTART:20060930T230000
TZOFFSETFROM:-0500
TZOFFSETTO:-0600
TZNAME:CST
END:STANDARD
END:VTIMEZONE
BEGIN:VEVENT
DTSTAMP:20221129T210111Z
UID:B9F93E2B-EAC4-4841-8E19-C6609C20BEE8
DTSTART;TZID=America/Guatemala:20221126T163000
DTEND;TZID=America/Guatemala:20221126T183000
DESCRIPTION:La Rama Estudiantil IEEE\, el capitulo IEEE PES UDB y la Asocia
 ción Salesiana de Estudiantes de Técnico e Ingeniería Eléctrica te inv
 itan al webinar:\n\nSISTEMAS SCADA\n\nImpartido por el Ing. Alexander Omar
  Duque\, Ingeniero electricista\, quien se desempeña en AES El Salvador\,
  en el área del sistema de Supervisión\, Control y Adquisición de datos
  SCADA.\n\nHora: 4:30 pm\n\nFecha: Viernes 25 de noviembre\n\nA través de
  Zoom\n\nCo-sponsored by: ing. Alexander Omar Duque \n\nVirtual: https://e
 vents.vtools.ieee.org/m/334004
LOCATION:Virtual: https://events.vtools.ieee.org/m/334004
ORGANIZER:ieee-udb@udb.edu.sv
SEQUENCE:1
SUMMARY:SISTEMAS SCADA
URL;VALUE=URI:https://events.vtools.ieee.org/m/334004
X-ALT-DESC:Description: &lt;br /&gt;&lt;p&gt;La Rama Estudiantil IEEE\, el capitulo IEE
 E PES UDB y la Asociaci&amp;oacute\;n Salesiana de Estudiantes de T&amp;eacute\;cn
 ico e Ingenier&amp;iacute\;a El&amp;eacute\;ctrica te invitan al webinar:&lt;/p&gt;\n&lt;p&gt;
 SISTEMAS SCADA&lt;/p&gt;\n&lt;p&gt;Impartido por el Ing. Alexander Omar Duque\, Ingeni
 ero electricista\, quien se desempe&amp;ntilde\;a en AES El Salvador\, en el &amp;
 aacute\;rea del sistema de Supervisi&amp;oacute\;n\, Control y Adquisici&amp;oacut
 e\;n de datos SCADA.&lt;/p&gt;\n&lt;p&gt;Hora: 4:30 pm&lt;/p&gt;\n&lt;p&gt;Fecha: Viernes 25 de no
 viembre&amp;nbsp\;&lt;/p&gt;\n&lt;p&gt;A trav&amp;eacute\;s de Zoom&lt;/p&gt;
END:VEVENT
END:VCALENDAR

