BEGIN:VCALENDAR
VERSION:2.0
PRODID:IEEE vTools.Events//EN
CALSCALE:GREGORIAN
BEGIN:VTIMEZONE
TZID:America/Lima
BEGIN:DAYLIGHT
DTSTART:20380118T221407
TZOFFSETFROM:-0500
TZOFFSETTO:-0500
RRULE:FREQ=YEARLY;BYDAY=3MO;BYMONTH=1
TZNAME:-05
END:DAYLIGHT
BEGIN:STANDARD
DTSTART:19940331T230000
TZOFFSETFROM:-0400
TZOFFSETTO:-0500
RRULE:FREQ=YEARLY;BYDAY=-1TH;BYMONTH=3
TZNAME:-05
END:STANDARD
END:VTIMEZONE
BEGIN:VEVENT
DTSTAMP:20221130T040708Z
UID:795245D4-D777-4141-99A0-9CD1DE8EF631
DTSTART;TZID=America/Lima:20221123T220000
DTEND;TZID=America/Lima:20221123T230000
DESCRIPTION:Se realizó la primera capacitacion y se brindó detalles de co
 mo continuar con el manejo de la Directiva del IEEE AESS UNMSM para el añ
 o 2023.\n\nAgenda: \nElecciones 2023\n\nPlan de trabajo 2023\n\nCronograma
  de actividades 2023\n\nVirtual: https://events.vtools.ieee.org/m/334005
LOCATION:Virtual: https://events.vtools.ieee.org/m/334005
ORGANIZER:ieeeaess.fiee@unmsm.edu.pe
SEQUENCE:2
SUMMARY:CAPACITACION N°1 DE DIRECTORES 2023 - PROCESO DE ELECCIONES
URL;VALUE=URI:https://events.vtools.ieee.org/m/334005
X-ALT-DESC:Description: &lt;br /&gt;&lt;p&gt;Se realiz&amp;oacute\; la primera capacitacion
  y se brind&amp;oacute\; detalles de como continuar con el manejo de la Direct
 iva del IEEE AESS UNMSM para el a&amp;ntilde\;o 2023.&lt;/p&gt;&lt;br /&gt;&lt;br /&gt;Agenda: &lt;
 br /&gt;&lt;p&gt;Elecciones 2023&lt;/p&gt;\n&lt;p&gt;Plan de trabajo 2023&lt;/p&gt;\n&lt;p&gt;Cronograma de
  actividades 2023&lt;/p&gt;
END:VEVENT
END:VCALENDAR

