BEGIN:VCALENDAR
VERSION:2.0
PRODID:IEEE vTools.Events//EN
CALSCALE:GREGORIAN
BEGIN:VTIMEZONE
TZID:Asia/Singapore
BEGIN:DAYLIGHT
DTSTART:20380119T111407
TZOFFSETFROM:+0800
TZOFFSETTO:+0800
RRULE:FREQ=YEARLY;BYDAY=3TU;BYMONTH=1
TZNAME:+08
END:DAYLIGHT
BEGIN:STANDARD
DTSTART:19820101T000000
TZOFFSETFROM:+0730
TZOFFSETTO:+0800
RRULE:FREQ=YEARLY;BYDAY=1FR;BYMONTH=1
TZNAME:+08
END:STANDARD
END:VTIMEZONE
BEGIN:VEVENT
DTSTAMP:20221222T092240Z
UID:C6E7C1A2-8093-4EE1-9A9E-54F674B08FEE
DTSTART;TZID=Asia/Singapore:20221221T183000
DTEND;TZID=Asia/Singapore:20221221T210000
DESCRIPTION:Our 2022 Dinner Gathering for Life Members Affinity Group (LMAG
 ) is scheduled on\n\nDate: 21 December 2022 (Wed)\n\nTime: 6:30 pm\n\nVenu
 e: Restaurant J65\, JEN SINGAPORE TANGLIN BY SHANGRI-LA\n\nAddress : 1a Cu
 scaden Road\, Singapore 249716\n\nDinner: https://www.jen-eats.com/tanglin
 /pdf/J65_LobsterRock&amp;RollBuffet.pdf\n\nPhone: (65) 6831 4374\n\nThe purpos
 e of the dinner gathering is to attract more life members to be involved i
 n the discussion and planning of the 2023 IEEE LMAG activities. We will di
 scuss over the lobster buffet our 2023 IEEE LMAG activities considering th
 e response of 2022 LMAG events. We will use the opportunity to introduce 2
 023 LMAG Committee members to all the attendees.\n\nDue to limited budget\
 , we can only accommodate up to 8 LMs. Registration will close when the ma
 ximum pax is reached.\n\nRoom: J65\, Bldg: Jen @ Tanglin\, Restaurant J65\
 , JEN SINGAPORE TANGLIN BY SHANGRI-LA\, 1a Cuscaden Road\, Singapore \, Si
 ngapore\, Singapore\, 249716
LOCATION:Room: J65\, Bldg: Jen @ Tanglin\, Restaurant J65\, JEN SINGAPORE T
 ANGLIN BY SHANGRI-LA\, 1a Cuscaden Road\, Singapore \, Singapore\, Singapo
 re\, 249716
ORGANIZER:ehbgooi@ntu.edu.sg
SEQUENCE:6
SUMMARY:IEEE LMAG Dinner Gathering 2022
URL;VALUE=URI:https://events.vtools.ieee.org/m/334465
X-ALT-DESC:Description: &lt;br /&gt;&lt;p&gt;Our 2022 Dinner Gathering for Life Members
  Affinity Group (LMAG) is scheduled on&lt;/p&gt;\n&lt;p&gt;Date:&amp;nbsp\; &amp;nbsp\; &amp;nbsp\
 ; &amp;nbsp\; &amp;nbsp\; &amp;nbsp\; &amp;nbsp\; &amp;nbsp\; &amp;nbsp\; &amp;nbsp\;21 December 2022 
 (Wed)&lt;/p&gt;\n&lt;p&gt;Time:&amp;nbsp\; &amp;nbsp\; &amp;nbsp\; &amp;nbsp\; &amp;nbsp\; &amp;nbsp\; &amp;nbsp\;
  &amp;nbsp\; &amp;nbsp\; 6:30 pm&lt;/p&gt;\n&lt;p&gt;Venue: &amp;nbsp\;&amp;nbsp\;&amp;nbsp\;&amp;nbsp\;&amp;nbsp\
 ;&amp;nbsp\;&amp;nbsp\;&amp;nbsp\;&amp;nbsp\;&amp;nbsp\;&amp;nbsp\;&amp;nbsp\;&amp;nbsp\;&amp;nbsp\;&amp;nbsp\;Res
 taurant J65\, JEN SINGAPORE TANGLIN BY SHANGRI-LA&lt;/p&gt;\n&lt;p&gt;Address :&amp;nbsp\;
  &amp;nbsp\; &amp;nbsp\; &amp;nbsp\; &amp;nbsp\; &amp;nbsp\; 1a Cuscaden Road\, Singapore 2497
 16&lt;/p&gt;\n&lt;p&gt;Dinner: &amp;nbsp\;&amp;nbsp\;&amp;nbsp\;&amp;nbsp\;&amp;nbsp\;&amp;nbsp\;&amp;nbsp\;&amp;nbsp\
 ;&amp;nbsp\;&amp;nbsp\;&amp;nbsp\;&amp;nbsp\;&amp;nbsp\; &lt;a href=&quot;https://www.jen-eats.com/tan
 glin/pdf/J65_LobsterRock&amp;amp\;RollBuffet.pdf&quot;&gt;https://www.jen-eats.com/tan
 glin/pdf/J65_LobsterRock&amp;amp\;RollBuffet.pdf&lt;/a&gt;&lt;/p&gt;\n&lt;p&gt;Phone: &amp;nbsp\;&amp;nb
 sp\;&amp;nbsp\;&amp;nbsp\;&amp;nbsp\;&amp;nbsp\;&amp;nbsp\;&amp;nbsp\;&amp;nbsp\;&amp;nbsp\;&amp;nbsp\;&amp;nbsp\;
 &amp;nbsp\;&amp;nbsp\;&amp;nbsp\;(65) 6831 4374&lt;/p&gt;\n&lt;p&gt;The purpose of the dinner gath
 ering is to attract more life members to be involved in the discussion and
  planning of the 2023 IEEE LMAG activities. &amp;nbsp\;We will discuss over th
 e lobster buffet our 2023 IEEE LMAG activities considering the response of
  2022 LMAG events. We will use the opportunity to introduce 2023 LMAG Comm
 ittee members to all the attendees.&lt;/p&gt;\n&lt;p&gt;Due to limited budget\, we can
  only accommodate up to 8 LMs.&amp;nbsp\; Registration will close when the max
 imum pax is reached.&lt;/p&gt;
END:VEVENT
END:VCALENDAR

