BEGIN:VCALENDAR
VERSION:2.0
PRODID:IEEE vTools.Events//EN
CALSCALE:GREGORIAN
BEGIN:VTIMEZONE
TZID:Europe/Berlin
BEGIN:DAYLIGHT
DTSTART:20230326T030000
TZOFFSETFROM:+0100
TZOFFSETTO:+0200
RRULE:FREQ=YEARLY;BYDAY=-1SU;BYMONTH=3
TZNAME:CEST
END:DAYLIGHT
BEGIN:STANDARD
DTSTART:20221030T020000
TZOFFSETFROM:+0200
TZOFFSETTO:+0100
RRULE:FREQ=YEARLY;BYDAY=-1SU;BYMONTH=10
TZNAME:CET
END:STANDARD
END:VTIMEZONE
BEGIN:VEVENT
DTSTAMP:20221130T104444Z
UID:59F82319-EBA2-4995-908D-2EC8C53D3ACF
DTSTART;TZID=Europe/Berlin:20221130T100000
DTEND;TZID=Europe/Berlin:20221130T110000
DESCRIPTION:Presentation Prof. Werner Wiesbeck\n\nSpeaker(s): Prof. Werner 
 Wiesbeck \, \n\nVirtual: https://events.vtools.ieee.org/m/334846
LOCATION:Virtual: https://events.vtools.ieee.org/m/334846
ORGANIZER:Hagen.hultzsch@outlook.de
SEQUENCE:2
SUMMARY:Software defined RADAR
URL;VALUE=URI:https://events.vtools.ieee.org/m/334846
X-ALT-DESC:Description: &lt;br /&gt;&lt;p&gt;&amp;nbsp\;Presentation Prof. Werner Wiesbeck&amp;
 nbsp\;&lt;/p&gt;
END:VEVENT
END:VCALENDAR

