BEGIN:VCALENDAR
VERSION:2.0
PRODID:IEEE vTools.Events//EN
CALSCALE:GREGORIAN
BEGIN:VTIMEZONE
TZID:US/Eastern
BEGIN:DAYLIGHT
DTSTART:20230312T030000
TZOFFSETFROM:-0500
TZOFFSETTO:-0400
RRULE:FREQ=YEARLY;BYDAY=2SU;BYMONTH=3
TZNAME:EDT
END:DAYLIGHT
BEGIN:STANDARD
DTSTART:20221106T010000
TZOFFSETFROM:-0400
TZOFFSETTO:-0500
RRULE:FREQ=YEARLY;BYDAY=1SU;BYMONTH=11
TZNAME:EST
END:STANDARD
END:VTIMEZONE
BEGIN:VEVENT
DTSTAMP:20221216T121834Z
UID:94EE1E56-CFB5-45A7-8FF2-E062132E8404
DTSTART;TZID=US/Eastern:20221212T173000
DTEND;TZID=US/Eastern:20221212T193000
DESCRIPTION:Please join the Columbus Section Executive Committee and meet y
 our fellow section members and guests. Meeting discussion includes adminis
 trative business\, Technical/Affinity Society current and future events st
 atus. Society and Affinity chairs\, if you are unable to attend the meetin
 g\, please send your section activities updates to Helen Winfrey hwinfrey@
 ieee.org\n\nStudent chapters are welcome to attend and network with the se
 ction members and officers.\n\nPlease review the attached minutes and prov
 ide comments to Howard Jones hrjones63@yahoo.com prior to the meeting.\n\n
 Thank you for all who attended the section&#39;s 100th Anniversary Milestone c
 elebration.\n\n&quot;Save the Date&quot; 2023 E-Week celebration will be on Feb 23\,
  2023.\n\nCo-sponsored by: hrjones63@yahoo.com \n\nAgenda: \nAgenda: Hybri
 d ExCom Meeting\n\n5:30 Welcome/Call Meeting to Order\n\n6:00 Secretary’
 s Report: Approval of ExCom Minute\n\nChair’s Report\n\nVice Chair’s R
 eport\n\nTreasurer Report\n\n6:30 Professional\, Society\, Affinity\, and 
 Student Branch Reports\n\n6:45 Old and New Business Discussions\n\n7:30 Ad
 journ\n\nRoom: Meeting Room 3\, 4445 E Broad St\, Columbus\, Ohio\, United
  States\, 43213\, Virtual: https://events.vtools.ieee.org/m/335056
LOCATION:Room: Meeting Room 3\, 4445 E Broad St\, Columbus\, Ohio\, United 
 States\, 43213\, Virtual: https://events.vtools.ieee.org/m/335056
ORGANIZER:hwinfrey@earthlink.net
SEQUENCE:2
SUMMARY:IEEE-Columbus ExCom Meeting -WebEx Meeting
URL;VALUE=URI:https://events.vtools.ieee.org/m/335056
X-ALT-DESC:Description: &lt;br /&gt;&lt;p&gt;&lt;span style=&quot;font-size: 14pt\;&quot;&gt;Please joi
 n the Columbus Section Executive Committee and meet your fellow section me
 mbers and guests.&amp;nbsp\; Meeting discussion includes administrative busine
 ss\, Technical/Affinity Society current and future events status.&amp;nbsp\; S
 ociety and Affinity chairs\, if you are unable to attend the meeting\, ple
 ase send your section activities updates to Helen Winfrey &lt;a href=&quot;mailto:
 hwinfrey@ieee.org&quot;&gt;hwinfrey@ieee.org&lt;/a&gt;&lt;/span&gt;&lt;/p&gt;\n&lt;p&gt;&lt;strong&gt;&lt;span styl
 e=&quot;font-size: 14pt\;&quot;&gt;Student chapters are welcome to attend and network w
 ith the section members and officers.&lt;/span&gt;&lt;/strong&gt;&lt;/p&gt;\n&lt;p&gt;&lt;span style=
 &quot;font-size: 14pt\;&quot;&gt;&lt;strong&gt;Please review the attached minutes and provide
  comments to Howard Jones &lt;a href=&quot;mailto:hrjones63@yahoo.com&quot;&gt;hrjones63@y
 ahoo.com&lt;/a&gt; prior to the meeting.&lt;/strong&gt;&lt;/span&gt;&lt;/p&gt;\n&lt;p&gt;&lt;span style=&quot;fo
 nt-size: 18pt\; color: #e03e2d\;&quot;&gt;Thank you for all who attended the secti
 on&#39;s 100th Anniversary Milestone celebration.&amp;nbsp\;&lt;/span&gt;&lt;/p&gt;\n&lt;p&gt;&lt;span 
 style=&quot;font-size: 18pt\; color: #e03e2d\;&quot;&gt;&quot;Save the Date&quot; 2023 E-Week cel
 ebration will be on Feb 23\, 2023.&lt;/span&gt;&lt;/p&gt;\n&lt;p&gt;&amp;nbsp\;&lt;/p&gt;&lt;br /&gt;&lt;br /&gt;A
 genda: &lt;br /&gt;&lt;p&gt;Agenda: Hybrid ExCom Meeting&lt;/p&gt;\n&lt;p&gt;5:30&amp;nbsp\; &amp;nbsp\; &amp;
 nbsp\; &amp;nbsp\;Welcome/Call Meeting to Order&lt;/p&gt;\n&lt;p&gt;6:00&amp;nbsp\; &amp;nbsp\; &amp;n
 bsp\; Secretary&amp;rsquo\;s Report: Approval of ExCom Minute&lt;/p&gt;\n&lt;p&gt;Chair&amp;rs
 quo\;s Report&lt;/p&gt;\n&lt;p&gt;Vice Chair&amp;rsquo\;s Report&lt;/p&gt;\n&lt;p&gt;Treasurer Report&lt;
 /p&gt;\n&lt;p&gt;6:30&amp;nbsp\; &amp;nbsp\; &amp;nbsp\;Professional\, Society\, Affinity\, and
  Student Branch Reports&lt;/p&gt;\n&lt;p&gt;6:45&amp;nbsp\; &amp;nbsp\; &amp;nbsp\; &amp;nbsp\; Old an
 d New Business Discussions&lt;/p&gt;\n&lt;p&gt;7:30&amp;nbsp\; &amp;nbsp\; &amp;nbsp\; &amp;nbsp\; Adj
 ourn&amp;nbsp\;&amp;nbsp\;&amp;nbsp\;&amp;nbsp\;&amp;nbsp\;&amp;nbsp\;&amp;nbsp\;&amp;nbsp\;&amp;nbsp\;&amp;nbsp\;
 &amp;nbsp\;&amp;nbsp\;&amp;nbsp\;&amp;nbsp\;&lt;/p&gt;\n&lt;p&gt;&amp;nbsp\;&lt;/p&gt;
END:VEVENT
END:VCALENDAR

