BEGIN:VCALENDAR
VERSION:2.0
PRODID:IEEE vTools.Events//EN
CALSCALE:GREGORIAN
BEGIN:VTIMEZONE
TZID:America/Guatemala
BEGIN:STANDARD
DTSTART:20060930T230000
TZOFFSETFROM:-0500
TZOFFSETTO:-0600
TZNAME:CST
END:STANDARD
END:VTIMEZONE
BEGIN:VEVENT
DTSTAMP:20221219T130117Z
UID:D511AA8B-0C37-4557-8CFA-37027A6E6E4D
DTSTART;TZID=America/Guatemala:20221212T090000
DTEND;TZID=America/Guatemala:20221212T110000
DESCRIPTION:Reconociendo mis habilidades blandas para destacar laboralmente
 \, impartido por Lic. Paola Batle.\n\nCo-sponsored by: Realizado en conjun
 to con ACUS Y ASEB UDB\n\nVirtual: https://events.vtools.ieee.org/m/335311
LOCATION:Virtual: https://events.vtools.ieee.org/m/335311
ORGANIZER:ieee-udb@udb.edu.sv
SEQUENCE:4
SUMMARY:Taller 1 - Aprende+
URL;VALUE=URI:https://events.vtools.ieee.org/m/335311
X-ALT-DESC:Description: &lt;br /&gt;&lt;p&gt;Reconociendo mis habilidades blandas para 
 destacar laboralmente\, impartido por Lic. Paola Batle.&lt;/p&gt;
END:VEVENT
END:VCALENDAR

