BEGIN:VCALENDAR
VERSION:2.0
PRODID:IEEE vTools.Events//EN
CALSCALE:GREGORIAN
BEGIN:VTIMEZONE
TZID:America/New_York
BEGIN:DAYLIGHT
DTSTART:20230312T030000
TZOFFSETFROM:-0500
TZOFFSETTO:-0400
RRULE:FREQ=YEARLY;BYDAY=2SU;BYMONTH=3
TZNAME:EDT
END:DAYLIGHT
BEGIN:STANDARD
DTSTART:20221106T010000
TZOFFSETFROM:-0400
TZOFFSETTO:-0500
RRULE:FREQ=YEARLY;BYDAY=1SU;BYMONTH=11
TZNAME:EST
END:STANDARD
END:VTIMEZONE
BEGIN:VEVENT
DTSTAMP:20221216T140122Z
UID:E8541980-32CD-4770-8490-E8E1EF65EBCB
DTSTART;TZID=America/New_York:20221213T110000
DTEND;TZID=America/New_York:20221213T123000
DESCRIPTION:[]\n\nPlease note that this lecture has unfortunately had to be
  cancelled. Lecture notes from the talk will be shared with registrants. W
 e sincerely apologize for the inconvenience.\n\nThe IEEE Toronto Electroni
 cs Packaging Society is proud to present Distinguished Lecturer Dr. John L
 au of Unimicron Technology Corporation and his talk on &quot;Chiplet Design and
  Heterogeneous Integration Packaging&quot;.\n\nAbstract\n\nChiplet is a chip de
 sign method and heterogeneous integration is a chip packaging method. Hete
 rogeneous integration uses packaging technology to integrate dissimilar ch
 ips\, photonic devices\, and/or components (either side-by-side\, stacked\
 , or both) with different sizes and functions\, and from different fabless
  design houses\, foundries\, wafer sizes\, feature sizes and companies int
 o a system or subsystem on a common package substrate. For the next few ye
 ars\, we will see more implementations of a higher level of chiplet design
 s and heterogeneous integration packaging\, whether it is for time-to-mark
 et\, performance\, form factor\, power consumption or cost. In this lectur
 e\, the introduction\, recent advances\, and trends in chiplet design and 
 heterogeneous integrationpackaging will be presented.\n\nPlease join us Tu
 esday\, December 13th at 11 AM in BA1240. The event will also be streamed 
 live on Zoom for those who cannot attend in person.\n\nFood and refreshmen
 ts will be served.\n\nSpeaker(s): Dr. John H Lau\, \n\nBldg: Bahen Centre 
 for Information Technology\, 40 St George St\, Room BA1240\, Toronto\, Ont
 ario\, Canada\, M5S 2E4\, Virtual: https://events.vtools.ieee.org/m/335514
LOCATION:Bldg: Bahen Centre for Information Technology\, 40 St George St\, 
 Room BA1240\, Toronto\, Ontario\, Canada\, M5S 2E4\, Virtual: https://even
 ts.vtools.ieee.org/m/335514
ORGANIZER:mengqiw@ieee.org
SEQUENCE:13
SUMMARY:IEEE EPS Distinguished Lecture: Chiplet Design and Heterogeneous In
 tegration Packaging
URL;VALUE=URI:https://events.vtools.ieee.org/m/335514
X-ALT-DESC:Description: &lt;br /&gt;&lt;p class=&quot;xmsonormal&quot; align=&quot;center&quot;&gt;&lt;a name=
 &quot;x__Hlk90328867&quot;&gt;&lt;/a&gt;&lt;/p&gt;\n&lt;p class=&quot;xmsonormal&quot;&gt;&lt;strong&gt;&lt;span style=&quot;font
 -size: 18pt\;&quot;&gt;Please note that this lecture has unfortunately had to be c
 ancelled. Lecture notes from the talk will be shared with registrants. We 
 sincerely apologize for the inconvenience.&lt;/span&gt;&lt;/strong&gt;&lt;/p&gt;\n&lt;p class=&quot;
 xmsonormal&quot;&gt;&lt;br /&gt;The IEEE Toronto Electronics Packaging Society is proud 
 to present Distinguished Lecturer Dr. John Lau of Unimicron Technology Cor
 poration and his talk on &quot;Chiplet Design and Heterogeneous Integration Pac
 kaging&quot;.&lt;/p&gt;\n&lt;p class=&quot;xmsonormal&quot;&gt;&lt;span style=&quot;text-decoration: underlin
 e\; font-size: 12pt\;&quot;&gt;Abstract&lt;/span&gt;&lt;/p&gt;\n&lt;p class=&quot;xmsonormal&quot;&gt;Chiplet 
 is a chip design method and heterogeneous integration is a chip packaging 
 method. Heterogeneous integration uses packaging technology to integrate d
 issimilar chips\, photonic devices\, and/or components (either side-by-sid
 e\, stacked\, or both) with different sizes and functions\, and from diffe
 rent fabless design houses\, foundries\, wafer sizes\, feature sizes and c
 ompanies into a system or subsystem on a common package substrate. For the
  next few years\, we will see more implementations of a higher level of ch
 iplet designs and heterogeneous integration packaging\, whether it is for 
 time-to-market\, performance\, form factor\, power consumption or cost. In
  this lecture\, the introduction\, recent advances\, and trends in chiplet
  design and heterogeneous integrationpackaging will be presented.&lt;/p&gt;\n&lt;p 
 class=&quot;xmsonormal&quot;&gt;&lt;strong&gt;Please join us Tuesday\, December 13th at 11 AM
  in BA1240. The event will also be streamed live on Zoom for those who can
 not attend in person.&lt;/strong&gt;&lt;/p&gt;\n&lt;p class=&quot;xmsonormal&quot;&gt;&lt;strong&gt;Food and
  refreshments will be served.&lt;/strong&gt;&lt;/p&gt;
END:VEVENT
END:VCALENDAR

