BEGIN:VCALENDAR
VERSION:2.0
PRODID:IEEE vTools.Events//EN
CALSCALE:GREGORIAN
BEGIN:VTIMEZONE
TZID:America/New_York
BEGIN:DAYLIGHT
DTSTART:20230312T030000
TZOFFSETFROM:-0500
TZOFFSETTO:-0400
RRULE:FREQ=YEARLY;BYDAY=2SU;BYMONTH=3
TZNAME:EDT
END:DAYLIGHT
BEGIN:STANDARD
DTSTART:20221106T010000
TZOFFSETFROM:-0400
TZOFFSETTO:-0500
RRULE:FREQ=YEARLY;BYDAY=1SU;BYMONTH=11
TZNAME:EST
END:STANDARD
END:VTIMEZONE
BEGIN:VEVENT
DTSTAMP:20230110T141501Z
UID:8F24581F-0177-40C4-A93D-1D4B9FCBFC6B
DTSTART;TZID=America/New_York:20221221T190000
DTEND;TZID=America/New_York:20221221T203000
DESCRIPTION:Virtual ExCom for December\n\nAgenda: \nNH Section ExCom Meetin
 g Agenda\n7PM Wed. Dec 21st\nVirtual Meeting\n\n1. Attendance\nQuorum chec
 k -- David Casper\n2. approval of agenda including consent agenda [Note\, 
 Approval for minutes May\, August\, Sept is needed]\nConsent to approval o
 f outstanding minutes (in the appropriate month&#39;s ExCom directory area)\nh
 ttps://drive.google.com/drive/folders/1sjLlQgHW90kJVcMzGF3exp7g0upQ-DSv?us
 p=sharing\n\nConsent to approval of outstanding treasurer reports\nhttps:/
 /docs.google.com/spreadsheets/d/1AwJV9IfbN1e_q6XJ91gQywHaP416bnXH/edit?usp
 =sharing&amp;ouid=114974291909984370342&amp;rtpof=true&amp;sd=true\n\n3. Chairs Commen
 ts\n\n4. Action Item Report\n\n5. Chapter/Affiliate Group Activity &amp; coord
 ination\n\nChapter/Affinity Group Activity topics --- 2023 BUDGET Review &amp;
  Approval\nSEE Treasurer Reports link for 2023 budget: https://drive.googl
 e.com/drive/folders/1NmFazMRfvLOXWz37zX_el7ZwjvBvW-sY?usp=share_link\n\nCo
 mmunications and Signal Processing Chair: Open\nComputer Society Chair: We
 i Lu\nVice Chair: Sridhar Raghavan\nTreasurer: Baris Kazar\nEngineering in
  Medicine and Biology Society Chair: Laura Wierschke\nSecretary: J Michael
  OConnor\nMicrowave T&amp;T/Antennas and Propagation Chair: Elizabeth H. Schen
 k\nVice Chair: Ian Armstrong\nPower and Energy Society Chair: Tom Mongeon\
 nReliability Society Chair: Michael W. Bannan\nRobotics and Automation Soc
 iety Chair: Sridhar Raghavan\n\nAffiliate Groups\nConsultants Network Chai
 r: Open\nLife Members Chair: Alan Schecter\nSecretary: J Michael OConnor\n
 Women In Engineering/Young Professionals Chair: Barbara Bancroft\n\nEducat
 ion Chair/Community Brian Betts\nStudent Activities May Wan\n\nKey Action:
  finalize and approve budget for 2023\n\n6. Standing Committee Activities:
 \n\n7 Old Business\n--- Restoring Consultant&#39;s Network\n--- Creating SSIT 
 Chapter\n\n8 New Business\n`` Identify Chapter Goals for 2023\n\n9 Next Me
 eting -- Wed. HB 18TH (Virtual)\n\n10. For the good of the order --\nWhat 
 should section do for 2023?\n11 Adjourn to forum\n12 Forum topics (upcomin
 g events\, etc)\n\nVirtual: https://events.vtools.ieee.org/m/335635
LOCATION:Virtual: https://events.vtools.ieee.org/m/335635
ORGANIZER:Jim &lt;excom@jimisaak.com&gt;
SEQUENCE:4
SUMMARY:NH ExCom Meeting
URL;VALUE=URI:https://events.vtools.ieee.org/m/335635
X-ALT-DESC:Description: &lt;br /&gt;&lt;p&gt;Virtual ExCom for December&lt;/p&gt;&lt;br /&gt;&lt;br /&gt;
 Agenda: &lt;br /&gt;&lt;p&gt;NH Section ExCom Meeting Agenda&lt;br /&gt;7PM Wed. Dec 21st&amp;nb
 sp\;&lt;br /&gt;Virtual Meeting&lt;/p&gt;\n&lt;p&gt;&amp;nbsp\;&lt;/p&gt;\n&lt;p&gt;1. Attendance&amp;nbsp\;&lt;br 
 /&gt;&amp;nbsp\; &amp;nbsp\;Quorum check -- David Casper&lt;br /&gt;2. approval of agenda i
 ncluding consent agenda [Note\, Approval for minutes May\, August\, Sept i
 s needed]&lt;br /&gt;&amp;nbsp\; &amp;nbsp\; Consent to approval of outstanding minutes 
 (in the appropriate month&#39;s ExCom directory area)&lt;br /&gt;&amp;nbsp\; &amp;nbsp\; htt
 ps://drive.google.com/drive/folders/1sjLlQgHW90kJVcMzGF3exp7g0upQ-DSv?usp=
 sharing&lt;br /&gt;&amp;nbsp\;&amp;nbsp\;&lt;br /&gt;Consent to approval of outstanding treasu
 rer reports&amp;nbsp\;&lt;br /&gt;&amp;nbsp\; &amp;nbsp\; https://docs.google.com/spreadshee
 ts/d/1AwJV9IfbN1e_q6XJ91gQywHaP416bnXH/edit?usp=sharing&amp;amp\;ouid=11497429
 1909984370342&amp;amp\;rtpof=true&amp;amp\;sd=true&lt;br /&gt;&amp;nbsp\; &amp;nbsp\;&amp;nbsp\;&lt;br 
 /&gt;3. Chairs Comments&lt;br /&gt;&amp;nbsp\;&amp;nbsp\;&lt;br /&gt;4. Action Item Report&lt;/p&gt;\n&lt;
 p&gt;5. Chapter/Affiliate Group Activity &amp;amp\; coordination&lt;/p&gt;\n&lt;p&gt;Chapter/
 Affinity Group Activity topics --- 2023 BUDGET Review &amp;amp\; Approval&lt;br /
 &gt;SEE Treasurer Reports link for 2023 budget: https://drive.google.com/driv
 e/folders/1NmFazMRfvLOXWz37zX_el7ZwjvBvW-sY?usp=share_link&lt;/p&gt;\n&lt;p&gt;&amp;nbsp\;
  &amp;nbsp\;Communications and Signal Processing &amp;nbsp\; &amp;nbsp\; Chair: Open&lt;b
 r /&gt;&amp;nbsp\; &amp;nbsp\;Computer Society &amp;nbsp\; &amp;nbsp\; &amp;nbsp\; &amp;nbsp\; &amp;nbsp\
 ; &amp;nbsp\; &amp;nbsp\; &amp;nbsp\; Chair: Wei Lu&lt;br /&gt;&amp;nbsp\; &amp;nbsp\; &amp;nbsp\; &amp;nbsp
 \; &amp;nbsp\; &amp;nbsp\; &amp;nbsp\; &amp;nbsp\; &amp;nbsp\; &amp;nbsp\; &amp;nbsp\; &amp;nbsp\; &amp;nbsp\;
  &amp;nbsp\;Vice Chair: Sridhar Raghavan&lt;br /&gt;&amp;nbsp\; &amp;nbsp\; &amp;nbsp\; &amp;nbsp\; 
 &amp;nbsp\; &amp;nbsp\; &amp;nbsp\; &amp;nbsp\; &amp;nbsp\; &amp;nbsp\; &amp;nbsp\; &amp;nbsp\; &amp;nbsp\; &amp;n
 bsp\;Treasurer: Baris Kazar&lt;br /&gt;&amp;nbsp\; &amp;nbsp\;Engineering in Medicine an
 d Biology Society &amp;nbsp\; &amp;nbsp\;Chair: Laura Wierschke&lt;br /&gt;&amp;nbsp\; &amp;nbsp
 \; &amp;nbsp\; &amp;nbsp\; &amp;nbsp\; &amp;nbsp\; &amp;nbsp\; &amp;nbsp\; &amp;nbsp\; &amp;nbsp\; &amp;nbsp\;
  &amp;nbsp\; &amp;nbsp\; &amp;nbsp\;Secretary: J Michael OConnor&lt;br /&gt;&amp;nbsp\; &amp;nbsp\;M
 icrowave T&amp;amp\;T/Antennas and Propagation &amp;nbsp\; &amp;nbsp\; Chair: Elizabet
 h H. Schenk&lt;br /&gt;&amp;nbsp\; &amp;nbsp\;Vice Chair: Ian Armstrong&lt;br /&gt;&amp;nbsp\; &amp;nb
 sp\;Power and Energy Society &amp;nbsp\; &amp;nbsp\; &amp;nbsp\; &amp;nbsp\; &amp;nbsp\; &amp;nbsp
 \; Chair: Tom Mongeon&lt;br /&gt;&amp;nbsp\; &amp;nbsp\;Reliability Society &amp;nbsp\; &amp;nbs
 p\; &amp;nbsp\; &amp;nbsp\; &amp;nbsp\; &amp;nbsp\; &amp;nbsp\; &amp;nbsp\;Chair: Michael W. Banna
 n&lt;br /&gt;&amp;nbsp\; &amp;nbsp\;Robotics and Automation Society &amp;nbsp\; &amp;nbsp\; &amp;nbs
 p\; &amp;nbsp\; Chair: Sridhar Raghavan&lt;br /&gt;&amp;nbsp\; &amp;nbsp\; &amp;nbsp\; &amp;nbsp\;&lt;b
 r /&gt;Affiliate Groups&lt;br /&gt;&amp;nbsp\; &amp;nbsp\;Consultants Network &amp;nbsp\; &amp;nbsp
 \; &amp;nbsp\; &amp;nbsp\; &amp;nbsp\; &amp;nbsp\; &amp;nbsp\; &amp;nbsp\; Chair: Open&lt;br /&gt;&amp;nbsp\
 ; &amp;nbsp\;Life Members &amp;nbsp\; &amp;nbsp\; &amp;nbsp\; &amp;nbsp\; &amp;nbsp\; &amp;nbsp\; &amp;nbs
 p\; &amp;nbsp\; Chair: Alan Schecter&lt;br /&gt;&amp;nbsp\; &amp;nbsp\; &amp;nbsp\; &amp;nbsp\; &amp;nbs
 p\; &amp;nbsp\; &amp;nbsp\; &amp;nbsp\; &amp;nbsp\; &amp;nbsp\; &amp;nbsp\; &amp;nbsp\; &amp;nbsp\; &amp;nbsp\
 ;Secretary: J Michael OConnor&lt;br /&gt;&amp;nbsp\; &amp;nbsp\;Women In Engineering/You
 ng Professionals &amp;nbsp\; &amp;nbsp\; Chair: Barbara Bancroft&lt;br /&gt;&amp;nbsp\; &amp;nbs
 p\;&lt;br /&gt;&amp;nbsp\; &amp;nbsp\;Education Chair/Community &amp;nbsp\; &amp;nbsp\; &amp;nbsp\; 
 &amp;nbsp\; &amp;nbsp\; &amp;nbsp\;Brian Betts&lt;br /&gt;&amp;nbsp\; &amp;nbsp\;Student Activities 
 &amp;nbsp\; &amp;nbsp\; &amp;nbsp\; &amp;nbsp\; &amp;nbsp\; &amp;nbsp\; &amp;nbsp\; &amp;nbsp\;May Wan&lt;br 
 /&gt;&amp;nbsp\; &amp;nbsp\;&lt;br /&gt;&amp;nbsp\; &amp;nbsp\;Key Action: finalize and approve bud
 get for 2023&lt;br /&gt;&amp;nbsp\; &amp;nbsp\;&lt;br /&gt;6. Standing Committee Activities:&amp;n
 bsp\;&lt;br /&gt;&amp;nbsp\; &amp;nbsp\; &amp;nbsp\; &amp;nbsp\;&amp;nbsp\;&lt;br /&gt;7 Old Business&lt;br /
 &gt;&amp;nbsp\; --- Restoring Consultant&#39;s Network&lt;br /&gt;&amp;nbsp\; --- Creating SSIT
  Chapter&lt;br /&gt;&amp;nbsp\; &amp;nbsp\; &amp;nbsp\;&lt;br /&gt;8 New Business&lt;br /&gt;&amp;nbsp\; `` 
 &amp;nbsp\; &amp;nbsp\;Identify Chapter Goals for 2023&lt;br /&gt;&amp;nbsp\; &amp;nbsp\;&amp;nbsp\;
 &lt;br /&gt;9 Next Meeting &amp;nbsp\;-- &amp;nbsp\;Wed. HB 18TH (Virtual)&lt;br /&gt;&amp;nbsp\; 
 &amp;nbsp\;&amp;nbsp\;&lt;br /&gt;10. For the good of the order --&lt;br /&gt;&amp;nbsp\; &amp;nbsp\; 
 What should section do for 2023?&lt;br /&gt;11 Adjourn to forum&lt;br /&gt;12 Forum to
 pics (upcoming events\, etc)&lt;/p&gt;
END:VEVENT
END:VCALENDAR

