BEGIN:VCALENDAR
VERSION:2.0
PRODID:IEEE vTools.Events//EN
CALSCALE:GREGORIAN
BEGIN:VTIMEZONE
TZID:America/New_York
BEGIN:DAYLIGHT
DTSTART:20230312T030000
TZOFFSETFROM:-0500
TZOFFSETTO:-0400
RRULE:FREQ=YEARLY;BYDAY=2SU;BYMONTH=3
TZNAME:EDT
END:DAYLIGHT
BEGIN:STANDARD
DTSTART:20221106T010000
TZOFFSETFROM:-0400
TZOFFSETTO:-0500
RRULE:FREQ=YEARLY;BYDAY=1SU;BYMONTH=11
TZNAME:EST
END:STANDARD
END:VTIMEZONE
BEGIN:VEVENT
DTSTAMP:20221220T200131Z
UID:7BD44278-B361-4DAF-8498-04A78608BDA5
DTSTART;TZID=America/New_York:20221213T180400
DTEND;TZID=America/New_York:20221213T190000
DESCRIPTION:Quarlerly Meeting for NYC IEEE YP\n\nSpeaker(s): Cathy Chen\, \
 n\nVirtual: https://events.vtools.ieee.org/m/335642
LOCATION:Virtual: https://events.vtools.ieee.org/m/335642
ORGANIZER:cache@ee.columbia.edu
SEQUENCE:2
SUMMARY:IEEE YP Meeting
URL;VALUE=URI:https://events.vtools.ieee.org/m/335642
X-ALT-DESC:Description: &lt;br /&gt;&lt;p&gt;Quarlerly Meeting for NYC IEEE YP&lt;/p&gt;
END:VEVENT
END:VCALENDAR

