BEGIN:VCALENDAR
VERSION:2.0
PRODID:IEEE vTools.Events//EN
CALSCALE:GREGORIAN
BEGIN:VTIMEZONE
TZID:Africa/Algiers
BEGIN:STANDARD
DTSTART:19810501T010000
TZOFFSETFROM:+0000
TZOFFSETTO:+0100
TZNAME:CET
END:STANDARD
END:VTIMEZONE
BEGIN:VEVENT
DTSTAMP:20221203T142513Z
UID:7458C98C-1411-4E3F-A8DF-71A917B09CDC
DTSTART;TZID=Africa/Algiers:20221105T163000
DTEND;TZID=Africa/Algiers:20221105T180000
DESCRIPTION:Artificial intelligence has proved to be a path-breaking experi
 ence in every field \, especially in health care and medical services \,th
 erefore we organized our &quot;AI training session&quot; to have more information ab
 out AI\n\nTunis\, Ariana\, Tunisia
LOCATION:Tunis\, Ariana\, Tunisia
ORGANIZER:mohamedfoued.ayedi@ieee.org
SEQUENCE:0
SUMMARY:Workshop Hands-on AI in health care
URL;VALUE=URI:https://events.vtools.ieee.org/m/335717
X-ALT-DESC:Description: &lt;br /&gt;&lt;p&gt;Artificial intelligence has proved to be a
  path-breaking experience in every field \, especially in health care and 
 medical services \,therefore we organized our &quot;AI training session&quot; to hav
 e more information about AI&amp;nbsp\;&lt;/p&gt;
END:VEVENT
END:VCALENDAR

