BEGIN:VCALENDAR
VERSION:2.0
PRODID:IEEE vTools.Events//EN
CALSCALE:GREGORIAN
BEGIN:VTIMEZONE
TZID:America/Los_Angeles
BEGIN:DAYLIGHT
DTSTART:20230312T030000
TZOFFSETFROM:-0800
TZOFFSETTO:-0700
RRULE:FREQ=YEARLY;BYDAY=2SU;BYMONTH=3
TZNAME:PDT
END:DAYLIGHT
BEGIN:STANDARD
DTSTART:20221106T010000
TZOFFSETFROM:-0700
TZOFFSETTO:-0800
RRULE:FREQ=YEARLY;BYDAY=1SU;BYMONTH=11
TZNAME:PST
END:STANDARD
END:VTIMEZONE
BEGIN:VEVENT
DTSTAMP:20221212T054715Z
UID:5E3D1FED-9C9D-48F8-B485-3D078AFAA3E2
DTSTART;TZID=America/Los_Angeles:20221220T180000
DTEND;TZID=America/Los_Angeles:20221220T190000
DESCRIPTION:This talk will cover some recent sustainability efforts at IEEE
 . The first part of the talk will cover what is being done at the IEEE Ope
 rations Center in Piscataway\, NJ. Some infrastructure investments will be
  described. The second part of the talk will cover sustainability aspects 
 of IEEE Conferences across the world. Travel contributes the most to the c
 arbon footprint of a conference\, but other aspects of sustainability are 
 considered. A list of IEEE conferences on sustainability will be discussed
 .\n\nSpeaker(s): Charlie Jackson\, \n\nVirtual: https://events.vtools.ieee
 .org/m/336719
LOCATION:Virtual: https://events.vtools.ieee.org/m/336719
ORGANIZER:c.jackson@ieee.org
SEQUENCE:1
SUMMARY:Sustainability Topics Going on at IEEE
URL;VALUE=URI:https://events.vtools.ieee.org/m/336719
X-ALT-DESC:Description: &lt;br /&gt;&lt;p&gt;This talk will cover some recent sustainab
 ility efforts at IEEE.&amp;nbsp\; The first part of the talk will cover what i
 s being done at the IEEE Operations Center in Piscataway\, NJ.&amp;nbsp\; Some
  infrastructure investments will be described.&amp;nbsp\; The second part of t
 he talk will cover sustainability aspects of IEEE Conferences across the w
 orld.&amp;nbsp\; Travel contributes the most to the carbon footprint of a conf
 erence\, but other aspects of sustainability are considered.&amp;nbsp\; A list
  of IEEE conferences on sustainability will be discussed.&lt;/p&gt;
END:VEVENT
END:VCALENDAR

