BEGIN:VCALENDAR
VERSION:2.0
PRODID:IEEE vTools.Events//EN
CALSCALE:GREGORIAN
BEGIN:VTIMEZONE
TZID:America/New_York
BEGIN:DAYLIGHT
DTSTART:20230312T030000
TZOFFSETFROM:-0500
TZOFFSETTO:-0400
RRULE:FREQ=YEARLY;BYDAY=2SU;BYMONTH=3
TZNAME:EDT
END:DAYLIGHT
BEGIN:STANDARD
DTSTART:20221106T010000
TZOFFSETFROM:-0400
TZOFFSETTO:-0500
RRULE:FREQ=YEARLY;BYDAY=1SU;BYMONTH=11
TZNAME:EST
END:STANDARD
END:VTIMEZONE
BEGIN:VEVENT
DTSTAMP:20221209T222033Z
UID:543B819D-553E-4767-A197-BCB6C42A8E7F
DTSTART;TZID=America/New_York:20221209T150000
DTEND;TZID=America/New_York:20221209T160000
DESCRIPTION:This presentation is an overview of the research performed mini
 aturizing the telemetry tracking and control (TT&amp;C) antenna for the Grisso
 m-P bus. The objective of the research is to combine known miniaturization
  techniques to retain the key performance parameters of the dual patch\, S
 -band array without increasing overall thickness or altering the feed stru
 cture and network. Various approaches are examined and include shorting pi
 ns\, corner truncation\, and a virtually shorted patch antenna.\n\nCo-spon
 sored by: Wright-Patt Multi-Intelligence Development Consortium (WPMDC)\, 
 The DOD &amp; DOE Communities\n\nSpeaker(s): Thomas Butterick\, \n\nAgenda: \n
 This presentation is an overview of the research performed miniaturizing t
 he telemetry tracking and control (TT&amp;C) antenna for the Grissom-P bus. Th
 e objective of the research is to combine known miniaturization techniques
  to retain the key performance parameters of the dual patch\, S-band array
  without increasing overall thickness or altering the feed structure and n
 etwork. Various approaches are examined and include shorting pins\, corner
  truncation\, and a virtually shorted patch antenna.\n\nVirtual: https://e
 vents.vtools.ieee.org/m/336836
LOCATION:Virtual: https://events.vtools.ieee.org/m/336836
ORGANIZER:a.j.terzuoli@ieee.org
SEQUENCE:1
SUMMARY:Weekly &quot;Inverted Conference&quot; Seminar in Remote Sensing &amp; Communicat
 ion: Design of a Miniaturized CubeSat TT&amp;C Patch Antenna
URL;VALUE=URI:https://events.vtools.ieee.org/m/336836
X-ALT-DESC:Description: &lt;br /&gt;&lt;p&gt;This presentation is an overview of the re
 search performed miniaturizing the telemetry tracking and control (TT&amp;amp\
 ;C) antenna for the Grissom-P bus. The objective of the research is to com
 bine known miniaturization techniques to retain the key performance parame
 ters of the dual patch\, S-band array without increasing overall thickness
  or altering the feed structure and network. Various approaches are examin
 ed and include shorting pins\, corner truncation\, and a virtually shorted
  patch antenna.&lt;/p&gt;&lt;br /&gt;&lt;br /&gt;Agenda: &lt;br /&gt;&lt;p&gt;This presentation is an ov
 erview of the research performed miniaturizing the telemetry tracking and 
 control (TT&amp;amp\;C) antenna for the Grissom-P bus. The objective of the re
 search is to combine known miniaturization techniques to retain the key pe
 rformance parameters of the dual patch\, S-band array without increasing o
 verall thickness or altering the feed structure and network. Various appro
 aches are examined and include shorting pins\, corner truncation\, and a v
 irtually shorted patch antenna.&lt;/p&gt;
END:VEVENT
END:VCALENDAR

