BEGIN:VCALENDAR
VERSION:2.0
PRODID:IEEE vTools.Events//EN
CALSCALE:GREGORIAN
BEGIN:VTIMEZONE
TZID:America/Chicago
BEGIN:DAYLIGHT
DTSTART:20230312T030000
TZOFFSETFROM:-0600
TZOFFSETTO:-0500
RRULE:FREQ=YEARLY;BYDAY=2SU;BYMONTH=3
TZNAME:CDT
END:DAYLIGHT
BEGIN:STANDARD
DTSTART:20231105T010000
TZOFFSETFROM:-0500
TZOFFSETTO:-0600
RRULE:FREQ=YEARLY;BYDAY=1SU;BYMONTH=11
TZNAME:CST
END:STANDARD
END:VTIMEZONE
BEGIN:VEVENT
DTSTAMP:20231020T162415Z
UID:385303CE-1A26-489E-A96A-B883DC39020E
DTSTART;TZID=America/Chicago:20231014T080000
DTEND;TZID=America/Chicago:20231014T170000
DESCRIPTION:This is planned to be a virtual fall meetup for the industry en
 gagement committee of the Chicago Section and interested industry professi
 onals in the area. It also involves a part of the panel discussion of the 
 Chicago Section&#39;s anniversary event on October 14th.\n\nVirtual: https://e
 vents.vtools.ieee.org/m/338281
LOCATION:Virtual: https://events.vtools.ieee.org/m/338281
ORGANIZER:b.w.abegaz@ieee.org
SEQUENCE:7
SUMMARY:Industry Engagement Fall Meetup
URL;VALUE=URI:https://events.vtools.ieee.org/m/338281
X-ALT-DESC:Description: &lt;br /&gt;&lt;p&gt;This is planned to be a virtual fall meetu
 p for the industry engagement committee of the Chicago Section and interes
 ted industry professionals in the area. It also involves a part of the pan
 el discussion of the Chicago Section&#39;s anniversary event on October 14th.&lt;
 /p&gt;
END:VEVENT
END:VCALENDAR

