BEGIN:VCALENDAR
VERSION:2.0
PRODID:IEEE vTools.Events//EN
CALSCALE:GREGORIAN
BEGIN:VTIMEZONE
TZID:America/Los_Angeles
BEGIN:DAYLIGHT
DTSTART:20230312T030000
TZOFFSETFROM:-0800
TZOFFSETTO:-0700
RRULE:FREQ=YEARLY;BYDAY=2SU;BYMONTH=3
TZNAME:PDT
END:DAYLIGHT
BEGIN:STANDARD
DTSTART:20221106T010000
TZOFFSETFROM:-0700
TZOFFSETTO:-0800
RRULE:FREQ=YEARLY;BYDAY=1SU;BYMONTH=11
TZNAME:PST
END:STANDARD
END:VTIMEZONE
BEGIN:VEVENT
DTSTAMP:20230118T100435Z
UID:CD2D68B3-CC1A-409D-9ABC-E83F89C8F72E
DTSTART;TZID=America/Los_Angeles:20230117T070000
DTEND;TZID=America/Los_Angeles:20230117T080000
DESCRIPTION:Join us for an interactive session with native speakers from Ne
 w Delhi India on Smart Cities New Delhi. Talks will be on Smart Connectivi
 ty using IoT devices and other smart city innovations.\n\nSmart Campus con
 nectivity using IOT and Cloud Computing\nSmart campus connectivity using t
 he Internet of Things (IoT) in India involves the integration of various I
 oT devices and technologies to improve communication\, automation\, and mo
 nitoring within a campus setting. This can include the use of sensors\, sm
 art devices\, and networking technologies to improve energy efficiency\, s
 ecurity\, and the overall student experience. Some examples of how IoT can
  be used in a campus setting include smart lighting systems\, temperature 
 control systems\, learning management\, data handling and smart security s
 ystems. Additionally\, IoT can also be used to improve the effectiveness o
 f campus services such as transportation\, parking\, and library services.
  Cloud computing can help in connecting smart campus connectivity:\n\n1. D
 ata storage and processing:\n2. AI Generative tasks\n3. Analytics remote a
 ccess and control\n4. security and privacy\n5. Cost Effective\n\nCo-sponso
 red by: IEEE Power and Energy Society\n\nSpeaker(s): EV Charging Smart Cit
 ies\, Swapnil Gupta\n\nAgenda: \n7:00 am PST IEEE Announcements\n7:02 am P
 ST Introduction of the Speaker Binesh Kumar\n7:35 am PST Introduction of S
 peaker Swapnil Gupta\n7:55 am PST Q&amp;A\n\nVirtual: https://events.vtools.ie
 ee.org/m/338426
LOCATION:Virtual: https://events.vtools.ieee.org/m/338426
ORGANIZER:mike.brisbois@ieee.org
SEQUENCE:20
SUMMARY:IEEE Smart Cities New Delhi India
URL;VALUE=URI:https://events.vtools.ieee.org/m/338426
X-ALT-DESC:Description: &lt;br /&gt;&lt;p&gt;Join us for an interactive session with na
 tive speakers from New Delhi India on Smart Cities New Delhi. Talks will b
 e on Smart Connectivity using IoT devices and other smart city innovations
 .&lt;/p&gt;\n&lt;p&gt;Smart Campus connectivity using IOT and Cloud Computing&lt;br /&gt;Sma
 rt campus connectivity using the Internet of Things (IoT) in India involve
 s the integration of various IoT devices and technologies to improve commu
 nication\, automation\, and monitoring within a campus setting. This can i
 nclude the use of sensors\, smart devices\, and networking technologies to
  improve energy efficiency\, security\, and the overall student experience
 . Some examples of how IoT can be used in a campus setting include smart l
 ighting systems\, temperature control systems\, learning management\, data
  handling and smart security systems. Additionally\, IoT can also be used 
 to improve the effectiveness of campus services such as transportation\, p
 arking\, and library services. Cloud computing can help in connecting smar
 t campus connectivity:&lt;/p&gt;\n&lt;p&gt;1. Data storage and processing:&lt;br /&gt;2. AI 
 Generative tasks&lt;br /&gt;3. Analytics remote access and control&lt;br /&gt;4. secur
 ity and privacy&amp;nbsp\;&lt;br /&gt;5. Cost Effective&lt;/p&gt;&lt;br /&gt;&lt;br /&gt;Agenda: &lt;br /
 &gt;&lt;p&gt;7:00 am PST IEEE Announcements&lt;br /&gt;7:02 am PST Introduction of the Sp
 eaker Binesh Kumar&lt;br /&gt;7:35 am PST Introduction of Speaker Swapnil Gupta&lt;
 br /&gt;7:55 am PST Q&amp;amp\;A&lt;/p&gt;
END:VEVENT
END:VCALENDAR

