BEGIN:VCALENDAR
VERSION:2.0
PRODID:IEEE vTools.Events//EN
CALSCALE:GREGORIAN
BEGIN:VTIMEZONE
TZID:America/Los_Angeles
BEGIN:DAYLIGHT
DTSTART:20230312T030000
TZOFFSETFROM:-0800
TZOFFSETTO:-0700
RRULE:FREQ=YEARLY;BYDAY=2SU;BYMONTH=3
TZNAME:PDT
END:DAYLIGHT
BEGIN:STANDARD
DTSTART:20221106T010000
TZOFFSETFROM:-0700
TZOFFSETTO:-0800
RRULE:FREQ=YEARLY;BYDAY=1SU;BYMONTH=11
TZNAME:PST
END:STANDARD
END:VTIMEZONE
BEGIN:VEVENT
DTSTAMP:20230122T014403Z
UID:F3E196A1-0772-40F0-98E4-D811EB7629BA
DTSTART;TZID=America/Los_Angeles:20230121T110100
DTEND;TZID=America/Los_Angeles:20230121T150000
DESCRIPTION:This annual luncheon event celebrates IEEE San Diego Section\, 
 its activities and events\, and the contributions of its 2022 and 2023 lea
 ders in IEEE San Diego. The program begins with a reception\, followed by 
 buffet luncheon and awards. This networking event is a great opportunity t
 o meet local leaders and contributors to San Diego IEEE functions. All int
 erested are welcome to join us -- please register here (complimentary for 
 past chairs and 2022-23 officers\, at our cost for all others).\n\nIn 2022
 \, San Diego standouts included the IEEE Evening of Innovation and Honors 
 Ceremony\, and the IEEE WIE International Leadership Conference (WIE-ILC).
  In 2023\, standouts will include 2023 IEEE International Microwave Sympos
 ium (IMS) https://ims-ieee.org in June\, where WIE-ILC 2023 has colocated.
 \n\nAgenda\n\n11:00 Reception\n12:00 Buffet lunch\n1:00 Presentations\, Aw
 ards Program\, and Photos\n\nFor any further questions\, please contact zz
 hang@ieee.org\n\nBldg: Hahn University Center\, 5998 Alcala Park\, San Die
 go\, California\, United States\, 92110\, Virtual: https://events.vtools.i
 eee.org/m/339390
LOCATION:Bldg: Hahn University Center\, 5998 Alcala Park\, San Diego\, Cali
 fornia\, United States\, 92110\, Virtual: https://events.vtools.ieee.org/m
 /339390
ORGANIZER:zzhang@ieee.org
SEQUENCE:11
SUMMARY:San Diego Section 2023 Awards Banquet
URL;VALUE=URI:https://events.vtools.ieee.org/m/339390
X-ALT-DESC:Description: &lt;br /&gt;&lt;p&gt;This annual luncheon event celebrates IEEE
  San Diego Section\, its activities and events\, and the contributions of 
 its 2022 and 2023 leaders in IEEE San Diego. &amp;nbsp\;The program begins wit
 h a reception\, followed by buffet luncheon and awards. &amp;nbsp\;This networ
 king event is a great opportunity to meet local leaders and contributors t
 o San Diego IEEE functions. &amp;nbsp\;All interested are welcome to join us -
 - please register here (complimentary for past chairs and 2022-23 officers
 \, at our cost for all others).&amp;nbsp\;&lt;/p&gt;\n&lt;p&gt;In 2022\, San Diego standou
 ts included the IEEE Evening of Innovation and Honors Ceremony\, and the I
 EEE WIE International Leadership Conference (WIE-ILC). &amp;nbsp\;In 2023\, st
 andouts will include 2023 IEEE International Microwave Symposium (IMS) htt
 ps://ims-ieee.org in June\, where WIE-ILC 2023 has colocated.&amp;nbsp\;&lt;/p&gt;\n
 &lt;p&gt;Agenda&lt;/p&gt;\n&lt;p&gt;11:00 Reception&lt;br /&gt;12:00 &amp;nbsp\;Buffet lunch&lt;br /&gt;1:00
  &amp;nbsp\;Presentations\, Awards Program\, and Photos&lt;/p&gt;\n&lt;p&gt;&lt;br /&gt;For any 
 further questions\, please contact zzhang@ieee.org&lt;/p&gt;
END:VEVENT
END:VCALENDAR

