BEGIN:VCALENDAR
VERSION:2.0
PRODID:IEEE vTools.Events//EN
CALSCALE:GREGORIAN
BEGIN:VTIMEZONE
TZID:Asia/Jerusalem
BEGIN:DAYLIGHT
DTSTART:20230324T030000
TZOFFSETFROM:+0200
TZOFFSETTO:+0300
RRULE:FREQ=YEARLY;BYDAY=-1FR;BYMONTH=3
TZNAME:IDT
END:DAYLIGHT
BEGIN:STANDARD
DTSTART:20221030T010000
TZOFFSETFROM:+0300
TZOFFSETTO:+0200
RRULE:FREQ=YEARLY;BYDAY=-1SU;BYMONTH=10
TZNAME:IST
END:STANDARD
END:VTIMEZONE
BEGIN:VEVENT
DTSTAMP:20221230T103422Z
UID:6819AFC3-5061-475D-A780-8784AF336AB6
DTSTART;TZID=Asia/Jerusalem:20221228T150000
DTEND;TZID=Asia/Jerusalem:20221228T170000
DESCRIPTION:Dear Colleagues\,\n\nYou are cordially invited to attend a lect
 ure by the Antennas and Propagation Society Distinguished Lecturer Prof. M
 eisong Tong entitled “Dynamical Modeling for Electromagnetic Interaction
 s with Deformable Objects\,” please see the attached announcement.\n\nPl
 ease join us at this event of the Israel MTT/AP Chapter via Zoom link:\n\n
 https://tau-ac-il.zoom.us/j/86779169861?pwd=TDY5Smhtcys1Nkw0U0kyTEZlZTlEdz
 09\n\nMeeting ID: 867 7916 9861\; Passcode: 331601\n\nLook forward to welc
 oming you at the seminar.\n\nCo-sponsored by: IEEE Israel\, AEAI\n\nSpeake
 r(s): Prof. Meisong Tong\, \n\nAgenda: \nPlease join us at this event of t
 he Israel MTT/AP Chapter via Zoom link:\n\nhttps://tau-ac-il.zoom.us/j/867
 79169861?pwd=TDY5Smhtcys1Nkw0U0kyTEZlZTlEdz09\n\nMeeting ID: 867 7916 9861
 \; Passcode: 331601\n\nVirtual: https://events.vtools.ieee.org/m/339766
LOCATION:Virtual: https://events.vtools.ieee.org/m/339766
ORGANIZER:boag@tauex.tau.ac.il 
SEQUENCE:4
SUMMARY:IEEE AP-S DL Seminar by Prof. Tong: Dynamical Modeling for Electrom
 agnetic Interactions with Deformable Objects
URL;VALUE=URI:https://events.vtools.ieee.org/m/339766
X-ALT-DESC:Description: &lt;br /&gt;&lt;p style=&quot;font-weight: 400\;&quot;&gt;Dear Colleagues
 \,&lt;/p&gt;\n&lt;p style=&quot;font-weight: 400\;&quot;&gt;&amp;nbsp\;&lt;/p&gt;\n&lt;p style=&quot;font-weight: 
 400\;&quot;&gt;You are cordially invited to attend a lecture by the Antennas and P
 ropagation Society Distinguished Lecturer Prof. Meisong Tong entitled &amp;ldq
 uo\;Dynamical Modeling for Electromagnetic Interactions with Deformable Ob
 jects\,&amp;rdquo\; please see the attached announcement.&lt;/p&gt;\n&lt;p style=&quot;font-
 weight: 400\;&quot;&gt;&amp;nbsp\;&lt;/p&gt;\n&lt;p style=&quot;font-weight: 400\;&quot;&gt;Please join us a
 t this event of the Israel MTT/AP Chapter via Zoom link:&lt;/p&gt;\n&lt;p style=&quot;fo
 nt-weight: 400\;&quot;&gt;&lt;a href=&quot;https://tau-ac-il.zoom.us/j/86779169861?pwd=TDY
 5Smhtcys1Nkw0U0kyTEZlZTlEdz09&quot; data-saferedirecturl=&quot;https://www.google.co
 m/url?q=https://tau-ac-il.zoom.us/j/86779169861?pwd%3DTDY5Smhtcys1Nkw0U0ky
 TEZlZTlEdz09&amp;amp\;source=gmail&amp;amp\;ust=1671710690854000&amp;amp\;usg=AOvVaw3S
 GmZR-QoyubZPx5A9mweQ&quot;&gt;https://tau-ac-il.zoom.us/j/86779169861?pwd=TDY5Smht
 cys1Nkw0U0kyTEZlZTlEdz09&lt;/a&gt;&lt;/p&gt;\n&lt;p style=&quot;font-weight: 400\;&quot;&gt;Meeting ID
 : 867 7916 9861\;&amp;nbsp\;Passcode: 331601&lt;/p&gt;\n&lt;p style=&quot;font-weight: 400\;
 &quot;&gt;Look forward to welcoming you at the seminar.&lt;/p&gt;&lt;br /&gt;&lt;br /&gt;Agenda: &lt;br
  /&gt;&lt;p style=&quot;font-weight: 400\;&quot;&gt;&amp;nbsp\;&lt;/p&gt;\n&lt;p style=&quot;font-weight: 400\;
 &quot;&gt;Please join us at this event of the Israel MTT/AP Chapter via Zoom link:
 &lt;/p&gt;\n&lt;p style=&quot;font-weight: 400\;&quot;&gt;&lt;a href=&quot;https://tau-ac-il.zoom.us/j/8
 6779169861?pwd=TDY5Smhtcys1Nkw0U0kyTEZlZTlEdz09&quot; data-saferedirecturl=&quot;htt
 ps://www.google.com/url?q=https://tau-ac-il.zoom.us/j/86779169861?pwd%3DTD
 Y5Smhtcys1Nkw0U0kyTEZlZTlEdz09&amp;amp\;source=gmail&amp;amp\;ust=1671710690854000
 &amp;amp\;usg=AOvVaw3SGmZR-QoyubZPx5A9mweQ&quot;&gt;https://tau-ac-il.zoom.us/j/867791
 69861?pwd=TDY5Smhtcys1Nkw0U0kyTEZlZTlEdz09&lt;/a&gt;&lt;/p&gt;\n&lt;p style=&quot;font-weight:
  400\;&quot;&gt;Meeting ID: 867 7916 9861\;&amp;nbsp\;Passcode: 331601&lt;/p&gt;\n&lt;p style=&quot;
 font-weight: 400\;&quot;&gt;&amp;nbsp\;&lt;/p&gt;
END:VEVENT
END:VCALENDAR

