BEGIN:VCALENDAR
VERSION:2.0
PRODID:IEEE vTools.Events//EN
CALSCALE:GREGORIAN
BEGIN:VTIMEZONE
TZID:Europe/Zurich
BEGIN:DAYLIGHT
DTSTART:20220327T030000
TZOFFSETFROM:+0100
TZOFFSETTO:+0200
RRULE:FREQ=YEARLY;BYDAY=-1SU;BYMONTH=3
TZNAME:CEST
END:DAYLIGHT
BEGIN:STANDARD
DTSTART:20221030T020000
TZOFFSETFROM:+0200
TZOFFSETTO:+0100
RRULE:FREQ=YEARLY;BYDAY=-1SU;BYMONTH=10
TZNAME:CET
END:STANDARD
END:VTIMEZONE
BEGIN:VEVENT
DTSTAMP:20221226T104718Z
UID:ADE9CF22-5A81-4BDA-8163-5EB29E1C1EE8
DTSTART;TZID=Europe/Zurich:20220901T180000
DTEND;TZID=Europe/Zurich:20220901T210000
DESCRIPTION:Dr. Maria-Alexandra Paun\, Chair of IEEE Switzerland Women in E
 ngineering Affinity Group met with Joana Machado\, from Young Professional
 s of IEEE Switzerland\, to set up a planning for future collaborations.\n\
 nLausanne\, Switzerland\, Switzerland
LOCATION:Lausanne\, Switzerland\, Switzerland
ORGANIZER:maria_paun2003@yahoo.com
SEQUENCE:0
SUMMARY:Meeting of IEEE Switzerland WIE with IEEE Switzerland YP
URL;VALUE=URI:https://events.vtools.ieee.org/m/339774
X-ALT-DESC:Description: &lt;br /&gt;&lt;p&gt;Dr. Maria-Alexandra Paun\, Chair of IEEE S
 witzerland Women in Engineering Affinity Group met with Joana Machado\, fr
 om Young Professionals of IEEE Switzerland\, to set up a planning for futu
 re collaborations.&lt;/p&gt;
END:VEVENT
END:VCALENDAR

