BEGIN:VCALENDAR
VERSION:2.0
PRODID:IEEE vTools.Events//EN
CALSCALE:GREGORIAN
BEGIN:VTIMEZONE
TZID:Europe/Paris
BEGIN:DAYLIGHT
DTSTART:20220327T030000
TZOFFSETFROM:+0100
TZOFFSETTO:+0200
RRULE:FREQ=YEARLY;BYDAY=-1SU;BYMONTH=3
TZNAME:CEST
END:DAYLIGHT
BEGIN:STANDARD
DTSTART:20211031T020000
TZOFFSETFROM:+0200
TZOFFSETTO:+0100
RRULE:FREQ=YEARLY;BYDAY=-1SU;BYMONTH=10
TZNAME:CET
END:STANDARD
END:VTIMEZONE
BEGIN:VEVENT
DTSTAMP:20221226T140909Z
UID:A1FABF24-78C4-465C-9FD0-002AD4EA09CD
DTSTART;TZID=Europe/Paris:20220308T103000
DTEND;TZID=Europe/Paris:20220308T130000
DESCRIPTION:As Chair of IEEE Region 8 Women in Engineering Subcommittee and
  IEEE Switzerland WIE Affinity Group\, Dr. Maria-Alexandra Paun was invite
 d to deliver a 2 hours and a half presentation (highest time duration) dur
 ing the live 12h global WIE non-stop marathon\, which was prepared for the
  25th anniversay of Women in Engineering. The event was held on internatio
 nal women&#39;s day. She talked about Women in Engineering at Region 8 level\,
  with a highlight on Switzerland activities as well. This event was watche
 d from all over the world. Her presentation was warmly received.\n\nVirtua
 l: https://events.vtools.ieee.org/m/339797
LOCATION:Virtual: https://events.vtools.ieee.org/m/339797
ORGANIZER:maria_paun2003@yahoo.com
SEQUENCE:2
SUMMARY:Global live 12h WIE Marathon celebrating 25th anniversary of WIE 
URL;VALUE=URI:https://events.vtools.ieee.org/m/339797
X-ALT-DESC:Description: &lt;br /&gt;&lt;p&gt;As Chair of IEEE Region 8 Women in Enginee
 ring Subcommittee and IEEE Switzerland WIE Affinity Group\, Dr. Maria-Alex
 andra Paun was invited to deliver a 2 hours and a half presentation (highe
 st time duration) during the live 12h global WIE non-stop marathon\, which
  was prepared for the 25th anniversay of Women in Engineering. The event w
 as held on international women&#39;s day. She talked about Women in Engineerin
 g at Region 8 level\, with a highlight on Switzerland activities as well. 
 This event was watched from all over the world. Her presentation was warml
 y received.&lt;/p&gt;
END:VEVENT
END:VCALENDAR

