BEGIN:VCALENDAR
VERSION:2.0
PRODID:IEEE vTools.Events//EN
CALSCALE:GREGORIAN
BEGIN:VTIMEZONE
TZID:Canada/Eastern
BEGIN:DAYLIGHT
DTSTART:20230312T030000
TZOFFSETFROM:-0500
TZOFFSETTO:-0400
RRULE:FREQ=YEARLY;BYDAY=2SU;BYMONTH=3
TZNAME:EDT
END:DAYLIGHT
BEGIN:STANDARD
DTSTART:20231105T010000
TZOFFSETFROM:-0400
TZOFFSETTO:-0500
RRULE:FREQ=YEARLY;BYDAY=1SU;BYMONTH=11
TZNAME:EST
END:STANDARD
END:VTIMEZONE
BEGIN:VEVENT
DTSTAMP:20230402T213032Z
UID:19DFE6D9-F2F4-44D9-B85D-8D9D3C13ACC7
DTSTART;TZID=Canada/Eastern:20230326T183000
DTEND;TZID=Canada/Eastern:20230326T203000
DESCRIPTION:IEEE Peterborough Joint Section &amp; LMAG\n\nTuesday\, April 26\, 
 2022\, 6:00 pm\n\nBerc&#39;s Steakhouse\n186 Lansdowne St E\, Peterborough\, O
 N K9J 7N9\n\nAgenda: \n- Administrative\n\n1.1 Call to Order (Helder) at  
 ______________pm\n\n1.2 Attendance:\n\nKevin Kirley\, Sean Dunne\, Luc Mat
 teau\, Carlos Teani\, Helder Pinheiro\, Harold Briggs\n\nGuests: [Shweta P
 athak](https://www.linkedin.com/in/shweta-pathak-2032a218/)\n\n1.3 Motion 
 to Approve Agenda/as amended.\n\nAdditions/changes:\n\nMoved by:  __  2nd 
 by:  __  Carried.\n\n1.4 Motion to Approve Minutes of March 15\, 2022. Mee
 ting\n\nRevisions:\n\nMoved by: _______ 2nd by:  __  Carried.\n\n- Treasur
 er&#39;s Report (Luc) Total $ ____________Total liabilities _$_____________\n\
 nMotion to receive Treasurer&#39;s Report by:  ____ _ 2nd by:  ________  Carri
 ed.\n\n2.1 Approval of expenditures:\n\nTBD $\n\nMotion by Luc\, 2nd by __
 ______ to approve expenditures. Carried.\n\n- IEEE Canada Foundation Repor
 t (Luc).\n\nMotion to receive IEEE Canada Foundation Report by Luc\, 2nd b
 y: _______ Carried.\n\n-  Membership Status &amp; Development (ALL)\n\n- 57 me
 mbers (April 24th\, 2022)\n\n-  Succession Planning (All)\n- LIFE Members 
 Affinity Group Peterborough Section (Bob)\n- Section History and Archives 
 (Bob)\n\n-  Past &amp; Current Events\n- Climate Task Force Initiative (Sean/H
 elder)\n- IEEE Canada Springboard 2 Region Meeting to be held Friday June 
 3 through Sunday June 5 at the Delta Hotels by Marriott Toronto Airport &amp; 
 Conference Centre (655 Dixon Road\, Toronto\, ON M9W 1J3).\n- CONAC for EP
 EC (Electrical Power and Energy Conference) 2022 (Sean/Luc/Helder)\n- 5-7 
 (Monday to Wednesday). Prof. Yan Shi from University of Victoria is leadin
 g and will send out a Zoom meeting invitation to the sections\n\n- Trans C
 anada Microwave System - Section participation (Luc)\n- Meeting Shweta Pat
 hak (Helder)\n\n- Centre for Advancement in Mechatronics and Industrial In
 ternet of Things (CAMIIT) – Carlos\n- Peterborough Science Fair at Trent
  (Sean)\n- Fleming Showcase (Judging and Awards)- Luc and Helder\n\n-  Oth
 er planned member events\n\n-  Other discussions\n- Webmaster – Helder 
 –updated the main page.\n- Planned AdCom Meeting dates for 2022 – See 
 table below\n- Chairman adjourned meeting at ______ pm\n\nVirtual: https:/
 /events.vtools.ieee.org/m/341675
LOCATION:Virtual: https://events.vtools.ieee.org/m/341675
ORGANIZER:helder.pinheiro.ca@ieee.org
SEQUENCE:3
SUMMARY:IEEE Peterborough Joint Section &amp; LMAG Administrative Committee Mee
 ting
URL;VALUE=URI:https://events.vtools.ieee.org/m/341675
X-ALT-DESC:Description: &lt;br /&gt;&lt;p&gt;IEEE Peterborough Joint Section &amp;amp\; LMA
 G&amp;nbsp\;&lt;/p&gt;\n&lt;p&gt;Tuesday\, April 26\, 2022\, 6:00 pm&lt;/p&gt;\n&lt;p&gt;Berc&#39;s&amp;nbsp\;
 Steakhouse&lt;br /&gt;186 Lansdowne St E\, Peterborough\, ON K9J 7N9&amp;nbsp\;&lt;/p&gt;&lt;
 br /&gt;&lt;br /&gt;Agenda: &lt;br /&gt;&lt;ol&gt;\n&lt;li&gt;Administrative&lt;/li&gt;\n&lt;/ol&gt;\n&lt;p&gt;1.1 Call
  to Order (Helder) at &lt;u&gt;&amp;nbsp\;&amp;nbsp\;______________&lt;/u&gt;pm&lt;/p&gt;\n&lt;p&gt;1.2 At
 tendance:&lt;/p&gt;\n&lt;p&gt;Kevin Kirley\, Sean Dunne\, Luc Matteau\, Carlos Teani\,
  Helder Pinheiro\, Harold Briggs&lt;/p&gt;\n&lt;p&gt;&amp;nbsp\;&amp;nbsp\;&amp;nbsp\;&amp;nbsp\;&amp;nbsp
 \; Guests: &lt;a href=&quot;https://www.linkedin.com/in/shweta-pathak-2032a218/&quot;&gt;S
 hweta Pathak&lt;/a&gt;&lt;/p&gt;\n&lt;p&gt;1.3 Motion to Approve Agenda/as amended.&lt;/p&gt;\n&lt;p&gt;
 Additions/changes:&lt;/p&gt;\n&lt;p&gt;&amp;nbsp\;&lt;/p&gt;\n&lt;p&gt;Moved by: &lt;u&gt;&amp;nbsp\;&amp;nbsp\;__&amp;n
 bsp\; &amp;nbsp\;&amp;nbsp\;&amp;nbsp\;&amp;nbsp\;&amp;nbsp\;&amp;nbsp\;&amp;nbsp\;&amp;nbsp\;&amp;nbsp\;&amp;nbsp
 \;&lt;/u&gt;&amp;nbsp\;2&lt;sup&gt;nd&lt;/sup&gt; by: &lt;u&gt;&amp;nbsp\;__&amp;nbsp\;&amp;nbsp\; &amp;nbsp\;&amp;nbsp\;&amp;
 nbsp\;&amp;nbsp\;&amp;nbsp\;&amp;nbsp\;&amp;nbsp\;&amp;nbsp\;&amp;nbsp\;&amp;nbsp\;&lt;/u&gt;&amp;nbsp\;Carried.
 &lt;/p&gt;\n&lt;p&gt;1.4 Motion to Approve Minutes of March 15\, 2022. Meeting&lt;/p&gt;\n&lt;p
 &gt;Revisions:&lt;/p&gt;\n&lt;p&gt;&amp;nbsp\;&lt;/p&gt;\n&lt;p&gt;Moved by:&amp;nbsp\; _______ 2&lt;u&gt;&lt;sup&gt;nd&lt;/
 sup&gt;&lt;/u&gt; by: &lt;u&gt;&amp;nbsp\;&amp;nbsp\;&amp;nbsp\;&amp;nbsp\;__&amp;nbsp\; &amp;nbsp\;&amp;nbsp\;&amp;nbsp\
 ;&amp;nbsp\;&amp;nbsp\;&amp;nbsp\;&amp;nbsp\;&amp;nbsp\;&amp;nbsp\;&amp;nbsp\;&amp;nbsp\;&amp;nbsp\;&lt;/u&gt;&amp;nbsp\
 ;&amp;nbsp\;Carried.&lt;/p&gt;\n&lt;ol start=&quot;2&quot;&gt;\n&lt;li&gt;Treasurer&#39;s Report (Luc) Total &lt;
 u&gt;$ &lt;/u&gt;____________Total liabilities &lt;u&gt;_$_____________&lt;/u&gt;&lt;/li&gt;\n&lt;/ol&gt;\n
 &lt;p&gt;Motion to receive Treasurer&#39;s Report by: &lt;u&gt;&amp;nbsp\;&amp;nbsp\;____ _&lt;/u&gt; 2&lt;
 sup&gt;nd&lt;/sup&gt; by: &lt;u&gt;&amp;nbsp\;________ &lt;/u&gt;&amp;nbsp\;&amp;nbsp\;Carried.&lt;/p&gt;\n&lt;p&gt;2.1
  Approval of expenditures:&lt;/p&gt;\n&lt;p&gt;&amp;nbsp\;&amp;nbsp\;&amp;nbsp\;&amp;nbsp\;&amp;nbsp\;&amp;nbs
 p\;&amp;nbsp\;&amp;nbsp\; &amp;nbsp\;&amp;nbsp\;&amp;nbsp\;&amp;nbsp\;&amp;nbsp\;&amp;nbsp\;&amp;nbsp\;&amp;nbsp\;
 &amp;nbsp\;&amp;nbsp\;&amp;nbsp\;&amp;nbsp\;&amp;nbsp\;&amp;nbsp\;&amp;nbsp\;&amp;nbsp\;&amp;nbsp\;&amp;nbsp\;&amp;nbs
 p\;&amp;nbsp\;&amp;nbsp\;&amp;nbsp\;&amp;nbsp\;&amp;nbsp\;&amp;nbsp\;&amp;nbsp\;&amp;nbsp\;&amp;nbsp\;&amp;nbsp\;&amp;
 nbsp\;&amp;nbsp\;&amp;nbsp\;&amp;nbsp\;&amp;nbsp\;&amp;nbsp\;&amp;nbsp\;&amp;nbsp\;&amp;nbsp\;&amp;nbsp\;&amp;nbsp
 \;&amp;nbsp\;&amp;nbsp\;&amp;nbsp\;&amp;nbsp\;&amp;nbsp\;&amp;nbsp\;&amp;nbsp\;&amp;nbsp\;&amp;nbsp\;&amp;nbsp\;&amp;n
 bsp\;&amp;nbsp\; TBD &amp;nbsp\; $&lt;u&gt;&amp;nbsp\;&amp;nbsp\;&amp;nbsp\;&amp;nbsp\;&amp;nbsp\;&amp;nbsp\;&amp;nb
 sp\;&amp;nbsp\;&amp;nbsp\;&amp;nbsp\;&amp;nbsp\;&amp;nbsp\;&amp;nbsp\;&amp;nbsp\;&amp;nbsp\;&amp;nbsp\; &lt;/u&gt;&lt;/
 p&gt;\n&lt;p&gt;Motion by Luc\, 2&lt;sup&gt;nd&lt;/sup&gt; by ________ to approve expenditures.
  &amp;nbsp\;&amp;nbsp\;&amp;nbsp\;&amp;nbsp\;&amp;nbsp\;&amp;nbsp\;&amp;nbsp\;&amp;nbsp\; Carried.&lt;u&gt;&amp;nbsp
 \;&amp;nbsp\;&amp;nbsp\;&amp;nbsp\;&amp;nbsp\;&amp;nbsp\;&amp;nbsp\;&amp;nbsp\;&amp;nbsp\;&amp;nbsp\; &lt;/u&gt;&lt;/p&gt;
 \n&lt;p&gt;&amp;nbsp\;&lt;/p&gt;\n&lt;ol start=&quot;3&quot;&gt;\n&lt;li&gt;IEEE Canada Foundation Report (Luc).
 &lt;/li&gt;\n&lt;/ol&gt;\n&lt;p&gt;Motion to receive IEEE Canada Foundation Report by Luc\, 
 2nd by: _______ Carried.&lt;/p&gt;\n&lt;p&gt;&amp;nbsp\;&lt;/p&gt;\n&lt;ol start=&quot;4&quot;&gt;\n&lt;li&gt;&lt;strong&gt;
  Membership Status &lt;/strong&gt;&lt;strong&gt;&amp;amp\; Development (ALL)&lt;/strong&gt;&lt;/li&gt;
 \n&lt;/ol&gt;\n&lt;p&gt;- 57 members (April 24th\, 2022)&lt;/p&gt;\n&lt;ol start=&quot;5&quot;&gt;\n&lt;li&gt;&lt;str
 ong&gt; Succession Planning (All) &lt;/strong&gt;&lt;/li&gt;\n&lt;li&gt;LIFE Members Affinity G
 roup Peterborough Section (Bob)\n&lt;ul&gt;\n&lt;li&gt;Section History and Archives (B
 ob)&lt;/li&gt;\n&lt;/ul&gt;\n&lt;/li&gt;\n&lt;/ol&gt;\n&lt;p&gt;&amp;nbsp\;&lt;/p&gt;\n&lt;ul&gt;\n&lt;li&gt;&lt;strong&gt; &lt;/strong
 &gt;&lt;strong&gt;Past &amp;amp\; Current Events&lt;/strong&gt;&lt;/li&gt;\n&lt;li&gt;Climate Task Force 
 Initiative (Sean/Helder)&lt;/li&gt;\n&lt;li&gt;IEEE Canada Springboard 2 Region Meetin
 g to be held Friday June 3 through Sunday June 5 at the&amp;nbsp\;Delta Hotels
  by Marriott Toronto Airport &amp;amp\; Conference Centre (655 Dixon Road\, To
 ronto\, ON M9W 1J3).\n&lt;ul&gt;\n&lt;li&gt;CONAC for EPEC (Electrical Power and Energ
 y Conference) 2022 (Sean/Luc/Helder)\n&lt;ul&gt;\n&lt;li&gt;5-7 (Monday to Wednesday).
  Prof. Yan Shi from University of Victoria is leading and will send out a 
 Zoom meeting invitation to the sections&lt;/li&gt;\n&lt;/ul&gt;\n&lt;/li&gt;\n&lt;li&gt;Trans Cana
 da Microwave System - Section participation (Luc)\n&lt;ul&gt;\n&lt;li&gt;Meeting Shwet
 a Pathak (Helder)&lt;/li&gt;\n&lt;/ul&gt;\n&lt;/li&gt;\n&lt;li&gt;Centre for Advancement in Mechat
 ronics and Industrial Internet of Things (CAMIIT) &amp;ndash\; Carlos&lt;/li&gt;\n&lt;l
 i&gt;Peterborough Science Fair at Trent (Sean)&lt;/li&gt;\n&lt;li&gt;Fleming Showcase (Ju
 dging and Awards)- Luc and Helder&lt;/li&gt;\n&lt;/ul&gt;\n&lt;/li&gt;\n&lt;/ul&gt;\n&lt;p&gt;&lt;strong&gt;&amp;n
 bsp\;&lt;/strong&gt;&lt;/p&gt;\n&lt;ul&gt;\n&lt;li&gt;&lt;strong&gt; &lt;/strong&gt;&lt;strong&gt;Other planned memb
 er events &lt;/strong&gt;&lt;/li&gt;\n&lt;/ul&gt;\n&lt;p&gt;&amp;nbsp\;&lt;/p&gt;\n&lt;ul&gt;\n&lt;li&gt;&lt;strong&gt; &lt;/stro
 ng&gt;&lt;strong&gt;Other discussions&lt;/strong&gt;&lt;/li&gt;\n&lt;li&gt;Webmaster &amp;ndash\; Helder 
 &amp;ndash\;updated the main page.&lt;/li&gt;\n&lt;li&gt;Planned AdCom Meeting dates for 2
 022 &amp;ndash\; See table below&lt;/li&gt;\n&lt;li&gt;Chairman adjourned meeting at _____
 _&amp;nbsp\;&amp;nbsp\;&amp;nbsp\;&amp;nbsp\;&amp;nbsp\;&amp;nbsp\;&amp;nbsp\;&amp;nbsp\; pm&lt;/li&gt;\n&lt;/ul&gt;
END:VEVENT
END:VCALENDAR

