BEGIN:VCALENDAR
VERSION:2.0
PRODID:IEEE vTools.Events//EN
CALSCALE:GREGORIAN
BEGIN:VTIMEZONE
TZID:Canada/Eastern
BEGIN:DAYLIGHT
DTSTART:20230312T030000
TZOFFSETFROM:-0500
TZOFFSETTO:-0400
RRULE:FREQ=YEARLY;BYDAY=2SU;BYMONTH=3
TZNAME:EDT
END:DAYLIGHT
BEGIN:STANDARD
DTSTART:20231105T010000
TZOFFSETFROM:-0400
TZOFFSETTO:-0500
RRULE:FREQ=YEARLY;BYDAY=1SU;BYMONTH=11
TZNAME:EST
END:STANDARD
END:VTIMEZONE
BEGIN:VEVENT
DTSTAMP:20230915T120103Z
UID:4944BA7A-996C-4E51-87A1-F22C10A6B18D
DTSTART;TZID=Canada/Eastern:20230908T110000
DTEND;TZID=Canada/Eastern:20230908T120000
DESCRIPTION:IEEE Peterborough Joint Section &amp; LMAG\n\nThe unveiling ceremon
 y for the Microwave milestone plaques tomorrow\n\n1506 Ravenwood dr\, Pete
 rborough\, Ontario\, Canada\, K9K 2J3
LOCATION:1506 Ravenwood dr\, Peterborough\, Ontario\, Canada\, K9K 2J3
ORGANIZER:helder.pinheiro.ca@ieee.org
SEQUENCE:2
SUMMARY:IEEE Peterborough Joint Section &amp; LMAG Administrative Committee Mee
 ting
URL;VALUE=URI:https://events.vtools.ieee.org/m/341683
X-ALT-DESC:Description: &lt;br /&gt;&lt;p&gt;IEEE Peterborough Joint Section &amp;amp\; LMA
 G&amp;nbsp\;&lt;/p&gt;\n&lt;p&gt;The unveiling ceremony for the Microwave &lt;span class=&quot;il&quot;
 &gt;milestone&lt;/span&gt;&amp;nbsp\;plaques tomorrow&amp;nbsp\;&lt;/p&gt;\n&lt;p&gt;&amp;nbsp\;&lt;/p&gt;
END:VEVENT
END:VCALENDAR

