BEGIN:VCALENDAR
VERSION:2.0
PRODID:IEEE vTools.Events//EN
CALSCALE:GREGORIAN
BEGIN:VTIMEZONE
TZID:America/Los_Angeles
BEGIN:DAYLIGHT
DTSTART:20230312T030000
TZOFFSETFROM:-0800
TZOFFSETTO:-0700
RRULE:FREQ=YEARLY;BYDAY=2SU;BYMONTH=3
TZNAME:PDT
END:DAYLIGHT
BEGIN:STANDARD
DTSTART:20221106T010000
TZOFFSETFROM:-0700
TZOFFSETTO:-0800
RRULE:FREQ=YEARLY;BYDAY=1SU;BYMONTH=11
TZNAME:PST
END:STANDARD
END:VTIMEZONE
BEGIN:VEVENT
DTSTAMP:20230114T205617Z
UID:DD32416D-AFEE-4B15-A1D6-9E8D8287C7C4
DTSTART;TZID=America/Los_Angeles:20230113T180000
DTEND;TZID=America/Los_Angeles:20230113T200000
DESCRIPTION:On Friday\, January 13\, 2023\, the IEEE club will be hosting a
  Resume Night for students in the Electrical and Computer Engineering depa
 rtment and others students interested in related fields. This will be a bu
 siness casual event and it will take place in Casey 530 (also known as the
  “Casey Commons” room) at Seattle University\, from 6:00PM to 8:00PM. 
 Food and other refreshments will be provided!\n\nAgenda: \nThe students wi
 ll meet with their assigned professional at a designated time slot for a o
 ne-on-one session that will last between 10-15 minutes. Students will also
  be given the opportunity to meet with other professionals after their int
 ial meeting to seek further insight on their resumes and/or network with o
 thers.\n\nRoom: 530\, Bldg: Casey Building\, 900 Broadway \, Seattle\, Was
 hington\, United States\, 98122
LOCATION:Room: 530\, Bldg: Casey Building\, 900 Broadway \, Seattle\, Washi
 ngton\, United States\, 98122
ORGANIZER:sceria@seattleu.edu
SEQUENCE:2
SUMMARY:IEEE Resume Night 1/11/23
URL;VALUE=URI:https://events.vtools.ieee.org/m/342697
X-ALT-DESC:Description: &lt;br /&gt;&lt;p&gt;On Friday\, January 13\, 2023\, the IEEE c
 lub will be hosting a Resume Night for students in the Electrical and Comp
 uter Engineering department and others students interested in related fiel
 ds. This will be a business casual event and it will take place in Casey 5
 30 (also known as the &amp;ldquo\;Casey Commons&amp;rdquo\; room) at Seattle Unive
 rsity\, from 6:00PM to 8:00PM. Food and other refreshments will be provide
 d!&amp;nbsp\;&lt;/p&gt;&lt;br /&gt;&lt;br /&gt;Agenda: &lt;br /&gt;&lt;p&gt;The students will meet with thei
 r assigned professional at a designated time slot for a one-on-one session
  that will last between 10-15 minutes. Students will also be given the opp
 ortunity to meet with other professionals after their intial meeting to se
 ek further insight on their resumes and/or network with others.&lt;/p&gt;
END:VEVENT
END:VCALENDAR

