BEGIN:VCALENDAR
VERSION:2.0
PRODID:IEEE vTools.Events//EN
CALSCALE:GREGORIAN
BEGIN:VTIMEZONE
TZID:Europe/Stockholm
BEGIN:DAYLIGHT
DTSTART:20230326T030000
TZOFFSETFROM:+0100
TZOFFSETTO:+0200
RRULE:FREQ=YEARLY;BYDAY=-1SU;BYMONTH=3
TZNAME:CEST
END:DAYLIGHT
BEGIN:STANDARD
DTSTART:20221030T020000
TZOFFSETFROM:+0200
TZOFFSETTO:+0100
RRULE:FREQ=YEARLY;BYDAY=-1SU;BYMONTH=10
TZNAME:CET
END:STANDARD
END:VTIMEZONE
BEGIN:VEVENT
DTSTAMP:20230413T064502Z
UID:10685DB1-4BDC-4604-9FF8-97D1E2860A43
DTSTART;TZID=Europe/Stockholm:20230307T180000
DTEND;TZID=Europe/Stockholm:20230307T190000
DESCRIPTION:Telco Meeting of the IEEE Sweden VT/COM/IT Chapter Board\n\nLun
 d\, Skane lan\, Sweden
LOCATION:Lund\, Skane lan\, Sweden
ORGANIZER:michael.lentmaier@eit.lth.se
SEQUENCE:5
SUMMARY:Conf call #2 2023 IEEE VT/COM/IT Chapter Sweden
URL;VALUE=URI:https://events.vtools.ieee.org/m/343371
X-ALT-DESC:Description: &lt;br /&gt;&lt;p&gt;Telco Meeting of the IEEE Sweden VT/COM/IT
  Chapter Board&lt;/p&gt;
END:VEVENT
END:VCALENDAR

