BEGIN:VCALENDAR
VERSION:2.0
PRODID:IEEE vTools.Events//EN
CALSCALE:GREGORIAN
BEGIN:VTIMEZONE
TZID:America/Los_Angeles
BEGIN:DAYLIGHT
DTSTART:20230312T030000
TZOFFSETFROM:-0800
TZOFFSETTO:-0700
RRULE:FREQ=YEARLY;BYDAY=2SU;BYMONTH=3
TZNAME:PDT
END:DAYLIGHT
BEGIN:STANDARD
DTSTART:20221106T010000
TZOFFSETFROM:-0700
TZOFFSETTO:-0800
RRULE:FREQ=YEARLY;BYDAY=1SU;BYMONTH=11
TZNAME:PST
END:STANDARD
END:VTIMEZONE
BEGIN:VEVENT
DTSTAMP:20230210T061814Z
UID:9C48C2B0-48ED-488A-B771-B4BF8FB8D749
DTSTART;TZID=America/Los_Angeles:20230209T190000
DTEND;TZID=America/Los_Angeles:20230209T200000
DESCRIPTION:WELCOME TO THE FUTURE: Imagine Jakarta on the 1st day in 2045!\
 nAspirations from the Indonesian smart city vision 2045 that realizes sust
 ainable technologies\n\nJoin for a session on Smart Cities Jakarta. Find o
 ut why this Indonesia City is one of the Top Smart Cities in the World. Fi
 nd out about their Smart Connectivity\, Smart Water\, Smart Infrastructure
 \, Smart Governance\, Smart People\, and Smart Transportation.\n\nJakarta\
 , Indonesia’s massive capital\, sits on the northwest coast of the islan
 d of Java. A historic mix of cultures – Javanese\, Malay\, Chinese\, Ara
 b\, Indian and European – has influenced its architecture\, language\, a
 nd cuisine. The old town\, Kota Tua\, is home to Dutch colonial buildings\
 , Glodok (Jakarta’s Chinatown)\, and the old port of Sunda Kelapa\, wher
 e traditional wooden schooners dock.\n\nJakarta Smart City is the implemen
 tation of the smart city concept that optimizes the utilization of Informa
 tion and Communication Technology (ICT) to monitor\, analyze and control v
 arious resources in the city with more effectiveness and efficiency in ord
 er to maximize public services\, provide solutions\, and support sustainab
 le development.\nJakarta follows three main focus areas for that built an 
 ICT infrastructure:\nGovernment that listens - Technologies that connect -
  Citizens that participate\n\n[Speaker Profile](https://60c89b22-fa84-4f7f
 -9915-ca0ea9310154.usrfiles.com/ugd/60c89b_82da556c29e3418c90d8895787e15e6
 a.pdf)\n\nCo-sponsored by: IEEE Power and Energy Society\n\nSpeaker(s): Ah
 med Ragab\, \n\nAgenda: \n7:00 pm PST IEEE Announcements\n7:02 pm PST Intr
 oduction of the Speaker\n7:04 pm PST Presentation\n7:45 pm PST Q&amp;A\n\nVirt
 ual: https://events.vtools.ieee.org/m/343584
LOCATION:Virtual: https://events.vtools.ieee.org/m/343584
ORGANIZER:mike.brisbois@ieee.org
SEQUENCE:14
SUMMARY:IEEE CN Smart Cities Jakarta Indonesia
URL;VALUE=URI:https://events.vtools.ieee.org/m/343584
X-ALT-DESC:Description: &lt;br /&gt;&lt;p&gt;&lt;strong&gt;WELCOME TO THE FUTURE: Imagine Jak
 arta on the 1&lt;sup&gt;st&lt;/sup&gt; day in 2045! &lt;br /&gt;Aspirations from the Indones
 ian smart city vision 2045 that realizes sustainable technologies&lt;/strong&gt;
 &lt;/p&gt;\n&lt;p&gt;Join for a session on Smart Cities Jakarta. Find out why this Ind
 onesia City is one of the Top Smart Cities in the World. Find out about th
 eir Smart Connectivity\, Smart Water\, Smart Infrastructure\, Smart Govern
 ance\, Smart People\, and Smart Transportation. &lt;br /&gt;&lt;br /&gt;Jakarta\, Indo
 nesia&amp;rsquo\;s massive capital\, sits on the northwest coast of the island
  of Java. A historic mix of cultures &amp;ndash\; Javanese\, Malay\, Chinese\,
  Arab\, Indian and European &amp;ndash\; has influenced its architecture\, lan
 guage\, and cuisine. The old town\, Kota Tua\, is home to Dutch colonial b
 uildings\, Glodok (Jakarta&amp;rsquo\;s Chinatown)\, and the old port of Sunda
  Kelapa\, where traditional wooden schooners dock.&lt;br /&gt;&lt;br /&gt;Jakarta Smar
 t City is the implementation of the smart city concept that optimizes the 
 utilization of Information and Communication Technology (ICT) to monitor\,
  analyze and control various resources in the city with more effectiveness
  and efficiency in order to maximize public services\, provide solutions\,
  and support sustainable development.&lt;br /&gt;Jakarta follows three main focu
 s areas for that built an ICT infrastructure:&lt;br /&gt;Government that listens
  - Technologies that connect - Citizens that participate&lt;br /&gt;&lt;br /&gt;&lt;a hre
 f=&quot;https://60c89b22-fa84-4f7f-9915-ca0ea9310154.usrfiles.com/ugd/60c89b_82
 da556c29e3418c90d8895787e15e6a.pdf&quot;&gt;Speaker Profile&lt;/a&gt;&lt;/p&gt;&lt;br /&gt;&lt;br /&gt;Age
 nda: &lt;br /&gt;&lt;p&gt;7:00 pm PST IEEE Announcements&lt;br /&gt;7:02 pm PST Introduction
  of the Speaker&lt;br /&gt;7:04 pm PST Presentation&lt;br /&gt;7:45 pm PST Q&amp;amp\;A&lt;/p
 &gt;
END:VEVENT
END:VCALENDAR

