BEGIN:VCALENDAR
VERSION:2.0
PRODID:IEEE vTools.Events//EN
CALSCALE:GREGORIAN
BEGIN:VTIMEZONE
TZID:Pacific/Honolulu
BEGIN:STANDARD
DTSTART:19470608T023000
TZOFFSETFROM:-1130
TZOFFSETTO:-1000
TZNAME:HST
END:STANDARD
END:VTIMEZONE
BEGIN:VEVENT
DTSTAMP:20230225T015144Z
UID:EF04662B-8BD5-4595-9989-E9B4A39860D5
DTSTART;TZID=Pacific/Honolulu:20230221T173000
DTEND;TZID=Pacific/Honolulu:20230221T190000
DESCRIPTION:Where does your software run when you use a cloud service or a 
 hosting center? Where did your company&#39;s computing center go? What does co
 -location look like? How does our Internet service connect to the global n
 etwork? What does it take to run a reliable 24/7 service?\n\nThis is a fie
 ld trip to DRFortress. Come see what is hidden in the cloud. You will need
  a Hawaii State ID\, a driver&#39;s license\, or passport to enter the facilit
 y. After the tour\, there will be a no-host gathering to continue the conv
 ersation at the nearby IHOP (0.3 mi\, 3269 Koapaka St\, Honolulu\, HI 9681
 9\, 808-492-1321). If possible\, please carpool. Parking is free\, but lim
 ited to 16 stalls. Parking Map: bit.ly/3XZFTn6\n\nDRFortress is Hawaii’s
  largest carrier-neutral data center with diverse fiber access entry point
 s for multiple carriers\, ISPs\, and cloud computing service providers. It
 s mission is to provide operational resiliency\, reliability\, and scalabi
 lity for our customer’s mission-critical systems so that customers can f
 ocus on their core business. DRFortress delivers the highest level of phys
 ical security with 24 X 7 manned security guards and CCTV surveillance. Th
 e facility is equipt with advanced\, redundant electrical and cooling syst
 ems designed to support the latest high-power\, high-density servers. In a
 ddition\, this robust design allows DRFortress to provide customers with a
  100% operational SLA. The 55\,000 square foot (soon to be 65\,000 square 
 foot) data center is located well outside flood and extended tsunami zones
  and is built to withstand natural disasters\, such as earthquakes and hur
 ricanes. With 600 cabinets (soon to be 800 cabinets) and private cages ava
 ilable to customers\, DRFortres offers world-class customer service and co
 ntinuous operational reliability to our customers.\n\nBldg: Suite D-198\, 
 DRFortress\, 3375 Koapaka Street\, Honolulu\, Hawaii\, United States\, 968
 19
LOCATION:Bldg: Suite D-198\, DRFortress\, 3375 Koapaka Street\, Honolulu\, 
 Hawaii\, United States\, 96819
ORGANIZER:eugene.chang@ieee.org
SEQUENCE:16
SUMMARY:A Visit To The Cloud
URL;VALUE=URI:https://events.vtools.ieee.org/m/344368
X-ALT-DESC:Description: &lt;br /&gt;&lt;p&gt;Where does your software run when you use 
 a cloud service or a hosting center? Where did your company&#39;s computing ce
 nter go? What does co-location look like? How does our Internet service co
 nnect to the global network? What does it take to run a reliable 24/7 serv
 ice?&lt;/p&gt;\n&lt;p&gt;This is a field trip to DRFortress. &amp;nbsp\;Come see what is h
 idden in the cloud. You will need a Hawaii State ID\, a driver&#39;s license\,
  or passport &amp;nbsp\;to enter the facility. &amp;nbsp\;After the tour\, there w
 ill be a no-host gathering to continue the conversation at the nearby IHOP
  (0.3 mi\, 3269 Koapaka St\,&amp;nbsp\;Honolulu\, HI &amp;nbsp\;96819\, 808-492-13
 21). If possible\, please carpool. Parking is free\, but limited to 16 sta
 lls.&amp;nbsp\;Parking Map: bit.ly/3XZFTn6&lt;/p&gt;\n&lt;p&gt;DRFortress is Hawaii&amp;rsquo\
 ;s largest carrier-neutral data center with diverse fiber access entry poi
 nts for multiple carriers\, ISPs\, and cloud computing service providers. 
 Its mission is to provide operational resiliency\, reliability\, and scala
 bility for our customer&amp;rsquo\;s mission-critical systems so that customer
 s can focus on their core business. DRFortress delivers the highest level 
 of physical security with 24 X 7 manned security guards and CCTV surveilla
 nce. The facility is equipt with advanced\, redundant electrical and cooli
 ng systems designed to support the latest high-power\, high-density server
 s. In addition\, this robust design allows DRFortress to provide customers
  with a 100% operational SLA. The 55\,000 square foot (soon to be 65\,000 
 square foot) data center is located well outside flood and extended tsunam
 i zones and is built to withstand natural disasters\, such as earthquakes 
 and hurricanes. With 600 cabinets (soon to be 800 cabinets) and private ca
 ges available to customers\, DRFortres offers world-class customer service
  and continuous operational reliability to our customers.&lt;/p&gt;
END:VEVENT
END:VCALENDAR

