BEGIN:VCALENDAR
VERSION:2.0
PRODID:IEEE vTools.Events//EN
CALSCALE:GREGORIAN
BEGIN:VTIMEZONE
TZID:Europe/Berlin
BEGIN:DAYLIGHT
DTSTART:20230326T030000
TZOFFSETFROM:+0100
TZOFFSETTO:+0200
RRULE:FREQ=YEARLY;BYDAY=-1SU;BYMONTH=3
TZNAME:CEST
END:DAYLIGHT
BEGIN:STANDARD
DTSTART:20221030T020000
TZOFFSETFROM:+0200
TZOFFSETTO:+0100
RRULE:FREQ=YEARLY;BYDAY=-1SU;BYMONTH=10
TZNAME:CET
END:STANDARD
END:VTIMEZONE
BEGIN:VEVENT
DTSTAMP:20230324T074120Z
UID:CF4C89FE-037A-4A18-9B63-48EB910136E7
DTSTART;TZID=Europe/Berlin:20230320T160000
DTEND;TZID=Europe/Berlin:20230320T190000
DESCRIPTION:We will have three different views on Machine learning research
  concerning different fields in electrical engineering: Communication\, Ro
 botics\, and Hardware.\n\nDetailed announcements of the event content will
  be available at https://www.ieee-ka.de/.\n\nSpeaker(s): Tim O&#39;Shea\, Prof
 . Dr. Gerhard Neumann\n\nRoom: 213/214\, Bldg: 06.45\, Institut für Nachr
 ichtentechnik (CEL)\, Hertzstraße 16\, Karlsruhe\, Baden-Wurttemberg\, Ge
 rmany
LOCATION:Room: 213/214\, Bldg: 06.45\, Institut für Nachrichtentechnik (CE
 L)\, Hertzstraße 16\, Karlsruhe\, Baden-Wurttemberg\, Germany
ORGANIZER:info@ieee-ka.de
SEQUENCE:7
SUMMARY:Science Spotlight: Machine Learning
URL;VALUE=URI:https://events.vtools.ieee.org/m/344624
X-ALT-DESC:Description: &lt;br /&gt;&lt;p&gt;We will have three different views on Mach
 ine learning research concerning different fields in electrical engineerin
 g: Communication\, Robotics\, and Hardware.&lt;/p&gt;\n&lt;p&gt;Detailed announcements
  of the event content will be available at &lt;a href=&quot;https://www.ieee-ka.de
 /&quot;&gt;https://www.ieee-ka.de/&lt;/a&gt;.&lt;/p&gt;\n&lt;p&gt;&amp;nbsp\;&lt;/p&gt;
END:VEVENT
END:VCALENDAR

