BEGIN:VCALENDAR
VERSION:2.0
PRODID:IEEE vTools.Events//EN
CALSCALE:GREGORIAN
BEGIN:VTIMEZONE
TZID:America/New_York
BEGIN:DAYLIGHT
DTSTART:20230312T030000
TZOFFSETFROM:-0500
TZOFFSETTO:-0400
RRULE:FREQ=YEARLY;BYDAY=2SU;BYMONTH=3
TZNAME:EDT
END:DAYLIGHT
BEGIN:STANDARD
DTSTART:20221106T010000
TZOFFSETFROM:-0400
TZOFFSETTO:-0500
RRULE:FREQ=YEARLY;BYDAY=1SU;BYMONTH=11
TZNAME:EST
END:STANDARD
END:VTIMEZONE
BEGIN:VEVENT
DTSTAMP:20230216T172813Z
UID:1BF0F342-5503-4519-B7FF-0649754AD785
DTSTART;TZID=America/New_York:20230216T110000
DTEND;TZID=America/New_York:20230216T120000
DESCRIPTION:JeunesExplo is creating internship opportunities to increase th
 e visibility of Light Sciences in secondary schools\n\nWe invite you to di
 scover how you can get more involved in accompanying a young person for a 
 one-day internship in your organization: https://JeunesExplo.eventbrite.ca
 \n\nThe webinar will be in French. Questions in English and French are wel
 come.\n\nThis webinar will be a chance to meet partners and hear testimoni
 als on how to welcome a young person for a one-day internship. You can sig
 n up to mentor already via https://www.jeunes-explorateurs.org/mentor/\n\n
 We invite you to save the date of Thursday\, April 20\, 2023 for the one-d
 ay internship.\n\nCo-sponsored by: Optonique\n\nSpeaker(s): Isabelle Clout
 ier\, Denis Panneton\n\nAgenda: \n10:00 - 11:30. Présentation de JeunesEx
 plo\n\nIsabelle Cloutier (JeunesExplo)\n\n11:30 - 11:45. Témoignages Stag
 es d&#39;un Jour\n\nDenis Panneton (INO)\n\n11:45 - 12:00. Questions et annonc
 es\n\nMatthew Posner (Optonique)\n\nVirtual: https://events.vtools.ieee.or
 g/m/344771
LOCATION:Virtual: https://events.vtools.ieee.org/m/344771
ORGANIZER:matthew.t.posner@ieee.org
SEQUENCE:3
SUMMARY:Mentor.e.s recherché.e.s // Call for Mentors – Stages d’un jou
 r
URL;VALUE=URI:https://events.vtools.ieee.org/m/344771
X-ALT-DESC:Description: &lt;br /&gt;&lt;p&gt;JeunesExplo is creating internship opportu
 nities to increase the visibility of Light Sciences in secondary schools&lt;/
 p&gt;\n&lt;p&gt;We invite you to discover how you can get more involved in accompan
 ying a young person for a one-day internship in your organization: &lt;a href
 =&quot;https://JeunesExplo.eventbrite.ca&quot;&gt;https://JeunesExplo.eventbrite.ca&lt;/a&gt;
 &lt;/p&gt;\n&lt;p&gt;The webinar will be in French. Questions in English and French ar
 e welcome.&lt;/p&gt;\n&lt;p&gt;This webinar will be a chance to meet partners and hear
  testimonials on how to welcome a young person for a one-day internship. Y
 ou can sign up to mentor already via &lt;a href=&quot;https://www.jeunes-explorate
 urs.org/mentor/&quot;&gt;https://www.jeunes-explorateurs.org/mentor/&lt;/a&gt;&lt;/p&gt;\n&lt;p&gt;W
 e invite you to save the date of Thursday\, April 20\, 2023 for the one-da
 y internship.&lt;/p&gt;&lt;br /&gt;&lt;br /&gt;Agenda: &lt;br /&gt;&lt;div class=&quot;css-12r38kx e1nkw0y
 b0&quot; data-testid=&quot;SlotPreview&quot;&gt;\n&lt;div class=&quot;css-8cghab e1nkw0yb2&quot;&gt;\n&lt;p cla
 ss=&quot;css-xvzn5v e1nkw0yb3&quot; data-testid=&quot;preview-slot__time&quot;&gt;10:00 - 11:30. 
 Pr&amp;eacute\;sentation de JeunesExplo&lt;/p&gt;\n&lt;div class=&quot;css-1hp63re e1nkw0yb5
 &quot; data-testid=&quot;preview-slot__hosts-area&quot;&gt;\n&lt;div class=&quot;css-1b4fguo e1gn0wf
 40&quot; data-testid=&quot;host-preview__wrapper&quot;&gt;\n&lt;p class=&quot;css-w1w60 e1gn0wf42&quot;&gt;I
 sabelle Cloutier (JeunesExplo)&lt;/p&gt;\n&lt;/div&gt;\n&lt;/div&gt;\n&lt;/div&gt;\n&lt;/div&gt;\n&lt;div c
 lass=&quot;css-1hcum5r e1nkw0yb0&quot; data-testid=&quot;SlotPreview&quot;&gt;\n&lt;div class=&quot;css-n
 lrmv2 e1nkw0yb2&quot;&gt;\n&lt;p class=&quot;css-xvzn5v e1nkw0yb3&quot; data-testid=&quot;preview-sl
 ot__time&quot;&gt;11:30 - 11:45. T&amp;eacute\;moignages Stages d&#39;un Jour&lt;/p&gt;\n&lt;div cl
 ass=&quot;css-1hp63re e1nkw0yb5&quot; data-testid=&quot;preview-slot__hosts-area&quot;&gt;\n&lt;div 
 class=&quot;css-1b4fguo e1gn0wf40&quot; data-testid=&quot;host-preview__wrapper&quot;&gt;\n&lt;p cla
 ss=&quot;css-w1w60 e1gn0wf42&quot;&gt;Denis Panneton (INO)&lt;/p&gt;\n&lt;/div&gt;\n&lt;/div&gt;\n&lt;/div&gt;\
 n&lt;/div&gt;\n&lt;div class=&quot;css-6pdkla e1nkw0yb0&quot; data-testid=&quot;SlotPreview&quot;&gt;\n&lt;di
 v class=&quot;css-18vl9lm e1nkw0yb2&quot;&gt;\n&lt;p class=&quot;css-xvzn5v e1nkw0yb3&quot; data-tes
 tid=&quot;preview-slot__time&quot;&gt;11:45 - 12:00. Questions et annonces&lt;/p&gt;\n&lt;div cl
 ass=&quot;css-1hp63re e1nkw0yb5&quot; data-testid=&quot;preview-slot__hosts-area&quot;&gt;\n&lt;div 
 class=&quot;css-1b4fguo e1gn0wf40&quot; data-testid=&quot;host-preview__wrapper&quot;&gt;\n&lt;p cla
 ss=&quot;css-w1w60 e1gn0wf42&quot;&gt;Matthew Posner (Optonique)&lt;/p&gt;\n&lt;/div&gt;\n&lt;/div&gt;\n&lt;
 /div&gt;\n&lt;/div&gt;
END:VEVENT
END:VCALENDAR

