BEGIN:VCALENDAR
VERSION:2.0
PRODID:IEEE vTools.Events//EN
CALSCALE:GREGORIAN
BEGIN:VTIMEZONE
TZID:America/New_York
BEGIN:DAYLIGHT
DTSTART:20230312T030000
TZOFFSETFROM:-0500
TZOFFSETTO:-0400
RRULE:FREQ=YEARLY;BYDAY=2SU;BYMONTH=3
TZNAME:EDT
END:DAYLIGHT
BEGIN:STANDARD
DTSTART:20221106T010000
TZOFFSETFROM:-0400
TZOFFSETTO:-0500
RRULE:FREQ=YEARLY;BYDAY=1SU;BYMONTH=11
TZNAME:EST
END:STANDARD
END:VTIMEZONE
BEGIN:VEVENT
DTSTAMP:20230203T182339Z
UID:8C2F02E3-7A85-4C05-879C-07735E88A98A
DTSTART;TZID=America/New_York:20230203T110000
DTEND;TZID=America/New_York:20230203T120000
DESCRIPTION:L’utilisation de dispositifs de métrologie comme les bras de
  mesure portables\, les machines à mesurer tridimensionnelles et les scan
 neurs 3D est de plus en plus répandue dans le domaine de l’instrumentat
 ion astronomique. Ces différents outils sont employés pour aligner les p
 ièces optiques et mécaniques de ces instruments\, permettant ainsi de re
 specter les tolérances de positionnement très strictes\, souvent en dess
 ous de 100 microns pour un assemblage optomécanique complexe.\n\nDans ce 
 contexte\, la présentation portera sur l’instrument astronomique de dé
 tection d’exoplanètes NIRPS (Near Infra-Red Planet Searcher)\, plus pr
 écisément sur la phase d’assemblage\, d’intégration\, de test et de
  validation du spectrographe de l’instrument. Il sera également questio
 n de la mission d’installation à l’European Southern Observatory – 
 La Silla dans le désert du Chili en 2022. Cette présentation est une exc
 ellente occasion pour les personnes qui s’intéressent à l’astronomie
 \, qui souhaitent s’initier au domaine de l’instrumentation astronomiq
 ue en vue de collaborations éventuelles ou qui désirent simplement voir 
 les magnifiques paysages du Chili.\n\nThe use of metrology devices such as
  portable measuring arms\, CMM and 3D scanners is increasingly widespread 
 in the field of astronomical instrumentation. These tools are used to alig
 n the optical and mechanical parts of these instruments\, thus making it p
 ossible to respect very strict positioning tolerances\, often below 100 mi
 crons for a complex optomechanical assembly.\n\nIn this context\, the pres
 entation will focus on the exoplanet detection astronomical instrument NIR
 PS (Near Infra-Red Planet Searcher)\, more precisely on the assembly\, int
 egration\, test and validation (AITV) phase of the spectrograph of the ins
 trument. I will also discuss the AITV mission at the European Southern Obs
 ervatory – La Silla in the Chilean desert in 2022. This presentation is 
 a great opportunity for those who are interested in astronomy\, who want t
 o learn more about the field of astronomical instrumentation and potential
  future collaborations\, or who simply wish to see the magnificent landsca
 pes of Chile.\n\nCo-sponsored by: Centre de recherche en Robotique\, Visio
 n et Intelligence Machine (CeRVIM)\n\nSpeaker(s): Anne-Sophie Poulin-Girar
 d\, PhD\, \n\nRoom: PLT-3370\, Bldg: Pavillon Adrien-Pouliot\, Université
  Laval\, 1065\, avenue de la Médecine\, Québec\, Quebec\, Canada\, G1V 0
 A6
LOCATION:Room: PLT-3370\, Bldg: Pavillon Adrien-Pouliot\, Université Laval
 \, 1065\, avenue de la Médecine\, Québec\, Quebec\, Canada\, G1V 0A6
ORGANIZER:g.villeneuve@ieee.org
SEQUENCE:2
SUMMARY:Métrologie 3D et instrumentation astronomique : un chasseur d’ex
 oplanètes au Chili / 3D metrology and astronomical instrumentation: an ex
 oplanet searcher in Chile
URL;VALUE=URI:https://events.vtools.ieee.org/m/345532
X-ALT-DESC:Description: &lt;br /&gt;&lt;p style=&quot;font-size: 11pt\; font-family: Cali
 bri\,sans-serif\; margin: 0\;&quot;&gt;L&amp;rsquo\;utilisation de dispositifs de m&amp;ea
 cute\;trologie comme les bras de mesure portables\, les machines &amp;agrave\;
  mesurer tridimensionnelles et les scanneurs 3D est de plus en plus r&amp;eacu
 te\;pandue dans le domaine de l&amp;rsquo\;instrumentation astronomique. Ces d
 iff&amp;eacute\;rents outils sont employ&amp;eacute\;s pour aligner les pi&amp;egrave\
 ;ces optiques et m&amp;eacute\;caniques de ces instruments\, permettant ainsi 
 de respecter les tol&amp;eacute\;rances de positionnement tr&amp;egrave\;s stricte
 s\, souvent en dessous de 100 microns pour un assemblage optom&amp;eacute\;can
 ique complexe.&lt;/p&gt;\n&lt;p style=&quot;font-size: 11pt\; font-family: Calibri\,sans
 -serif\; margin: 0\;&quot;&gt;&lt;span style=&quot;font-size: 7pt\;&quot;&gt;&amp;nbsp\;&lt;/span&gt;&lt;/p&gt;\n&lt;
 p style=&quot;font-size: 11pt\; font-family: Calibri\,sans-serif\; margin: 0\;&quot;
 &gt;Dans ce contexte\, la pr&amp;eacute\;sentation portera sur l&amp;rsquo\;instrumen
 t astronomique de d&amp;eacute\;tection d&amp;rsquo\;exoplan&amp;egrave\;tes NIRPS (Ne
 ar Infra-Red Planet Searcher)\, plus pr&amp;eacute\;cis&amp;eacute\;ment sur la ph
 ase d&amp;rsquo\;assemblage\, d&amp;rsquo\;int&amp;eacute\;gration\, de test et de val
 idation du spectrographe de l&amp;rsquo\;instrument. Il sera &amp;eacute\;galement
  question de la mission d&amp;rsquo\;installation &amp;agrave\; l&amp;rsquo\;European 
 Southern Observatory &amp;ndash\; La Silla dans le d&amp;eacute\;sert du Chili en 
 2022. Cette pr&amp;eacute\;sentation est une excellente occasion pour les pers
 onnes qui s&amp;rsquo\;int&amp;eacute\;ressent &amp;agrave\; l&amp;rsquo\;astronomie\, qui
  souhaitent s&amp;rsquo\;initier au domaine de l&amp;rsquo\;instrumentation astron
 omique en vue de collaborations &amp;eacute\;ventuelles ou qui d&amp;eacute\;siren
 t simplement voir les magnifiques paysages du Chili.&lt;/p&gt;\n&lt;p style=&quot;font-s
 ize: 11pt\; font-family: Calibri\,sans-serif\; margin: 0\;&quot;&gt;&amp;nbsp\;&lt;/p&gt;\n&lt;
 p style=&quot;font-size: 11pt\; font-family: Calibri\,sans-serif\; margin: 0\;&quot;
 &gt;&amp;nbsp\;&lt;/p&gt;\n&lt;p style=&quot;font-size: 11pt\; font-family: Calibri\,sans-serif
 \; margin: 0\;&quot;&gt;&lt;span lang=&quot;en-CA&quot;&gt;The use of metrology devices such as po
 rtable measuring arms\, CMM and 3D scanners is increasingly widespread in 
 the field of astronomical instrumentation. These tools are used to align t
 he optical and mechanical parts of these instruments\, thus making it poss
 ible to respect very strict positioning tolerances\, often below 100 micro
 ns for a complex optomechanical assembly.&lt;/span&gt;&lt;/p&gt;\n&lt;p style=&quot;font-size:
  11pt\; font-family: Calibri\,sans-serif\; margin: 0\;&quot;&gt;&lt;span lang=&quot;en-CA&quot;
  style=&quot;font-size: 8pt\;&quot;&gt;&amp;nbsp\;&lt;/span&gt;&lt;/p&gt;\n&lt;p style=&quot;font-size: 11pt\; 
 font-family: Calibri\,sans-serif\; margin: 0\;&quot;&gt;&lt;span lang=&quot;en-CA&quot;&gt;In this
  context\, the presentation will focus on the exoplanet detection astronom
 ical instrument NIRPS (Near Infra-Red Planet Searcher)\, more precisely on
  the assembly\, integration\, test and validation (AITV) phase of the spec
 trograph of the instrument. I will also discuss the AITV mission at the Eu
 ropean Southern Observatory &amp;ndash\; La Silla in the Chilean desert in 202
 2. This presentation is a great opportunity for those who are interested i
 n astronomy\, who want to learn more about the field of astronomical instr
 umentation and potential future collaborations\, or who simply wish to see
  the magnificent landscapes of Chile.&lt;/span&gt;&lt;/p&gt;
END:VEVENT
END:VCALENDAR

