BEGIN:VCALENDAR
VERSION:2.0
PRODID:IEEE vTools.Events//EN
CALSCALE:GREGORIAN
BEGIN:VTIMEZONE
TZID:Africa/Nairobi
BEGIN:STANDARD
DTSTART:19420801T001500
TZOFFSETFROM:+0245
TZOFFSETTO:+0300
TZNAME:EAT
END:STANDARD
END:VTIMEZONE
BEGIN:VEVENT
DTSTAMP:20240229T235710Z
UID:417AB6D1-35B0-4396-97DB-B407893FD100
DTSTART;TZID=Africa/Nairobi:20230202T080000
DTEND;TZID=Africa/Nairobi:20230202T160000
DESCRIPTION:IEEE PES Kenya is organizing a Distinguished Lecture Program (D
 LP) with Dr Noel Schulz on the topic: UI-ASSIST: US-India Collaborative fo
 r smart Distribution System with Storage. The event will entail a DLP Sess
 ion from 8am – 1pm EAT on 2nd February 2023 at Kenyatta University. Foll
 owed by a IEEE WIE &amp; IEEE PES WIP Special Session from 2pm-4pm EAT.\n\nOth
 er invited guests include: Faculty Representative &amp; the IEEE Kenyatta Univ
 ersity Advisor\, Eng Martin Nzomo and KPLC Engineer and IEEE PES Zonal Rep
  | Africa\, Eng Eliud Limo.\n\nSpeaker(s): Dr. Noel Schulz\, \n\nAgenda: \
 nThe [IEEE PES Kenya](https://www.linkedin.com/company/ieee-pes-kenya/) we
 lcomes you to our Distinguished Lecture Program (DLP) with Dr. [Noel Schul
 z](https://www.linkedin.com/in/ACoAAAA0enEBZ_nuKe0fsEIeKAkHtKVhQaWUFew).\n
 The Topic is US-India Collaborative for Smart Distribution System with Sto
 rage (UI-ASSIST)\,\n\nProgram:\n8am-9am: Arrivals &amp; Ice breaker session.\n
 \n9am-10am: My IEEE Journey by Dr Noel Schulz.\n\n10am-10.10am: Kenyatta U
 niversity Faculty Representative | Eng Nzomo.\n\n10.10am-10.20am: IEEE Ken
 ya Overview by Chaltu Marta | Chair IEEE PES Kenya.\n\n10.20am-10.30am: IE
 EE PES KU SB overview by Peres Daphny | IEEE PES KU Chair.\n\n10.30am-10.4
 0am: IEEE Kenya &amp; Industry Engagement Overview by Lumumba Irvine | IEEE Ke
 nya Industry Engagement Chair.\n\n10.40am-11am: KPLC Representative.\n\n11
 am-11.30am: Tea Break.\n\n11.30-1pm: DLP UI-ASSIST by Dr Noel Schulz\n\n1p
 m-2pm: Lunch.\n\n2pm- 3pm: Special Networking Session WIE &amp; PES WIP with D
 r Noel.\n\nBldg: Chandaria Business Innovation Incubation Centre \, 64506\
 , NAIROBI\, Nairobi\, Kenya\, 00100
LOCATION:Bldg: Chandaria Business Innovation Incubation Centre \, 64506\, N
 AIROBI\, Nairobi\, Kenya\, 00100
ORGANIZER:kenya-pes@ieee.org
SEQUENCE:5
SUMMARY:IEEE PES Kenya-Distinguished Lecture Program (DLP) with Dr Noel Sch
 ulz (IEEE Fellow)
URL;VALUE=URI:https://events.vtools.ieee.org/m/346196
X-ALT-DESC:Description: &lt;br /&gt;&lt;p&gt;IEEE PES Kenya is organizing a Distinguish
 ed Lecture Program (DLP) with Dr Noel Schulz on the topic: UI-ASSIST: US-I
 ndia Collaborative for smart Distribution System with Storage. The event w
 ill entail a DLP Session from 8am &amp;ndash\; 1pm EAT on 2&lt;sup&gt;nd&lt;/sup&gt; Febru
 ary 2023 at Kenyatta University. Followed by a IEEE WIE &amp;amp\; IEEE PES WI
 P Special Session from 2pm-4pm EAT.&lt;/p&gt;\n&lt;p&gt;Other invited guests include: 
 Faculty Representative &amp;amp\; the IEEE Kenyatta University Advisor\, Eng M
 artin Nzomo and KPLC Engineer and IEEE PES Zonal Rep | Africa\, Eng Eliud 
 Limo.&amp;nbsp\;&lt;/p&gt;&lt;br /&gt;&lt;br /&gt;Agenda: &lt;br /&gt;&lt;p&gt;The&amp;nbsp\;&lt;a href=&quot;https://ww
 w.linkedin.com/company/ieee-pes-kenya/&quot; data-attribute-index=&quot;0&quot; data-enti
 ty-hovercard-id=&quot;urn:li:fs_miniCompany:88460564&quot; data-entity-type=&quot;MINI_CO
 MPANY&quot;&gt;IEEE PES Kenya&lt;/a&gt;&amp;nbsp\;welcomes you to our Distinguished Lecture 
 Program (DLP) with Dr.&amp;nbsp\;&lt;a href=&quot;https://www.linkedin.com/in/ACoAAAA0
 enEBZ_nuKe0fsEIeKAkHtKVhQaWUFew&quot; data-attribute-index=&quot;2&quot; data-entity-hove
 rcard-id=&quot;urn:li:fs_miniProfile:ACoAAAA0enEBZ_nuKe0fsEIeKAkHtKVhQaWUFew&quot; d
 ata-entity-type=&quot;MINI_PROFILE&quot;&gt;Noel Schulz&lt;/a&gt;.&lt;br /&gt;The Topic is &lt;strong&gt;
 US-India Collaborative for Smart Distribution System with Storage (UI-ASSI
 ST)\, &lt;/strong&gt;&lt;/p&gt;\n&lt;p&gt;Program:&lt;br /&gt;8am-9am: Arrivals &amp;amp\; Ice breaker
  session.&lt;/p&gt;\n&lt;p&gt;9am-10am: My IEEE Journey by Dr Noel Schulz.&lt;/p&gt;\n&lt;p&gt;10a
 m-10.10am: Kenyatta University Faculty Representative | Eng Nzomo.&lt;/p&gt;\n&lt;p
 &gt;10.10am-10.20am: IEEE Kenya Overview by Chaltu Marta | Chair IEEE PES Ken
 ya.&lt;/p&gt;\n&lt;p&gt;10.20am-10.30am: IEEE PES KU SB overview by Peres Daphny | IEE
 E PES KU Chair.&lt;/p&gt;\n&lt;p&gt;10.30am-10.40am: IEEE Kenya &amp;amp\; Industry Engage
 ment Overview by Lumumba Irvine | IEEE Kenya Industry Engagement Chair.&lt;/p
 &gt;\n&lt;p&gt;10.40am-11am: KPLC Representative.&lt;/p&gt;\n&lt;p&gt;11am-11.30am: Tea Break.&lt;
 /p&gt;\n&lt;p&gt;11.30-1pm: DLP UI-ASSIST by Dr Noel Schulz&lt;/p&gt;\n&lt;p&gt;1pm-2pm: Lunch.
 &amp;nbsp\;&lt;/p&gt;\n&lt;p&gt;2pm- 3pm: Special Networking Session WIE &amp;amp\; PES WIP wi
 th Dr Noel.&lt;/p&gt;
END:VEVENT
END:VCALENDAR

