BEGIN:VCALENDAR
VERSION:2.0
PRODID:IEEE vTools.Events//EN
CALSCALE:GREGORIAN
BEGIN:VTIMEZONE
TZID:America/New_York
BEGIN:DAYLIGHT
DTSTART:20230312T030000
TZOFFSETFROM:-0500
TZOFFSETTO:-0400
RRULE:FREQ=YEARLY;BYDAY=2SU;BYMONTH=3
TZNAME:EDT
END:DAYLIGHT
BEGIN:STANDARD
DTSTART:20231105T010000
TZOFFSETFROM:-0400
TZOFFSETTO:-0500
RRULE:FREQ=YEARLY;BYDAY=1SU;BYMONTH=11
TZNAME:EST
END:STANDARD
END:VTIMEZONE
BEGIN:VEVENT
DTSTAMP:20230310T180854Z
UID:F4701902-C8A4-4029-9A04-071FFFAA526C
DTSTART;TZID=America/New_York:20230328T200000
DTEND;TZID=America/New_York:20230328T220000
DESCRIPTION:Eric Tran will provide an overview of FlightAware and the techn
 ology behind flight-tracking. He will give a breakdown of the FlightAware 
 flight tracking receiver hardware\, PiAware and FlightFeeder\, and the sof
 tware that powers them. You will also learn the ways that FlightAware can 
 help with disaster recovery efforts.\n\nCo-sponsored by: IEEE-USA MOVE Pro
 gram\n\nSpeaker(s): Eric Tran\, \n\nVirtual: https://events.vtools.ieee.or
 g/m/346700
LOCATION:Virtual: https://events.vtools.ieee.org/m/346700
ORGANIZER:l.arellano@ieee.org
SEQUENCE:10
SUMMARY:MOVE Tech Talk - Mar 2023 - Overview of FlightAware Tech
URL;VALUE=URI:https://events.vtools.ieee.org/m/346700
X-ALT-DESC:Description: &lt;br /&gt;&lt;p&gt;Eric Tran will provide an overview of Flig
 htAware and the technology behind flight-tracking.&amp;nbsp\; He will give a b
 reakdown of the FlightAware flight tracking receiver hardware\, PiAware an
 d FlightFeeder\, and the software that powers them.&amp;nbsp\; You will also l
 earn the ways that FlightAware can help with disaster recovery efforts.&lt;/p
 &gt;
END:VEVENT
END:VCALENDAR

