BEGIN:VCALENDAR
VERSION:2.0
PRODID:IEEE vTools.Events//EN
CALSCALE:GREGORIAN
BEGIN:VTIMEZONE
TZID:Asia/Kolkata
BEGIN:STANDARD
DTSTART:19451014T230000
TZOFFSETFROM:+0630
TZOFFSETTO:+0530
TZNAME:IST
END:STANDARD
END:VTIMEZONE
BEGIN:VEVENT
DTSTAMP:20230314T201747Z
UID:675C4EDC-300D-4961-9D53-2B89964FDDB1
DTSTART;TZID=Asia/Kolkata:20230206T150000
DTEND;TZID=Asia/Kolkata:20230206T160000
DESCRIPTION:&quot;Continuous learning is the minimum requirement for success in 
 any field &quot; ~Brian Tracy\n\nIEEE SCET SB and IEEE Computer Society\, GS is
  organising Expert Talk on &quot;Cybersecurity Awareness Lecture Series&quot;.\n\nVe
 nue: Tiffac Hall\nDate: 6 February 2023\nTime: 3:00 PM to 4:00 PM\n\nNo Re
 gistration Fees\nE-Certificate will be provided to particpants\n\nFor any 
 queries:\nProf. Vandana Joshi: +91 94277 92999\nAbanob Bhanu: +91 70447 75
 099\nAarya Shah: +91 +91 99799 41905\n\nSpeaker(s): Dr. Keyur Parmar\, \n\
 nBldg: Tiffac Hall\, Sarvajanik College of Engineering and Technology\, Su
 rat\, Gujarat\, India\, 395001
LOCATION:Bldg: Tiffac Hall\, Sarvajanik College of Engineering and Technolo
 gy\, Surat\, Gujarat\, India\, 395001
ORGANIZER:ieeescetsb@scet.ac.in
SEQUENCE:2
SUMMARY:Expert Talk on &quot;Cybersecurity Awareness Lecture Series&quot;
URL;VALUE=URI:https://events.vtools.ieee.org/m/346851
X-ALT-DESC:Description: &lt;br /&gt;&lt;p&gt;&quot;Continuous learning is the minimum requir
 ement for success in any field &quot; ~Brian Tracy&lt;/p&gt;\n&lt;p&gt;IEEE SCET SB and IEE
 E Computer Society\, GS is organising Expert Talk on &quot;Cybersecurity Awaren
 ess Lecture Series&quot;.&lt;/p&gt;\n&lt;p&gt;Venue: Tiffac Hall&lt;br /&gt;Date: 6 February 2023
 &lt;br /&gt;Time: 3:00 PM to 4:00 PM&lt;/p&gt;\n&lt;p&gt;No Registration Fees&lt;br /&gt;E-Certifi
 cate will be provided to particpants&lt;/p&gt;\n&lt;p&gt;For any queries:&lt;br /&gt;Prof. V
 andana Joshi: +91 94277 92999&lt;br /&gt;Abanob Bhanu: +91 70447 75099&lt;br /&gt;Aary
 a Shah: +91 +91 99799 41905&lt;/p&gt;
END:VEVENT
END:VCALENDAR

