BEGIN:VCALENDAR
VERSION:2.0
PRODID:IEEE vTools.Events//EN
CALSCALE:GREGORIAN
BEGIN:VTIMEZONE
TZID:America/New_York
BEGIN:DAYLIGHT
DTSTART:20230312T030000
TZOFFSETFROM:-0500
TZOFFSETTO:-0400
RRULE:FREQ=YEARLY;BYDAY=2SU;BYMONTH=3
TZNAME:EDT
END:DAYLIGHT
BEGIN:STANDARD
DTSTART:20221106T010000
TZOFFSETFROM:-0400
TZOFFSETTO:-0500
RRULE:FREQ=YEARLY;BYDAY=1SU;BYMONTH=11
TZNAME:EST
END:STANDARD
END:VTIMEZONE
BEGIN:VEVENT
DTSTAMP:20230212T144943Z
UID:1F7B4543-4D13-4FE0-9AA4-4B1B7D92E2EE
DTSTART;TZID=America/New_York:20230210T100000
DTEND;TZID=America/New_York:20230210T110000
DESCRIPTION:5G technology is in the process of deployment in Latin American
  countries. The presentation gives an introduction about main 5G challenge
 s and features involved\, with an explanation of differences between 4G\, 
 5G NSA and 5G SA architectures and both 5G phases pre-requirements that mu
 st be presented in order to have a proper registration between radio base 
 stations and UEs. Besides\, a roadmap about Latin America deployment count
 ries\, 5G NSA/SA technologies\, NR bands and ENDC most common combinations
  deployed in Latin America is presented\, and some activities performed in
  the SIDIA laboratory for 5G KPIs and smartphone feature testing are shown
  in the presentation. Finishing with tips and suggestions about most neede
 d skills are searched in order to work as a 5G Protocol Engineer\n\nSpeake
 r(s): Gidy Florez Navarro\, \, Ph.D.\, \n\nVirtual: https://events.vtools.
 ieee.org/m/346898
LOCATION:Virtual: https://events.vtools.ieee.org/m/346898
ORGANIZER:ieeeprcsection@gmail.com
SEQUENCE:1
SUMMARY:5G technology: the process of deployment in Latin American countrie
 s
URL;VALUE=URI:https://events.vtools.ieee.org/m/346898
X-ALT-DESC:Description: &lt;br /&gt;&lt;p class=&quot;_04xlpA direction-ltr align-justify
  para-style-body&quot;&gt;&lt;span class=&quot;S1PPyQ&quot;&gt;5G technology is in the process of 
 deployment in Latin American countries. The presentation gives an introduc
 tion about main 5G challenges and features involved\, with an explanation 
 of differences between 4G\, 5G NSA and 5G SA architectures and both 5G pha
 ses pre-requirements that must be presented in order to have a proper regi
 stration between radio base stations and UEs. Besides\, a roadmap about La
 tin America deployment countries\, 5G NSA/SA technologies\, NR bands and E
 NDC most common combinations deployed in Latin America is presented\, and 
 some activities performed in the SIDIA laboratory for 5G KPIs and smartpho
 ne feature testing are shown in the presentation. Finishing with tips and 
 suggestions about most needed skills are searched in order to work as a 5G
  Protocol Engineer&lt;/span&gt;&lt;/p&gt;
END:VEVENT
END:VCALENDAR

