BEGIN:VCALENDAR
VERSION:2.0
PRODID:IEEE vTools.Events//EN
CALSCALE:GREGORIAN
BEGIN:VTIMEZONE
TZID:Canada/Eastern
BEGIN:DAYLIGHT
DTSTART:20230312T030000
TZOFFSETFROM:-0500
TZOFFSETTO:-0400
RRULE:FREQ=YEARLY;BYDAY=2SU;BYMONTH=3
TZNAME:EDT
END:DAYLIGHT
BEGIN:STANDARD
DTSTART:20221106T010000
TZOFFSETFROM:-0400
TZOFFSETTO:-0500
RRULE:FREQ=YEARLY;BYDAY=1SU;BYMONTH=11
TZNAME:EST
END:STANDARD
END:VTIMEZONE
BEGIN:VEVENT
DTSTAMP:20230203T171644Z
UID:DE3C9D20-AEC1-4110-930C-6F5CBCEEF016
DTSTART;TZID=Canada/Eastern:20230203T110000
DTEND;TZID=Canada/Eastern:20230203T120000
DESCRIPTION:Discussion about Affinity groups in past and future\n\nRoom: J2
 33A\, Bldg: J\, Humber College\, 205 Humber College Blvd\, Etobicoke\, Ont
 ario\, Canada\, M9W 5L7
LOCATION:Room: J233A\, Bldg: J\, Humber College\, 205 Humber College Blvd\,
  Etobicoke\, Ontario\, Canada\, M9W 5L7
ORGANIZER:mdc_on_ca@hotmail.com
SEQUENCE:2
SUMMARY:Humber IEEE WIE-affinity groups Admin Meeting
URL;VALUE=URI:https://events.vtools.ieee.org/m/347003
X-ALT-DESC:Description: &lt;br /&gt;&lt;p&gt;Discussion about Affinity groups in past a
 nd future&lt;/p&gt;
END:VEVENT
END:VCALENDAR

