BEGIN:VCALENDAR
VERSION:2.0
PRODID:IEEE vTools.Events//EN
CALSCALE:GREGORIAN
BEGIN:VTIMEZONE
TZID:America/Los_Angeles
BEGIN:DAYLIGHT
DTSTART:20230312T030000
TZOFFSETFROM:-0800
TZOFFSETTO:-0700
RRULE:FREQ=YEARLY;BYDAY=2SU;BYMONTH=3
TZNAME:PDT
END:DAYLIGHT
BEGIN:STANDARD
DTSTART:20231105T010000
TZOFFSETFROM:-0700
TZOFFSETTO:-0800
RRULE:FREQ=YEARLY;BYDAY=1SU;BYMONTH=11
TZNAME:PST
END:STANDARD
END:VTIMEZONE
BEGIN:VEVENT
DTSTAMP:20230321T180120Z
UID:1405708B-8CF9-4B00-A50E-A83ED72DA85C
DTSTART;TZID=America/Los_Angeles:20230318T083000
DTEND;TZID=America/Los_Angeles:20230318T150000
DESCRIPTION:San Diego Expanding Your Horizons (EYH)-- Hands-on\, in person 
 event will be held on March 18 in San Diego on campus at the University of
  San Diego.\n\nWorkshop presenter applications - closed on January 27\, 20
 23. Some volunteer positions still open.\nMentors to guide small cohorts o
 f girls on their day&#39;s activities still needed. Apply online by February 2
 3\, 2023.\n\nSpread the word and register your own young student today. Sa
 n Diego EYH is designed for 6-10th grade young women to learn about STEM c
 areers. This one-day Saturday science\, technology\, engineering and math 
 (STEM) conference is held on campus at the University of San Diego for you
 ng women in grades 6-10 and brings a full day of activities\, including th
 ree hands-on\, career-based workshops to engage and inspire the next gener
 ation of San Diego STEM workforce with biology\, chemistry\, programming\,
  and engineering.\n\nPre-registration required. https://eyhsandiego.org/ho
 me/\n\nRegister grade 6-10 student participants via the PURPLE registratio
 n button found at this link: for only $30 per student if done by February 
 23\, 2023.\n(San Diego EYH is a non-profit charitable\, educational organi
 zation that does not discriminate. Financial waivers available if needed.)
 \n\nCo-sponsored by: San Diego Expanding Your Horizons \n\nAgenda: \nThis 
 year SDEYH will be back to in person workshops – participants will trave
 l with groups of their peers led by college aged mentors and will attend t
 hree different workshops highlighting STEM career topics. Lunch and fun ar
 e provided! For questions regarding our STEM event\, please contact us at 
 conference@eyhsandiego.org. Space is limited this year\, so register early
 !\n\nBldg: University of San Diego \, 5998 Alcala Park\, San Diego\, Calif
 ornia\, United States\, 92111
LOCATION:Bldg: University of San Diego \, 5998 Alcala Park\, San Diego\, Ca
 lifornia\, United States\, 92111
ORGANIZER:K.kramer@ieee.org
SEQUENCE:4
SUMMARY:San Diego Expanding Your Horizons - STEM Day for Girls Grades 6-10
URL;VALUE=URI:https://events.vtools.ieee.org/m/347110
X-ALT-DESC:Description: &lt;br /&gt;&lt;p&gt;San Diego Expanding Your Horizons (EYH)-- 
 Hands-on\, in person event will be held on March 18 in San Diego on campus
  at the University of San Diego.&lt;/p&gt;\n&lt;p&gt;Workshop presenter applications -
  &amp;nbsp\;closed on January 27\, 2023. Some volunteer positions still open.&lt;
 br /&gt;Mentors to guide small cohorts of girls on their day&#39;s activities sti
 ll needed. &amp;nbsp\;Apply online by February 23\, 2023.&lt;/p&gt;\n&lt;p&gt;&lt;span style=
 &quot;background-color: #bfedd2\;&quot;&gt;&lt;strong&gt;Spread the word and register your ow
 n young student today. San Diego EYH is designed for 6-10th grade young wo
 men to learn about STEM careers.&lt;/strong&gt;&lt;/span&gt; This one-day Saturday sci
 ence\, technology\, engineering and math (STEM) conference is held on camp
 us at the University of San Diego for young women in grades 6-10 and bring
 s a full day of activities\, including three hands-on\, career-based works
 hops to engage and inspire the next generation of San Diego STEM workforce
  with biology\, chemistry\, programming\, and engineering.&amp;nbsp\;&lt;/p&gt;\n&lt;p&gt;
 Pre-registration required. &lt;a href=&quot;https://eyhsandiego.org/home/&quot;&gt;https:/
 /eyhsandiego.org/home/&lt;/a&gt;&lt;/p&gt;\n&lt;p&gt;Register grade 6-10 student participant
 s via the PURPLE registration button found at this link: for only $30 per 
 student if done by February 23\, 2023.&amp;nbsp\;&lt;br /&gt;(San Diego EYH is a non
 -profit charitable\, educational organization that does not discriminate. 
 Financial waivers available if needed.)&amp;nbsp\;&lt;/p&gt;&lt;br /&gt;&lt;br /&gt;Agenda: &lt;br 
 /&gt;&lt;p class=&quot;has-medium-font-size&quot;&gt;This year SDEYH &amp;nbsp\;will be back to i
 n person workshops &amp;ndash\; participants will travel with groups of their 
 peers led by college aged mentors and will attend three different workshop
 s highlighting STEM career topics. Lunch and fun are provided! &amp;nbsp\; For
  questions regarding our STEM event\, please contact us at conference@eyhs
 andiego.org. Space is limited this year\, so register early!&lt;/p&gt;
END:VEVENT
END:VCALENDAR

