BEGIN:VCALENDAR
VERSION:2.0
PRODID:IEEE vTools.Events//EN
CALSCALE:GREGORIAN
BEGIN:VTIMEZONE
TZID:Europe/Madrid
BEGIN:DAYLIGHT
DTSTART:20230326T030000
TZOFFSETFROM:+0100
TZOFFSETTO:+0200
RRULE:FREQ=YEARLY;BYDAY=-1SU;BYMONTH=3
TZNAME:CEST
END:DAYLIGHT
BEGIN:STANDARD
DTSTART:20221030T020000
TZOFFSETFROM:+0200
TZOFFSETTO:+0100
RRULE:FREQ=YEARLY;BYDAY=-1SU;BYMONTH=10
TZNAME:CET
END:STANDARD
END:VTIMEZONE
BEGIN:VEVENT
DTSTAMP:20230228T161817Z
UID:600A8653-BE71-4754-9E96-9C7B1C4D6A87
DTSTART;TZID=Europe/Madrid:20230224T130000
DTEND;TZID=Europe/Madrid:20230224T140000
DESCRIPTION:En este seminario se presentará el radar de onda milimétrica\
 , abordando su fundamento teórico e introduciendo algunas de sus líneas 
 de investigación actuales. Además\, se guiará al oyente por el proceso 
 de desarrollo de una aplicación\, desde la elección del dispositivo adec
 uado hasta su software de configuración y uso.\n\nSpeaker(s): José Anton
 io Paredes Moreno\, \n\nAgenda: \n13:00h: Presentación\n\n13:05h-14:00h -
 -&gt; Conferencia con tiempo para cuestiones al final\n\nVirtual: https://eve
 nts.vtools.ieee.org/m/347163
LOCATION:Virtual: https://events.vtools.ieee.org/m/347163
ORGANIZER:jesus.urena@uah.es
SEQUENCE:6
SUMMARY:&quot;El radar de onda milimétrica: fundamentos\, metodología y aplica
 ciones&quot;
URL;VALUE=URI:https://events.vtools.ieee.org/m/347163
X-ALT-DESC:Description: &lt;br /&gt;&lt;p&gt;En este seminario se presentar&amp;aacute\; el
  radar de onda milim&amp;eacute\;trica\, abordando su fundamento te&amp;oacute\;ri
 co e introduciendo algunas de sus l&amp;iacute\;neas de investigaci&amp;oacute\;n 
 actuales. Adem&amp;aacute\;s\, se guiar&amp;aacute\; al oyente por el proceso de d
 esarrollo de una aplicaci&amp;oacute\;n\, desde la elecci&amp;oacute\;n del dispos
 itivo adecuado hasta su software de configuraci&amp;oacute\;n y uso.&lt;/p&gt;&lt;br /&gt;
 &lt;br /&gt;Agenda: &lt;br /&gt;&lt;p&gt;13:00h: Presentaci&amp;oacute\;n&lt;/p&gt;\n&lt;p&gt;13:05h-14:00h 
 --&amp;gt\; Conferencia con tiempo para cuestiones al final&lt;/p&gt;
END:VEVENT
END:VCALENDAR

