BEGIN:VCALENDAR
VERSION:2.0
PRODID:IEEE vTools.Events//EN
CALSCALE:GREGORIAN
BEGIN:VTIMEZONE
TZID:Asia/Kolkata
BEGIN:STANDARD
DTSTART:19451014T230000
TZOFFSETFROM:+0630
TZOFFSETTO:+0530
TZNAME:IST
END:STANDARD
END:VTIMEZONE
BEGIN:VEVENT
DTSTAMP:20230326T061653Z
UID:11A025D5-7A32-426E-A9BE-3D23183E8CC0
DTSTART;TZID=Asia/Kolkata:20230207T203000
DTEND;TZID=Asia/Kolkata:20230207T213000
DESCRIPTION:Tuesday Talks by students.\n\nSpeaker(s): K. Manasa\, \n\nAgend
 a: \nStudent members will share their views on general topics with the hel
 p of a presentation\n\nVirtual: https://events.vtools.ieee.org/m/347320
LOCATION:Virtual: https://events.vtools.ieee.org/m/347320
ORGANIZER:ieeervr@gmail.com
SEQUENCE:6
SUMMARY:TUESDAY TALKS
URL;VALUE=URI:https://events.vtools.ieee.org/m/347320
X-ALT-DESC:Description: &lt;br /&gt;&lt;p&gt;Tuesday Talks by students.&lt;/p&gt;&lt;br /&gt;&lt;br /&gt;
 Agenda: &lt;br /&gt;&lt;p&gt;Student members will share their views on general topics 
 with the help of a presentation&lt;/p&gt;
END:VEVENT
END:VCALENDAR

