BEGIN:VCALENDAR
VERSION:2.0
PRODID:IEEE vTools.Events//EN
CALSCALE:GREGORIAN
BEGIN:VTIMEZONE
TZID:America/New_York
BEGIN:DAYLIGHT
DTSTART:20230312T030000
TZOFFSETFROM:-0500
TZOFFSETTO:-0400
RRULE:FREQ=YEARLY;BYDAY=2SU;BYMONTH=3
TZNAME:EDT
END:DAYLIGHT
BEGIN:STANDARD
DTSTART:20221106T010000
TZOFFSETFROM:-0400
TZOFFSETTO:-0500
RRULE:FREQ=YEARLY;BYDAY=1SU;BYMONTH=11
TZNAME:EST
END:STANDARD
END:VTIMEZONE
BEGIN:VEVENT
DTSTAMP:20230207T024723Z
UID:CB0ED1F5-4544-4DE1-9126-BF4F92774D6D
DTSTART;TZID=America/New_York:20230206T180000
DTEND;TZID=America/New_York:20230206T200000
DESCRIPTION:All IEEE LI Members were invited (with guest) to this IEEE LI N
 etworking event.\n\n- Relaxed\, informal environment with a variety of foo
 d all night\n- No need to be shy – each guest is personally greeted upon
  arrival and all guests wear a name badge making it easy to start a conver
 sation!\n- Catch up with friends and colleagues.\n- Meet fellow engineers 
 that face the same challenges you do.\n- Students welcome – meet student
 s from other universities and chat with practicing engineers.\n- Cash bar 
 with 2 for 1 drink specials on house wines\, house drinks and domestic tap
  beers.\n\nBldg: Chili’s\, 901 Route 110\, Farmingdale\, New York\, Unit
 ed States\, 11735
LOCATION:Bldg: Chili’s\, 901 Route 110\, Farmingdale\, New York\, United 
 States\, 11735
ORGANIZER:colotti@ieee.org
SEQUENCE:0
SUMMARY:IEEE LI Social
URL;VALUE=URI:https://events.vtools.ieee.org/m/347393
X-ALT-DESC:Description: &lt;br /&gt;&lt;p&gt;All IEEE LI Members were invited (with gue
 st) to this IEEE LI Networking event.&lt;/p&gt;\n&lt;p&gt;- Relaxed\, informal environ
 ment with a variety of food all night&lt;br /&gt;- No need to be shy &amp;ndash\; ea
 ch guest is personally greeted upon arrival and all guests wear a name bad
 ge making it easy to start a conversation!&lt;br /&gt;- Catch up with friends an
 d colleagues.&lt;br /&gt;- Meet fellow engineers that face the same challenges y
 ou do.&lt;br /&gt;- Students welcome &amp;ndash\; meet students from other universit
 ies and chat with practicing engineers.&lt;br /&gt;- Cash bar with 2 for 1 drink
  specials on house wines\, house drinks and domestic tap beers.&lt;/p&gt;\n&lt;p&gt;&amp;n
 bsp\;&lt;/p&gt;\n&lt;p&gt;&lt;br /&gt;&lt;br /&gt;&lt;/p&gt;
END:VEVENT
END:VCALENDAR

