BEGIN:VCALENDAR
VERSION:2.0
PRODID:IEEE vTools.Events//EN
CALSCALE:GREGORIAN
BEGIN:VTIMEZONE
TZID:Asia/Kolkata
BEGIN:STANDARD
DTSTART:19451014T230000
TZOFFSETFROM:+0630
TZOFFSETTO:+0530
TZNAME:IST
END:STANDARD
END:VTIMEZONE
BEGIN:VEVENT
DTSTAMP:20230207T101445Z
UID:34EABD00-7E2C-455F-9068-0C5CAD4C1FD1
DTSTART;TZID=Asia/Kolkata:20230207T100000
DTEND;TZID=Asia/Kolkata:20230207T120000
DESCRIPTION:A session on How to write in AKTU semester exam for first year 
 students by Department of Applied Science and Humanities under umbrella of
  IEEE student Branch UCER.\n\nRoom: Auditorium\, Bldg: A-block\, United co
 llege of Engineering &amp; Research\, Prayagraj\, Uttar Pradesh\, India\, 2123
 01
LOCATION:Room: Auditorium\, Bldg: A-block\, United college of Engineering &amp;
  Research\, Prayagraj\, Uttar Pradesh\, India\, 212301
ORGANIZER:vineet.tiwari@united.edu.in
SEQUENCE:0
SUMMARY:Writing skill development
URL;VALUE=URI:https://events.vtools.ieee.org/m/347420
X-ALT-DESC:Description: &lt;br /&gt;&lt;p&gt;A session on How to write in AKTU semester
  exam for first year students by Department of Applied Science and Humanit
 ies under umbrella of IEEE student Branch UCER.&lt;/p&gt;
END:VEVENT
END:VCALENDAR

