BEGIN:VCALENDAR
VERSION:2.0
PRODID:IEEE vTools.Events//EN
CALSCALE:GREGORIAN
BEGIN:VTIMEZONE
TZID:America/Los_Angeles
BEGIN:DAYLIGHT
DTSTART:20230312T030000
TZOFFSETFROM:-0800
TZOFFSETTO:-0700
RRULE:FREQ=YEARLY;BYDAY=2SU;BYMONTH=3
TZNAME:PDT
END:DAYLIGHT
BEGIN:STANDARD
DTSTART:20221106T010000
TZOFFSETFROM:-0700
TZOFFSETTO:-0800
RRULE:FREQ=YEARLY;BYDAY=1SU;BYMONTH=11
TZNAME:PST
END:STANDARD
END:VTIMEZONE
BEGIN:VEVENT
DTSTAMP:20230311T233050Z
UID:0BF64689-84DE-4BA8-9208-53F90CA3421C
DTSTART;TZID=America/Los_Angeles:20230308T110000
DTEND;TZID=America/Los_Angeles:20230308T130000
DESCRIPTION:Distinguished Lecture by Prof. Sara Pozzi of Michigan Universit
 y.\n\nVirtual Only on Zoom\, please register to attend. No charge\n\nCo-sp
 onsored by: TRIUMF\n\nSpeaker(s): Dr Sara Pozzi\, \n\nVirtual: https://eve
 nts.vtools.ieee.org/m/347568
LOCATION:Virtual: https://events.vtools.ieee.org/m/347568
ORGANIZER:ahmed.hussein@unbc.ca
SEQUENCE:7
SUMMARY:Dual Particle (Neutron and Gamma) Imaging
URL;VALUE=URI:https://events.vtools.ieee.org/m/347568
X-ALT-DESC:Description: &lt;br /&gt;&lt;p&gt;Distinguished Lecture by Prof. Sara Pozzi 
 of Michigan University.&lt;/p&gt;\n&lt;p&gt;Virtual Only on Zoom\, please register to 
 attend. No charge&lt;/p&gt;
END:VEVENT
END:VCALENDAR

