BEGIN:VCALENDAR
VERSION:2.0
PRODID:IEEE vTools.Events//EN
CALSCALE:GREGORIAN
BEGIN:VTIMEZONE
TZID:America/Chicago
BEGIN:DAYLIGHT
DTSTART:20230312T030000
TZOFFSETFROM:-0600
TZOFFSETTO:-0500
RRULE:FREQ=YEARLY;BYDAY=2SU;BYMONTH=3
TZNAME:CDT
END:DAYLIGHT
BEGIN:STANDARD
DTSTART:20221106T010000
TZOFFSETFROM:-0500
TZOFFSETTO:-0600
RRULE:FREQ=YEARLY;BYDAY=1SU;BYMONTH=11
TZNAME:CST
END:STANDARD
END:VTIMEZONE
BEGIN:VEVENT
DTSTAMP:20230223T184958Z
UID:2BC896C7-6094-457B-AF26-7F3114D13995
DTSTART;TZID=America/Chicago:20230222T073000
DTEND;TZID=America/Chicago:20230222T140000
DESCRIPTION:In 2022 11 teams registered\, 8 teams participated with 1-3 peo
 ple per team with parents and teachers present.\n\nNearly 650 students fro
 m 29 different school districts are registered for the 42nd Annual Oklahom
 a Engineering Fair (2023).\n\nVolunteer and IEEE guest Registration is sti
 ll open.\n\nThis years Engineering Fair\, is sponsored by the IEEE OKC Sec
 tion Life Members and other local Societies via Oklahoma Engineering Found
 ation\, will be held at the Science Museum Oklahoma on Wednesday\, Februar
 y 22\, 2023. The Fair opens at 8:30 AM and ends at 2:00 PM. Parents and Un
 iversity Students that want to attend our Electrical Motor Contest Competi
 tion or any of the competitions are welcome. The Electric Motor Competitio
 n is to be held on the 2nd floor.\n\nIf your business would like to financ
 ially support our the Electric Motor competition let us know and and we wi
 ll post your Logo with our advertisements on the IEEE OKC Section website 
 and at the Electric Motor competition site.\n\nIEEE Motor Contest voluntee
 rs by registering will let Daniel Morehead &lt;moreheaddb@cox.net&gt; know they 
 will attend to support our competition so we can schedule 2 hours of suppo
 rt per person.\n\nPrizes and Distribution\n\n-\nThe Oklahoma Engineering F
 air is open to middle school and high school students attending\, public\,
  private\, parochial or home schools in Oklahoma.\n\nContest winners will 
 be announced at the Engineering Fair and the Engineering-Fair web page.\n\
 nVolunteers can support the competions in any of the following contests bu
 t this solitation is just for the Electric Motor Contest. Again we encoura
 ge parents and IEEE members to come and view these competitions.\n\nCompet
 itions:\n\n- 2022 Eiffel Tower Contest -\n- 2022 Electric Motor Contest -\
 n- 2022 Rubberband Powered Vehicle Contest -\n- 2022 Wacky WonderWorks Con
 test\n- 2022 Bridge Building Contest\n- 2022 Drone Obstacle Course Contest
 \n- 2022 Ping Pong Launcher Contest\n\nContact for the OEF Engineering Fai
 r organizational is 405 528-1435 by joining the &quot;Band&quot; on the OEF registra
 tion Page if you have any questions about the competition at https://oef.o
 rg/oklahoma-engineering-fair/.\n\nCo-sponsored by: Dan Moorehead\n\nAgenda
 : \nSetup competition Area 7:30 AM\nOpen Competition 8:30 AM\nClose Compet
 ition 1:00 PM\n\nBldg: Science Museum Oklahoma\, 2020 Remington Pl\, Oklah
 oma City\, Oklahoma\, United States\, 73111
LOCATION:Bldg: Science Museum Oklahoma\, 2020 Remington Pl\, Oklahoma City\
 , Oklahoma\, United States\, 73111
ORGANIZER:moreheaddb@cox.net
SEQUENCE:3
SUMMARY:OKC Section Engineering Fair - Motor Contest Reminder for Volunteer
 s 
URL;VALUE=URI:https://events.vtools.ieee.org/m/347910
X-ALT-DESC:Description: &lt;br /&gt;&lt;p&gt;In 2022 11 teams registered\, 8 teams part
 icipated with 1-3 people per team with parents and teachers present.&amp;nbsp\
 ;&lt;/p&gt;\n&lt;p&gt;Nearly 650 students from 29 different school districts are regis
 tered for the 42&lt;sup&gt;nd&lt;/sup&gt; Annual Oklahoma Engineering Fair (2023).&amp;nbs
 p\;&lt;/p&gt;\n&lt;p&gt;Volunteer and&amp;nbsp\; IEEE guest Registration is still open.&lt;/p
 &gt;\n&lt;p&gt;This years Engineering Fair\, is sponsored by the IEEE OKC Section L
 ife Members and other local Societies via Oklahoma Engineering Foundation\
 , will be held at the Science Museum Oklahoma on Wednesday\, February 22\,
  2023.&amp;nbsp\; The Fair opens at 8:30 AM and ends at 2:00 PM.&amp;nbsp\; &amp;nbsp\
 ;Parents and University Students that want to attend our Electrical Motor 
 Contest Competition or any of the competitions are welcome&lt;span class=&quot;u_N
  C_Z1VRpVF&quot;&gt;.&amp;nbsp\; The Electric Motor Competition is to be held on the 2
 nd floor.&amp;nbsp\; &lt;/span&gt;&lt;/p&gt;\n&lt;p&gt;&lt;span class=&quot;u_N C_Z1VRpVF&quot;&gt;If your busin
 ess would like to financially support our the Electric Motor competition l
 et us know and and we will post your Logo with our advertisements on the I
 EEE OKC Section website and at the Electric Motor competition site.&lt;/span&gt;
 &lt;/p&gt;\n&lt;p&gt;IEEE Motor Contest volunteers by registering will let Daniel More
 head &amp;lt\;moreheaddb@cox.net&amp;gt\;&lt;span class=&quot;u_N C_Z1VRpVF&quot;&gt; know they wi
 ll attend to support our competition so we can schedule 2 hours of support
  per person.&lt;/span&gt;&lt;/p&gt;\n&lt;p&gt;&lt;span class=&quot;u_N C_Z1VRpVF&quot;&gt;Prizes and Distrib
 ution&lt;/span&gt;&lt;/p&gt;\n&lt;ul&gt;\n&lt;li id=&quot;fo5li182&quot; class=&quot;notranslate first section
       &quot;&gt;\n&lt;section&gt;\n&lt;h3 id=&quot;title182&quot;&gt;The Oklahoma Engineering Fair is op
 en to middle school and high school students attending\, public\, private\
 , parochial or home schools in Oklahoma.&lt;/h3&gt;\n&lt;/section&gt;\n&lt;/li&gt;\n&lt;/ul&gt;\n&lt;
 p&gt;Contest winners will be announced at&amp;nbsp\; the Engineering Fair and the
  Engineering-Fair web page.&amp;nbsp\;&amp;nbsp\;&lt;/p&gt;\n&lt;p&gt;Volunteers can support t
 he competions in any of the following contests but this solitation is just
  for the Electric Motor Contest.&amp;nbsp\; Again we encourage parents and IEE
 E members to come and view these competitions.&amp;nbsp\;&lt;/p&gt;\n&lt;div class=&quot;art
 icle-header&quot;&gt;\n&lt;h1&gt;Competitions:&lt;/h1&gt;\n&lt;/div&gt;\n&lt;div&gt;\n&lt;ul&gt;\n&lt;li&gt;2022 Eiffe
 l Tower Contest -&lt;/li&gt;\n&lt;li&gt;2022 Electric Motor Contest -&amp;nbsp\;&lt;/li&gt;\n&lt;li
 &gt;2022 Rubberband Powered Vehicle Contest&amp;nbsp\; -&amp;nbsp\;&lt;/li&gt;\n&lt;li&gt;2022 Wa
 cky WonderWorks Contest&amp;nbsp\;&lt;/li&gt;\n&lt;li&gt;2022 Bridge Building Contest&amp;nbsp
 \;&lt;/li&gt;\n&lt;li&gt;2022 Drone Obstacle Course Contest&amp;nbsp\;&lt;/li&gt;\n&lt;li&gt;2022 Ping
  Pong Launcher Contest&lt;/li&gt;\n&lt;/ul&gt;\n&lt;p&gt;Contact for the OEF Engineering Fai
 r organizational&amp;nbsp\; is 405 528-1435 by joining the &quot;Band&quot; on the OEF r
 egistration Page if you have any questions about the competition at https:
 //oef.org/oklahoma-engineering-fair/.&lt;/p&gt;\n&lt;/div&gt;&lt;br /&gt;&lt;br /&gt;Agenda: &lt;br /
 &gt;&lt;p&gt;Setup competition Area 7:30 AM&lt;br /&gt;Open Competition 8:30 AM&lt;br /&gt;Clos
 e Competition 1:00 PM&lt;/p&gt;
END:VEVENT
END:VCALENDAR

