BEGIN:VCALENDAR
VERSION:2.0
PRODID:IEEE vTools.Events//EN
CALSCALE:GREGORIAN
BEGIN:VTIMEZONE
TZID:Asia/Kolkata
BEGIN:STANDARD
DTSTART:19451014T230000
TZOFFSETFROM:+0630
TZOFFSETTO:+0530
TZNAME:IST
END:STANDARD
END:VTIMEZONE
BEGIN:VEVENT
DTSTAMP:20230213T181447Z
UID:05272B59-9C1E-46C7-B470-FBCA26EF676E
DTSTART;TZID=Asia/Kolkata:20221114T180000
DTEND;TZID=Asia/Kolkata:20221119T200000
DESCRIPTION:Introduction\n\nFrom November 14\, 2022\, IEEE JUIT-SB held ses
 sions on graphic design. The speaker for the session was a senior member o
 f the club who has extensive experience in the field of graphic design. Th
 e purpose of the session was to provide members with an in-depth understan
 ding of the principles and techniques of graphic design and how they can b
 e applied to various projects.\n\nSession Overview\n\nThe speaker began th
 e sessions by providing a general introduction to graphic design and the h
 istory of the field. He then went on to discuss the key principles of grap
 hic design\, such as balance\, contrast\, hierarchy\, and repetition. He p
 rovided examples of how these principles can be applied to create effectiv
 e and visually appealing designs.\n\nOne of the highlights of these sessio
 n was the speaker&#39;s demonstration of how to use Adobe Illustrator\, one of
  the most popular graphic design software programs. He provided step-by-st
 ep instructions on how to create vector graphics\, work with layers\, and 
 use various tools and features of the software.\n\nThe speaker also discus
 sed the importance of color in graphic design and provided tips on how to 
 choose the right color palette for different projects. He also covered typ
 ography and how to choose the right typeface for different designs.\n\nInt
 eractive Discussion\n\nThroughout the sessions\, the speaker encouraged me
 mbers to ask questions and engage in a dialogue about graphic design. Many
  members had questions about specific techniques and how they could be app
 lied in their own work. Several doubt and challenge sessions were aldo hel
 d to help members with the issues they were facing and to test their skill
 s by re-creating or improving famous logos according to their imagination.
 \n\nThe speaker was highly knowledgeable and was able to provide in-depth 
 answers to the questions raised by the attendees. The discussion was livel
 y and provided members with a deeper understanding of the field of graphic
  design and its capabilities.\n\nConclusion\n\nThe graphic design session 
 was a great success\, providing members with an in-depth understanding of 
 the principles and techniques of graphic design and how they can be applie
 d to various projects. The speaker was highly knowledgeable and provided m
 any practical examples of how graphic design can be used in real-world app
 lications.\n\nOverall\, the session demonstrated the club&#39;s commitment to 
 promoting professional growth and development among its members. The club 
 looks forward to continuing to provide valuable technical sessions in the 
 future\n\nJaypee University of Information Technology\, Waknaghat\, Solan\
 , Waknaghat\, Himachal Pradesh\, India\, 173234
LOCATION:Jaypee University of Information Technology\, Waknaghat\, Solan\, 
 Waknaghat\, Himachal Pradesh\, India\, 173234
ORGANIZER:ieee.juit@juitsolan.in
SEQUENCE:0
SUMMARY:Graphic Design Sessions
URL;VALUE=URI:https://events.vtools.ieee.org/m/348369
X-ALT-DESC:Description: &lt;br /&gt;&lt;p&gt;Introduction&lt;/p&gt;\n&lt;p&gt;&amp;nbsp\;&lt;/p&gt;\n&lt;p&gt;From 
 November 14\, 2022\, IEEE JUIT-SB held sessions on graphic design. The spe
 aker for the session was a senior member of the club who has extensive exp
 erience in the field of graphic design. The purpose of the session was to 
 provide members with an in-depth understanding of the principles and techn
 iques of graphic design and how they can be applied to various projects.&lt;/
 p&gt;\n&lt;p&gt;&amp;nbsp\;&lt;/p&gt;\n&lt;p&gt;&amp;nbsp\;&lt;/p&gt;\n&lt;p&gt;Session Overview&lt;/p&gt;\n&lt;p&gt;&amp;nbsp\;&lt;/p
 &gt;\n&lt;p&gt;The speaker began the sessions by providing a general introduction t
 o graphic design and the history of the field. He then went on to discuss 
 the key principles of graphic design\, such as balance\, contrast\, hierar
 chy\, and repetition. He provided examples of how these principles can be 
 applied to create effective and visually appealing designs.&lt;/p&gt;\n&lt;p&gt;&amp;nbsp\
 ;&lt;/p&gt;\n&lt;p&gt;One of the highlights of these session was the speaker&#39;s demonst
 ration of how to use Adobe Illustrator\, one of the most popular graphic d
 esign software programs. He provided step-by-step instructions on how to c
 reate vector graphics\, work with layers\, and use various tools and featu
 res of the software.&lt;/p&gt;\n&lt;p&gt;&amp;nbsp\;&lt;/p&gt;\n&lt;p&gt;The speaker also discussed th
 e importance of color in graphic design and provided tips on how to choose
  the right color palette for different projects. He also covered typograph
 y and how to choose the right typeface for different designs.&lt;/p&gt;\n&lt;p&gt;&amp;nbs
 p\;&lt;/p&gt;\n&lt;p&gt;&amp;nbsp\;&lt;/p&gt;\n&lt;p&gt;Interactive Discussion&lt;/p&gt;\n&lt;p&gt;&amp;nbsp\;&lt;/p&gt;\n&lt;p
 &gt;Throughout the sessions\, the speaker encouraged members to ask questions
  and engage in a dialogue about graphic design. Many members had questions
  about specific techniques and how they could be applied in their own work
 . Several doubt and challenge sessions were aldo held to help members with
  the issues they were facing and to test their skills by re-creating or im
 proving famous logos according to their imagination.&lt;/p&gt;\n&lt;p&gt;&amp;nbsp\;&lt;/p&gt;\n
 &lt;p&gt;The speaker was highly knowledgeable and was able to provide in-depth a
 nswers to the questions raised by the attendees. The discussion was lively
  and provided members with a deeper understanding of the field of graphic 
 design and its capabilities.&lt;/p&gt;\n&lt;p&gt;&amp;nbsp\;&lt;/p&gt;\n&lt;p&gt;&amp;nbsp\;&lt;/p&gt;\n&lt;p&gt;&amp;nbsp
 \;&lt;/p&gt;\n&lt;p&gt;&amp;nbsp\;&lt;/p&gt;\n&lt;p&gt;&amp;nbsp\;&lt;/p&gt;\n&lt;p&gt;&amp;nbsp\;&lt;/p&gt;\n&lt;p&gt;&amp;nbsp\;&lt;/p&gt;\n&lt;p
 &gt;&amp;nbsp\;&lt;/p&gt;\n&lt;p&gt;Conclusion&lt;/p&gt;\n&lt;p&gt;&amp;nbsp\;&lt;/p&gt;\n&lt;p&gt;The graphic design ses
 sion was a great success\, providing members with an in-depth understandin
 g of the principles and techniques of graphic design and how they can be a
 pplied to various projects. The speaker was highly knowledgeable and provi
 ded many practical examples of how graphic design can be used in real-worl
 d applications.&lt;/p&gt;\n&lt;p&gt;&amp;nbsp\;&lt;/p&gt;\n&lt;p&gt;Overall\, the session demonstrated
  the club&#39;s commitment to promoting professional growth and development am
 ong its members. The club looks forward to continuing to provide valuable 
 technical sessions in the future&lt;/p&gt;
END:VEVENT
END:VCALENDAR

