BEGIN:VCALENDAR
VERSION:2.0
PRODID:IEEE vTools.Events//EN
CALSCALE:GREGORIAN
BEGIN:VTIMEZONE
TZID:America/Los_Angeles
BEGIN:DAYLIGHT
DTSTART:20230312T030000
TZOFFSETFROM:-0800
TZOFFSETTO:-0700
RRULE:FREQ=YEARLY;BYDAY=2SU;BYMONTH=3
TZNAME:PDT
END:DAYLIGHT
BEGIN:STANDARD
DTSTART:20231105T010000
TZOFFSETFROM:-0700
TZOFFSETTO:-0800
RRULE:FREQ=YEARLY;BYDAY=1SU;BYMONTH=11
TZNAME:PST
END:STANDARD
END:VTIMEZONE
BEGIN:VEVENT
DTSTAMP:20230510T154546Z
UID:D75578C5-1D65-4444-8FF7-54C033D70754
DTSTART;TZID=America/Los_Angeles:20230411T070000
DTEND;TZID=America/Los_Angeles:20230412T130000
DESCRIPTION:This program was designed by the IEEE Seattle EMC Chapter and t
 he Antenna Measurement Techniques Association (AMTA) to bring the latest i
 nspired technology to the Pacific Northwest on Antenna Design as well as A
 ntenna\, 5G\, EMC\, and Wireless Test and Measurement Techniques for indus
 try applications. Invited experts in industry\, government\, and academia 
 will share practical information on various topics in an extended presenta
 tion format. This allows a thorough discussion of each topic and provides 
 the opportunity for extended questions and answers. The “hands-on” qua
 lity of the presentations enables the registrant to learn useful informati
 on that can be used on the job – in the “real world.”\n\nBack by pop
 ular demand\, the renowned Professor Yahya Rahmat-Samii of University of C
 alifornia\, Los Angeles (UCLA)\, IEEE Fellow\, will provide a four-hour 
 “mini short course” to begin the program on April 11. He will discuss 
 “The Art\, Science and Engineering of Modern Antennas: Measurements from
  Marconi’s First Measurements to Today’s Amazing Advances.”\n\nMany 
 exhibitors will showcase their latest offerings in 5G\, Antenna and EMC re
 lated products and services on Tuesday\, April 11\; the day concludes with
  a networking &quot;Happy Hour&quot; reception. All pre-registered attendees and exh
 ibitors are invited to attend and informally visit with the speakers and e
 ach other!\n\nOn Wednesday morning\, April 12\, an interactive half-day wo
 rkshop is planned complete with lectures and LIVE demos.\n\nIn addition to
  the technical program\, a technical tour is planned for Wednesday afterno
 on\, April 12\, 2023\, following the workshop. Registrants of the April 11
 -12 event are eligible to attend a technical tour of the newly opened Dual
  Robotic Antenna Measurement System (DRAMS) at Boeing Seattle. Tour attend
 ees will see Boeing’s “Antenna Lab of the Future” that enables drama
 tically faster\, more accurate antenna testing results. You can learn more
  about the DRAMS chamber [here](https://www.boeing.com/features/innovation
 -quarterly/2022/11/robot-room-video.page). Please note the tour is tentati
 ve at this point and will be held based upon sufficient interest.\n\nSee t
 he complete technical program with daily schedule\, speaker bios\, present
 ation abstracts\, venue/parking info\, registration fees\, and more at www
 .amta.org/AMTA2023Regional.\n\nIf you are interested in reserving a tablet
 op display\, please note tabletop spaces are limited and will be available
  on a first come\, first served basis. See the Exhibitor and Sponsor Oppor
 tunities [here](https://www.amta.org/files/Meetings/2023%20-%20Regional/20
 23_AMTA_Prospectus.pdf) for more information.\n\nCo-sponsored by: Antenna 
 Measurement Techniques Association (AMTA)\n\nAgenda: \nTUESDAY\, APRIL 11\
 , 2023\n\n7:00 am\n\nOn-Site Registration\n\n8:00 am\n\nIEEE/AMTA Welcome 
 – Dennis Lewis\, Boeing\, IEEE Seattle EMC Chapter Chair and AMTA 2023 H
 ost\n\n8:10 am\n\nThe Art\, Science and Engineering of Modern Antenna Meas
 urements and Diagnostics: From Marconi’s First Measurements to Today’s
  Amazing Advances by Prof. Yahya Rahmat-Samii\, University of California\,
  Los Angeles\n\n10:00 am\n\nBREAK\n\n10:20 am\n\nContinuation of above tut
 orial presentation by Prof. Rahmat-Samii\, University of California\, Los 
 Angeles (UCLA)\n\n12:15 pm\n\nLUNCH\n\n1:00 pm\n\nMeasurements and Modelin
 g of 5G FR2 (&gt; 24 GHz) Systems: Challenges\, Observations\, and Explanatio
 ns Even Management Can Understand by John Ladbury\, National Institute of 
 Standards and Technology (NIST)\n\n1:45 pm\n\nAntenna Simulation and the D
 ynamic Mission: A Case Study in Airborne Radar Altimeter and 5G Coexistenc
 e by Jason Bommer\, Ansys\n\n2:30 pm\n\nBREAK\n\n2:50 pm\n\nDynamic Channe
 l Emulation for Spacecraft Test and Integration by David G. Michelson\, Th
 e University of British Columbia (UBC)\n\n3:30 pm\n\nAntenna Placement on 
 Complex Platforms – Getting the Most from Measurements and Simulations b
 y Lars Foged\, Microwave Vision Group (MVG)\n\n4:15 pm\n\nAnalyzing Ground
 -Based Electronically Steerable Arrays (ESA) Used for Communications with 
 Non-Geo Stationary (NGSO) Satellites by David R. Novotny\, Nicholas Christ
 ensen\, Shanay Kothari\, and Leszek Langiewicz\, Space Exploration Technol
 ogies Corporation (SpaceX)\n\n5:00 pm\n\nClosing Comments: Preview of Apri
 l 12 Workshop Technical Program and [AMTA 2023 Symposium](https://2023.amt
 a.org/) on October 8-13 by Dennis Lewis\, Boeing\n\n5:15 – 6:15 pm\n\nRE
 CEPTION - &quot;Happy Hour&quot; Networking with Attendees\, Speakers\, and Exhibito
 rs\n\nWEDNESDAY\, APRIL 12\, 2023\n\nThe Workshop is scheduled from 8:00 a
 m to 1:00 pm and features speakers Dennis Lewis of Boeing\, Seattle\; Zhon
 g Chen of ETS-Lindgren\, Cedar Park\, Texas\; and John Ladbury\, NIST\, Bo
 ulder\, Colorado. LIVE demos will complement the presentations.\n\nIn this
  hands-on\, interactive workshop\, attendees will learn:\n\n- Complex cavi
 ty evaluations (aircraft\, rockets\, satellites)\n- Methods for evaluating
  paddles in chambers (with rigid and flexible walls)\, with a discussion o
 n the challenges and solutions\n- Standards update\, including soon to be 
 published/recently published related industry standards by IEEE and ANSC C
 63\n- Test environment evaluation/considerations\n- Novel data post-proces
 sing techniques\n- Uncertainty considerations to ensure accurate measureme
 nts\n\nSee the complete workshop program [here](https://www.amta.org/files
 /Meetings/2023%20-%20Regional/Workshop_Summary_April_12.pdf).\n\nHyatt Reg
 ency Lake Washington \, 1053 Lake Washington Blvd. North\, Renton \, Washi
 ngton\, United States\, 98056
LOCATION:Hyatt Regency Lake Washington \, 1053 Lake Washington Blvd. North\
 , Renton \, Washington\, United States\, 98056
ORGANIZER:j.n.oneil@ieee.org
SEQUENCE:15
SUMMARY:Antennas on the Move - In Rockets\, Planes\, and Satellites!
URL;VALUE=URI:https://events.vtools.ieee.org/m/348375
X-ALT-DESC:Description: &lt;br /&gt;&lt;p&gt;This program was designed by the &lt;strong&gt;I
 EEE Seattle EMC Chapter&lt;/strong&gt; and the &lt;strong&gt;Antenna Measurement Techn
 iques Association (AMTA)&lt;/strong&gt; to bring the latest inspired technology 
 to the Pacific Northwest on &lt;strong&gt;Antenna Design as well as Antenna\, 5G
 \, EMC\, and Wireless Test and Measurement Techniques&lt;/strong&gt; for industr
 y applications.&amp;nbsp\; Invited experts in industry\, government\, and acad
 emia will share practical information on various topics in an extended pre
 sentation format. This allows a thorough discussion of each topic and prov
 ides the opportunity for extended questions and answers. The &amp;ldquo\;hands
 -on&amp;rdquo\; quality of the presentations enables the registrant to learn u
 seful information that can be used on the job &amp;ndash\; in the &amp;ldquo\;real
  world.&amp;rdquo\;&amp;nbsp\;&lt;/p&gt;\n&lt;p&gt;Back by popular demand\, the renowned&amp;nbsp\
 ;&lt;strong&gt;Professor Yahya Rahmat-Samii of University of California\, Los An
 geles (UCLA)\, IEEE Fellow\, will provide a four-hour &amp;ldquo\;mini short c
 ourse&amp;rdquo\;&lt;/strong&gt;&amp;nbsp\;to begin the program on April 11.&amp;nbsp\; He w
 ill discuss &lt;strong&gt;&lt;em&gt;&amp;ldquo\;The Art\, Science and Engineering of Moder
 n Antennas: Measurements from Marconi&amp;rsquo\;s First Measurements to Today
 &amp;rsquo\;s Amazing Advances.&amp;rdquo\;&lt;/em&gt;&lt;/strong&gt;&lt;/p&gt;\n&lt;p&gt;Many exhibitors 
 will showcase their latest offerings in 5G\, Antenna and EMC related produ
 cts and services on Tuesday\, April 11\; the day concludes with a networki
 ng &quot;Happy Hour&quot; reception. All pre-registered attendees and exhibitors are
  invited to attend and informally visit with the speakers and each other!&amp;
 nbsp\;&lt;/p&gt;\n&lt;p&gt;On Wednesday morning\, April 12\, an interactive half-day w
 orkshop is planned complete with lectures and LIVE demos.&amp;nbsp\;&amp;nbsp\;&lt;/p
 &gt;\n&lt;p&gt;In addition to the technical program\, a technical tour is planned f
 or Wednesday afternoon\, April 12\, 2023\, following the workshop.&amp;nbsp\; 
 Registrants of the April 11-12 event are eligible to attend a technical to
 ur of the newly opened &lt;strong&gt;Dual Robotic Antenna Measurement System (DR
 AMS) at Boeing Seattle&lt;/strong&gt;.&amp;nbsp\; Tour attendees will see Boeing&amp;rsq
 uo\;s &amp;ldquo\;Antenna Lab of the Future&amp;rdquo\; that enables dramatically 
 faster\, more accurate antenna testing results.&amp;nbsp\; You can learn more 
 about the DRAMS chamber &lt;a href=&quot;https://www.boeing.com/features/innovatio
 n-quarterly/2022/11/robot-room-video.page&quot; target=&quot;_blank&quot; rel=&quot;noopener&quot;&gt;
 here&lt;/a&gt;.&amp;nbsp\; &lt;em&gt;Please note the tour is tentative at this point and w
 ill be held based upon sufficient interest.&lt;/em&gt;&lt;/p&gt;\n&lt;p&gt;See the complete 
 technical program with daily schedule\, speaker bios\, presentation abstra
 cts\, venue/parking info\, registration fees\, and more at www.amta.org/AM
 TA2023Regional.&lt;/p&gt;\n&lt;p&gt;If you are interested in reserving a tabletop disp
 lay\, please note tabletop spaces are limited and will be available on a f
 irst come\, first served basis. See the Exhibitor and Sponsor Opportunitie
 s &lt;a href=&quot;https://www.amta.org/files/Meetings/2023%20-%20Regional/2023_AM
 TA_Prospectus.pdf&quot;&gt;here&lt;/a&gt; for more information.&lt;/p&gt;\n&lt;p&gt;&amp;nbsp\;&lt;/p&gt;&lt;br /
 &gt;&lt;br /&gt;Agenda: &lt;br /&gt;&lt;p&gt;&lt;strong&gt;TUESDAY\, APRIL 11\, 2023&lt;/strong&gt;&lt;/p&gt;\n&lt;t
 able width=&quot;0&quot;&gt;\n&lt;tbody&gt;\n&lt;tr&gt;\n&lt;td width=&quot;84&quot;&gt;\n&lt;p&gt;&lt;strong&gt;7:00 am&lt;/stron
 g&gt;&lt;/p&gt;\n&lt;/td&gt;\n&lt;td width=&quot;876&quot;&gt;\n&lt;p&gt;On-Site Registration&lt;/p&gt;\n&lt;/td&gt;\n&lt;/tr&gt;
 \n&lt;tr&gt;\n&lt;td width=&quot;84&quot;&gt;\n&lt;p&gt;&lt;strong&gt;8:00 am&lt;/strong&gt;&lt;/p&gt;\n&lt;/td&gt;\n&lt;td width
 =&quot;876&quot;&gt;\n&lt;p&gt;IEEE/AMTA Welcome &amp;ndash\; Dennis Lewis\, Boeing\, IEEE Seattl
 e EMC Chapter Chair and AMTA 2023 Host&lt;/p&gt;\n&lt;/td&gt;\n&lt;/tr&gt;\n&lt;tr&gt;\n&lt;td width=
 &quot;84&quot;&gt;\n&lt;p&gt;&lt;strong&gt;8:10 am&lt;/strong&gt;&lt;/p&gt;\n&lt;/td&gt;\n&lt;td width=&quot;876&quot;&gt;\n&lt;p&gt;The Ar
 t\, Science and Engineering of Modern Antenna Measurements and Diagnostics
 : From Marconi&amp;rsquo\;s First Measurements to Today&amp;rsquo\;s Amazing Advan
 ces by Prof. Yahya Rahmat-Samii\, University of California\, Los Angeles&lt;/
 p&gt;\n&lt;/td&gt;\n&lt;/tr&gt;\n&lt;tr&gt;\n&lt;td width=&quot;84&quot;&gt;\n&lt;p&gt;&lt;strong&gt;10:00 am&lt;/strong&gt;&lt;/p&gt;\
 n&lt;/td&gt;\n&lt;td width=&quot;876&quot;&gt;\n&lt;p&gt;BREAK&lt;/p&gt;\n&lt;/td&gt;\n&lt;/tr&gt;\n&lt;tr&gt;\n&lt;td width=&quot;84&quot;
 &gt;\n&lt;p&gt;&lt;strong&gt;10:20 am&lt;/strong&gt;&lt;/p&gt;\n&lt;/td&gt;\n&lt;td width=&quot;876&quot;&gt;\n&lt;p&gt;Continuat
 ion of above tutorial presentation by Prof.&amp;nbsp\;Rahmat-Samii\, Universit
 y of California\, Los Angeles (UCLA)&lt;/p&gt;\n&lt;/td&gt;\n&lt;/tr&gt;\n&lt;tr&gt;\n&lt;td width=&quot;8
 4&quot;&gt;\n&lt;p&gt;&lt;strong&gt;12:15 pm&lt;/strong&gt;&lt;/p&gt;\n&lt;/td&gt;\n&lt;td width=&quot;876&quot;&gt;\n&lt;p&gt;LUNCH&lt;/
 p&gt;\n&lt;/td&gt;\n&lt;/tr&gt;\n&lt;tr&gt;\n&lt;td width=&quot;84&quot;&gt;\n&lt;p&gt;&lt;strong&gt;&amp;nbsp\; 1:00 pm&lt;/stron
 g&gt;&lt;/p&gt;\n&lt;/td&gt;\n&lt;td width=&quot;876&quot;&gt;\n&lt;p&gt;Measurements and Modeling of 5G FR2 (&amp;
 gt\; 24 GHz) Systems: Challenges\, Observations\, and Explanations Even Ma
 nagement Can Understand by John Ladbury\, National Institute of Standards 
 and Technology (NIST)&lt;/p&gt;\n&lt;/td&gt;\n&lt;/tr&gt;\n&lt;tr&gt;\n&lt;td width=&quot;84&quot;&gt;\n&lt;p&gt;&lt;strong
 &gt;1:45 pm&lt;/strong&gt;&lt;/p&gt;\n&lt;/td&gt;\n&lt;td width=&quot;876&quot;&gt;\n&lt;p&gt;Antenna Simulation and 
 the Dynamic Mission: A Case Study in Airborne Radar Altimeter and 5G Coexi
 stence by Jason Bommer\, Ansys&lt;/p&gt;\n&lt;/td&gt;\n&lt;/tr&gt;\n&lt;tr&gt;\n&lt;td width=&quot;84&quot;&gt;\n&lt;
 p&gt;&lt;strong&gt;2:30 pm&lt;/strong&gt;&lt;/p&gt;\n&lt;/td&gt;\n&lt;td width=&quot;876&quot;&gt;\n&lt;p&gt;BREAK&lt;/p&gt;\n&lt;/t
 d&gt;\n&lt;/tr&gt;\n&lt;tr&gt;\n&lt;td width=&quot;84&quot;&gt;\n&lt;p&gt;&lt;strong&gt;2:50 pm&lt;/strong&gt;&lt;/p&gt;\n&lt;/td&gt;\n
 &lt;td width=&quot;876&quot;&gt;\n&lt;p&gt;Dynamic Channel Emulation for Spacecraft Test and Int
 egration by David G. Michelson\, The University of British Columbia (UBC)&lt;
 /p&gt;\n&lt;/td&gt;\n&lt;/tr&gt;\n&lt;tr&gt;\n&lt;td width=&quot;84&quot;&gt;\n&lt;p&gt;&lt;strong&gt;3:30 pm&lt;/strong&gt;&lt;/p&gt;\
 n&lt;/td&gt;\n&lt;td width=&quot;876&quot;&gt;\n&lt;p&gt;Antenna Placement on Complex Platforms &amp;ndash
 \; Getting the Most from Measurements and Simulations by Lars Foged\, Micr
 owave Vision Group (MVG)&lt;/p&gt;\n&lt;/td&gt;\n&lt;/tr&gt;\n&lt;tr&gt;\n&lt;td width=&quot;84&quot;&gt;\n&lt;p&gt;&lt;str
 ong&gt;4:15 pm&lt;/strong&gt;&lt;/p&gt;\n&lt;/td&gt;\n&lt;td width=&quot;876&quot;&gt;\n&lt;p&gt;Analyzing Ground-Bas
 ed Electronically Steerable Arrays (ESA) Used for Communications with Non-
 Geo Stationary (NGSO) Satellites by David R. Novotny\, Nicholas Christense
 n\, Shanay Kothari\, and Leszek Langiewicz\, Space Exploration Technologie
 s Corporation (SpaceX) &amp;nbsp\; &amp;nbsp\; &amp;nbsp\; &amp;nbsp\; &amp;nbsp\; &amp;nbsp\; &amp;nb
 sp\; &amp;nbsp\; &amp;nbsp\; &amp;nbsp\; &amp;nbsp\; &amp;nbsp\; &amp;nbsp\; &amp;nbsp\; &amp;nbsp\; &amp;nbsp
 \; &amp;nbsp\; &amp;nbsp\; &amp;nbsp\; &amp;nbsp\; &amp;nbsp\; &amp;nbsp\; &amp;nbsp\; &amp;nbsp\; &amp;nbsp\;
  &amp;nbsp\; &amp;nbsp\; &amp;nbsp\; &amp;nbsp\; &amp;nbsp\; &amp;nbsp\; &amp;nbsp\; &amp;nbsp\; &amp;nbsp\; &amp;
 nbsp\; &amp;nbsp\; &amp;nbsp\; &amp;nbsp\; &amp;nbsp\; &amp;nbsp\; &amp;nbsp\; &amp;nbsp\;&lt;/p&gt;\n&lt;/td&gt;\
 n&lt;/tr&gt;\n&lt;tr&gt;\n&lt;td width=&quot;84&quot;&gt;\n&lt;p&gt;&lt;strong&gt;5:00 pm&lt;/strong&gt;&lt;/p&gt;\n&lt;/td&gt;\n&lt;td
  width=&quot;876&quot;&gt;\n&lt;p&gt;Closing Comments: Preview of April 12 Workshop Technical
  Program and &lt;a href=&quot;https://2023.amta.org/&quot;&gt;AMTA 2023 Symposium&lt;/a&gt; on O
 ctober 8-13 by Dennis Lewis\, Boeing&lt;/p&gt;\n&lt;/td&gt;\n&lt;/tr&gt;\n&lt;tr&gt;\n&lt;td width=&quot;8
 4&quot;&gt;\n&lt;p&gt;&lt;strong&gt;5:15 &amp;ndash\; 6:15 pm&lt;/strong&gt;&lt;/p&gt;\n&lt;/td&gt;\n&lt;td width=&quot;876&quot;
 &gt;\n&lt;p&gt;RECEPTION - &quot;Happy Hour&quot; Networking with Attendees\, Speakers\, and 
 Exhibitors&lt;/p&gt;\n&lt;/td&gt;\n&lt;/tr&gt;\n&lt;/tbody&gt;\n&lt;/table&gt;\n&lt;p&gt;&lt;strong&gt;WEDNESDAY\, A
 PRIL 12\, 2023&lt;/strong&gt;&lt;/p&gt;\n&lt;p&gt;The Workshop is scheduled from 8:00 am to 
 1:00 pm and features speakers Dennis Lewis of Boeing\, Seattle\; Zhong Che
 n of ETS-Lindgren\, Cedar Park\, Texas\; and John Ladbury\, NIST\, Boulder
 \, Colorado.&amp;nbsp\; LIVE demos will complement the presentations.&lt;/p&gt;\n&lt;p&gt;
 &lt;strong&gt;In this hands-on\, interactive workshop\, attendees will learn:&lt;/s
 trong&gt;&lt;/p&gt;\n&lt;ul&gt;\n&lt;li&gt;Complex cavity evaluations (aircraft\, rockets\, sat
 ellites)&lt;/li&gt;\n&lt;li&gt;Methods for evaluating paddles in chambers (with rigid 
 and flexible walls)\, with a discussion on the challenges and solutions&lt;/l
 i&gt;\n&lt;li&gt;Standards update\, including soon to be published/recently publish
 ed related industry standards by IEEE and ANSC C63&lt;/li&gt;\n&lt;li&gt;Test environm
 ent evaluation/considerations&lt;/li&gt;\n&lt;li&gt;Novel data post-processing techniq
 ues&lt;/li&gt;\n&lt;li&gt;Uncertainty considerations to ensure accurate measurements&amp;n
 bsp\;&amp;nbsp\;&lt;/li&gt;\n&lt;/ul&gt;\n&lt;p&gt;&lt;em&gt;&lt;strong&gt;See the complete workshop program
  &lt;a href=&quot;https://www.amta.org/files/Meetings/2023%20-%20Regional/Workshop
 _Summary_April_12.pdf&quot;&gt;here&lt;/a&gt;.&lt;/strong&gt;&lt;/em&gt;&lt;/p&gt;
END:VEVENT
END:VCALENDAR

