BEGIN:VCALENDAR
VERSION:2.0
PRODID:IEEE vTools.Events//EN
CALSCALE:GREGORIAN
BEGIN:VTIMEZONE
TZID:America/Santiago
BEGIN:DAYLIGHT
DTSTART:20220911T010000
TZOFFSETFROM:-0400
TZOFFSETTO:-0300
RRULE:FREQ=YEARLY;BYDAY=2SU;BYMONTH=9
TZNAME:-03
END:DAYLIGHT
BEGIN:STANDARD
DTSTART:20230401T230000
TZOFFSETFROM:-0300
TZOFFSETTO:-0400
RRULE:FREQ=YEARLY;BYDAY=1SA;BYMONTH=4
TZNAME:-04
END:STANDARD
END:VTIMEZONE
BEGIN:VEVENT
DTSTAMP:20230313T035823Z
UID:CA9B28F2-337A-443D-9D08-EB9065FA3C11
DTSTART;TZID=America/Santiago:20230221T170000
DTEND;TZID=America/Santiago:20230221T180000
DESCRIPTION:sesión de trabajo Directorio del Capítulo\n\nVirtual: https:/
 /events.vtools.ieee.org/m/348387
LOCATION:Virtual: https://events.vtools.ieee.org/m/348387
ORGANIZER:ras.centro@ieeechile.cl
SEQUENCE:4
SUMMARY:Sesión de trabajo ExCom IEEE RAS Chile Centro
URL;VALUE=URI:https://events.vtools.ieee.org/m/348387
X-ALT-DESC:Description: &lt;br /&gt;&lt;p&gt;sesi&amp;oacute\;n de trabajo Directorio del C
 ap&amp;iacute\;tulo&lt;/p&gt;
END:VEVENT
END:VCALENDAR

