BEGIN:VCALENDAR
VERSION:2.0
PRODID:IEEE vTools.Events//EN
CALSCALE:GREGORIAN
BEGIN:VTIMEZONE
TZID:America/Los_Angeles
BEGIN:DAYLIGHT
DTSTART:20230312T030000
TZOFFSETFROM:-0800
TZOFFSETTO:-0700
RRULE:FREQ=YEARLY;BYDAY=2SU;BYMONTH=3
TZNAME:PDT
END:DAYLIGHT
BEGIN:STANDARD
DTSTART:20231105T010000
TZOFFSETFROM:-0700
TZOFFSETTO:-0800
RRULE:FREQ=YEARLY;BYDAY=1SU;BYMONTH=11
TZNAME:PST
END:STANDARD
END:VTIMEZONE
BEGIN:VEVENT
DTSTAMP:20230320T164347Z
UID:7C92E966-48AF-4E74-B9A3-3F487B1C3F62
DTSTART;TZID=America/Los_Angeles:20230317T150000
DTEND;TZID=America/Los_Angeles:20230317T163000
DESCRIPTION:Join us for our IEEE St. Patty&#39;s Day networking Event. Meet you
 r fellow colleagues\, find out who is hiring\, new projects in your indust
 ry\, create the alliance and join the Consortium. First Guinness is on the
  House!\n\n[St. Patrick&#39;s Day | Things to Do from NowPlayingNashville.com]
 \n\nCo-sponsored by: IEEE Power and Energy Society\n\nAgenda: \n3:00 pm PD
 T IEEE Announcements\n3:02 pm PDT Meet the Team\n3:04 pm PDT Order a Guinn
 ess and a corn beef and cabbage sandwich\n3:06 pm PDT Get to know the Team
 \n3:30 pm PDT Group Photo\n4:30 pm PDT Happy St. Patty Day\n\n21 Mercer St
 reet\, Seattle \, Washington\, United States\, 98109
LOCATION:21 Mercer Street\, Seattle \, Washington\, United States\, 98109
ORGANIZER:mike.brisbos@ieee.org
SEQUENCE:9
SUMMARY:IEEE Consultant Network Event - St. Patty&#39;s Day
URL;VALUE=URI:https://events.vtools.ieee.org/m/349631
X-ALT-DESC:Description: &lt;br /&gt;&lt;p&gt;Join us for our IEEE St. Patty&#39;s Day netwo
 rking Event. Meet your fellow colleagues\, find out who is hiring\, new pr
 ojects in your industry\, create the alliance and join the Consortium. Fir
 st Guinness is on the House!&lt;/p&gt;\n&lt;p&gt;&lt;img class=&quot;rg_i Q4LuWd&quot; src=&quot;https:/
 /encrypted-tbn0.gstatic.com/images?q=tbn:ANd9GcR_gNYQpVOzT3ZaIcILu1In6da7v
 cbMeQ-wXA&amp;amp\;usqp=CAU&quot; alt=&quot;St. Patrick&#39;s Day | Things to Do from NowPla
 yingNashville.com&quot; width=&quot;319&quot; height=&quot;158&quot; data-ils=&quot;4&quot; /&gt;&lt;/p&gt;&lt;br /&gt;&lt;br /
 &gt;Agenda: &lt;br /&gt;&lt;p&gt;3:00 pm PDT IEEE Announcements&lt;br /&gt;3:02 pm PDT Meet the
  Team&lt;br /&gt;3:04 pm PDT Order a Guinness and a corn beef and cabbage sandwi
 ch&lt;br /&gt;3:06 pm PDT Get to know the Team&lt;br /&gt;3:30 pm PDT Group Photo&lt;br /
 &gt;4:30 pm PDT Happy St. Patty Day&lt;/p&gt;
END:VEVENT
END:VCALENDAR

