BEGIN:VCALENDAR
VERSION:2.0
PRODID:IEEE vTools.Events//EN
CALSCALE:GREGORIAN
BEGIN:VTIMEZONE
TZID:US/Pacific
BEGIN:DAYLIGHT
DTSTART:20230312T030000
TZOFFSETFROM:-0800
TZOFFSETTO:-0700
RRULE:FREQ=YEARLY;BYDAY=2SU;BYMONTH=3
TZNAME:PDT
END:DAYLIGHT
BEGIN:STANDARD
DTSTART:20231105T010000
TZOFFSETFROM:-0700
TZOFFSETTO:-0800
RRULE:FREQ=YEARLY;BYDAY=1SU;BYMONTH=11
TZNAME:PST
END:STANDARD
END:VTIMEZONE
BEGIN:VEVENT
DTSTAMP:20230319T051721Z
UID:7FE1F821-A6A0-482B-9C94-D0B7EE0B2C1E
DTSTART;TZID=US/Pacific:20230315T173000
DTEND;TZID=US/Pacific:20230315T210000
DESCRIPTION:SDIEEE EXCOM Meeting\n\nExecutive Committee meeting to discuss 
 upcoming San Diego IEEE activities.\n\nAll IEEE members welcome to attend.
  Please RSVP.\n\n5:30 pm - 6:00 pm\, Networking and food\n\n6:00 pm - 7:30
  pm\, meeting (in person and remote)\n\nAgenda:\n\nApprove prior meeting m
 inutes\n\nStudent branch reports\n\nSection Officers Reports\n\nOld and ne
 w business\n\nAdjourn\n\nTo add to the agenda\, please email w5nyv@arrl.ne
 t.\n\nAgenda: \n\n\nBldg: Advanced Test Equipment Rentals\, 10401 Roselle 
 Street\, San Diego\, California\, United States\, 92121\, Virtual: https:/
 /events.vtools.ieee.org/m/349941
LOCATION:Bldg: Advanced Test Equipment Rentals\, 10401 Roselle Street\, San
  Diego\, California\, United States\, 92121\, Virtual: https://events.vtoo
 ls.ieee.org/m/349941
ORGANIZER:mountain.michelle@gmail.com
SEQUENCE:2
SUMMARY:2023 Monthly San Diego IEEE EXCOM - March Meeting
URL;VALUE=URI:https://events.vtools.ieee.org/m/349941
X-ALT-DESC:Description: &lt;br /&gt;&lt;table style=&quot;height: 283px\;&quot; width=&quot;979&quot;&gt;\n
 &lt;tbody&gt;\n&lt;tr&gt;\n&lt;td&gt;\n&lt;p&gt;&amp;nbsp\;&lt;strong&gt;SDIEEE EXCOM Meeting&lt;/strong&gt;&lt;/p&gt;\n
 &lt;/td&gt;\n&lt;/tr&gt;\n&lt;tr&gt;\n&lt;td&gt;\n&lt;p&gt;Executive Committee meeting to discuss upcomi
 ng San Diego IEEE activities.&amp;nbsp\;&lt;/p&gt;\n&lt;p&gt;All IEEE members welcome to a
 ttend.&amp;nbsp\;Please RSVP.&amp;nbsp\;&lt;/p&gt;\n&lt;div&gt;\n&lt;p&gt;5:30 pm - 6:00 pm\,&amp;nbsp\;
  &amp;nbsp\; Networking and food&lt;/p&gt;\n&lt;p&gt;6:00 pm - 7:30 pm\,&amp;nbsp\; &amp;nbsp\; me
 eting (in person and remote)&lt;/p&gt;\n&lt;p&gt;Agenda:&lt;/p&gt;\n&lt;p&gt;Approve prior meeting
  minutes&lt;/p&gt;\n&lt;p&gt;Student branch reports&lt;/p&gt;\n&lt;p&gt;Section Officers Reports&lt;b
 r /&gt;&lt;br /&gt;Old and new business&lt;br /&gt;&lt;br /&gt;Adjourn&amp;nbsp\;&lt;/p&gt;\n&lt;/div&gt;\n&lt;/td
 &gt;\n&lt;/tr&gt;\n&lt;tr&gt;\n&lt;td&gt;\n&lt;p&gt;&amp;nbsp\;To add to the agenda\, please email w5nyv@
 arrl.net.&amp;nbsp\; &amp;nbsp\;&lt;/p&gt;\n&lt;/td&gt;\n&lt;/tr&gt;\n&lt;/tbody&gt;\n&lt;/table&gt;\n&lt;p&gt;&amp;nbsp\;
 &lt;/p&gt;&lt;br /&gt;&lt;br /&gt;Agenda: &lt;br /&gt;&lt;p&gt;&amp;nbsp\;&lt;/p&gt;\n&lt;p&gt;&amp;nbsp\;&lt;/p&gt;
END:VEVENT
END:VCALENDAR

