BEGIN:VCALENDAR
VERSION:2.0
PRODID:IEEE vTools.Events//EN
CALSCALE:GREGORIAN
BEGIN:VTIMEZONE
TZID:Asia/Kolkata
BEGIN:STANDARD
DTSTART:19451014T230000
TZOFFSETFROM:+0630
TZOFFSETTO:+0530
TZNAME:IST
END:STANDARD
END:VTIMEZONE
BEGIN:VEVENT
DTSTAMP:20230502T191118Z
UID:CBB4D5CE-6460-4E39-B9FA-6DBC99E7A7B8
DTSTART;TZID=Asia/Kolkata:20230313T090000
DTEND;TZID=Asia/Kolkata:20230314T173000
DESCRIPTION:Providing courses and hands-on experience-based programs for sp
 ace explore uncharted fanatics and preparing young minds for uncharted cos
 mos.\n\nThe workshop is divided into 2 days\, each with 5+ hours of Theory
  &amp; Practical sessions. The specifics of the workshops that will be held on
  each day are listed below.\n\nDay 1 - Theory - Expert Talk by Prof. R.R E
 langovan\, Ex-ISRO Scientist\n\nTopic - Introduction to Satellites and Opp
 ortunities in the Space Sector and Satellite Industry.\n\nPractical - 1. S
 atellite Structural Composition\, Developing base\n\nStructure for CANSAT 
 Module and Payload.\n\n-  Designing a detailed Satellite structure with so
 ftware.\n\nDay 2. Theory - Introduction to avionics in space\, Satellite S
 ubsystem\, and Software Applications.\n\nPractical - Creating a rudimentar
 y circuitry system and manually testing the connections between the mother
 board\, the sensors\, and the BUS.\n\nDay 2 - Second Half - Final assembly
  and development of can-satellite\, Parachute Designing Final deployment &amp;
  Data recovery.\n\nThe event starts with a seminar by Prof. R.R Elangovan 
 (Ex. ISRO Scientist) and a Hands-on experience workshop and deployment.\n\
 nProfessor R.R Elangovan\, BSc. D.M.I.T\, M. Tech\, (I.I.T) (Ph.D.) (Aeron
 autical L Engineering\, I.I.T). Former Colleague of Dr. APJ. ABDUL KALAM w
 ith a total of 42 years of experience (including 8 years of International 
 Experience) in Research and Development.\n\n- Requirements From Participan
 ts.\n\n- One laptop per group.\n\n- Extension Board for Charging Accessori
 es.\n\n- Wifi Connectivity for the group for downloading the software.\n\n
 * Winning a Prize is always a special moment.*\n\n1st Prize winner will ge
 t a CanSAT kit Worth Rs.5000/-.\n\n2nd Prize Winner will get a CanSAT kit 
 worth Rs. 3000/-.\n\n- Registration process and fees (group of 3 members):
 \n\n1) Rs.2550/- per group to be paid by a group representative.\n\n2) The
  group representative can form his/her own team consisting of 3 members an
 d notify Organisers of the names of other team members. ( email: faizaldal
 al184@gmail.com\, adarsh1rao@gmail.com\, 120simran0024@dbit.in )\n\n*Rs. 3
 50/- will be refunded to every IEEE member and Rs 150/- will be refunded t
 o DBIT member respectively on the day of the event after furnising relevan
 t information.\n\nHurry !!\n\n*Offer valid for first 20 registering groups
  of 3 members each.\n\nSpeaker(s): Prof. R.R. Elangovan\, Nandan T G \n\nR
 oom: Mondini Hall\, Bldg: Don Bosco Institute of Technology\,\, Premier Au
 tomobile ROad\, C Wing \, 4th floor\, Mumbai\, Maharashtra\, India\, 40007
 0
LOCATION:Room: Mondini Hall\, Bldg: Don Bosco Institute of Technology\,\, P
 remier Automobile ROad\, C Wing \, 4th floor\, Mumbai\, Maharashtra\, Indi
 a\, 400070
ORGANIZER:freda@dbit.in
SEQUENCE:7
SUMMARY:CanSat - Satellite Designing and Launching Workshop
URL;VALUE=URI:https://events.vtools.ieee.org/m/350798
X-ALT-DESC:Description: &lt;br /&gt;&lt;p&gt;&lt;span style=&quot;font-weight: 400\;&quot;&gt;Providing
  courses and hands-on experience-based programs for space explore uncharte
 d fanatics and preparing young minds for uncharted cosmos.&lt;/span&gt;&lt;/p&gt;\n&lt;p&gt;
 &lt;span style=&quot;font-weight: 400\;&quot;&gt;The workshop is divided into 2 days\, eac
 h with 5+ hours of Theory &amp;amp\; Practical sessions. The specifics of the 
 workshops that will be held on each day are listed below.&lt;/span&gt;&lt;/p&gt;\n&lt;p&gt;&lt;
 strong&gt;Day 1&lt;/strong&gt;&lt;strong&gt; - Theory&lt;/strong&gt;&lt;span style=&quot;font-weight: 4
 00\;&quot;&gt; - Expert Talk by&lt;/span&gt;&lt;strong&gt; Prof. R.R Elangovan\, Ex-ISRO Scien
 tis&lt;/strong&gt;&lt;span style=&quot;font-weight: 400\;&quot;&gt;t&lt;/span&gt;&lt;/p&gt;\n&lt;p&gt;&lt;strong&gt;Topi
 c&lt;/strong&gt;&lt;span style=&quot;font-weight: 400\;&quot;&gt; - Introduction to Satellites a
 nd Opportunities in the Space Sector and Satellite Industry.&amp;nbsp\;&lt;/span&gt;
 &lt;/p&gt;\n&lt;p&gt;&lt;strong&gt;Practical&lt;/strong&gt;&lt;span style=&quot;font-weight: 400\;&quot;&gt; - 1. 
 Satellite Structural Composition\, Developing base&lt;/span&gt;&lt;/p&gt;\n&lt;p&gt;&lt;span st
 yle=&quot;font-weight: 400\;&quot;&gt;Structure for CANSAT Module and Payload.&lt;/span&gt;&lt;/
 p&gt;\n&lt;ol start=&quot;2&quot;&gt;\n&lt;li&gt;&lt;span style=&quot;font-weight: 400\;&quot;&gt; Designing a deta
 iled Satellite structure with software.&lt;/span&gt;&lt;/li&gt;\n&lt;/ol&gt;\n&lt;p&gt;&amp;nbsp\;&lt;/p&gt;
 \n&lt;p&gt;&lt;strong&gt;Day 2.&lt;/strong&gt;&lt;strong&gt; Theory&lt;/strong&gt;&lt;span style=&quot;font-weig
 ht: 400\;&quot;&gt; - Introduction to avionics in space\, Satellite Subsystem\, an
 d Software Applications.&lt;/span&gt;&lt;/p&gt;\n&lt;p&gt;&lt;span style=&quot;font-weight: 400\;&quot;&gt;P
 ractical - Creating a rudimentary circuitry system and manually testing th
 e connections between the motherboard\, the sensors\, and the BUS.&lt;/span&gt;&lt;
 /p&gt;\n&lt;p&gt;&lt;strong&gt;Day 2 - Second Half &lt;/strong&gt;&lt;span style=&quot;font-weight: 400
 \;&quot;&gt;- Final assembly and development of can-satellite\, Parachute Designin
 g Final deployment &amp;amp\; Data recovery.&amp;nbsp\;&lt;/span&gt;&lt;/p&gt;\n&lt;p&gt;&amp;nbsp\;&lt;/p&gt;
 \n&lt;p&gt;&lt;strong&gt;The event starts with a seminar by Prof. R.R Elangovan (Ex. I
 SRO Scientist) and a Hands-on experience workshop and deployment.&lt;/strong&gt;
 &lt;/p&gt;\n&lt;p&gt;&amp;nbsp\;&lt;/p&gt;\n&lt;p&gt;&lt;strong&gt;Professor R.R Elangovan\, BSc. D.M.I.T\, 
 M. Tech\, (I.I.T) (Ph.D.) (Aeronautical L Engineering\, I.I.T). Former Col
 league of Dr. APJ. ABDUL KALAM with a total of 42 years of experience (inc
 luding 8 years of International Experience) in Research and Development.&lt;/
 strong&gt;&lt;/p&gt;\n&lt;p&gt;&amp;nbsp\;&lt;/p&gt;\n&lt;ul&gt;\n&lt;li aria-level=&quot;1&quot;&gt;&lt;strong&gt;Requirements
  From Participants.&lt;/strong&gt;&lt;/li&gt;\n&lt;/ul&gt;\n&lt;ul&gt;\n&lt;li aria-level=&quot;1&quot;&gt;&lt;strong
 &gt;One laptop per group.&lt;/strong&gt;&lt;/li&gt;\n&lt;/ul&gt;\n&lt;ul&gt;\n&lt;li aria-level=&quot;1&quot;&gt;&lt;str
 ong&gt;Extension Board for Charging Accessories.&lt;/strong&gt;&lt;/li&gt;\n&lt;/ul&gt;\n&lt;ul&gt;\n
 &lt;li aria-level=&quot;1&quot;&gt;&lt;strong&gt;Wifi Connectivity for the group for downloading
  the software.&amp;nbsp\;&lt;/strong&gt;&lt;/li&gt;\n&lt;/ul&gt;\n&lt;p&gt;&lt;br /&gt;&lt;strong&gt;&lt;em&gt;* &lt;/em&gt;&lt;/
 strong&gt;&lt;strong&gt;&lt;em&gt;Winning a Prize is always a special moment.&lt;/em&gt;&lt;/stron
 g&gt;&lt;strong&gt;&lt;em&gt;*&lt;/em&gt;&lt;/strong&gt;&lt;/p&gt;\n&lt;p&gt;&lt;strong&gt;1st Prize winner will get a 
 CanSAT kit Worth Rs.5000/-.&lt;/strong&gt;&lt;/p&gt;\n&lt;p&gt;&lt;strong&gt;2nd Prize Winner will
  get a CanSAT kit worth Rs. 3000/-.&lt;/strong&gt;&lt;/p&gt;\n&lt;ul&gt;\n&lt;li style=&quot;font-we
 ight: 400\;&quot; aria-level=&quot;1&quot;&gt;&lt;span style=&quot;text-decoration: underline\;&quot;&gt;&lt;st
 rong&gt;Registration process and&amp;nbsp\; fees (group of 3 members):&lt;/strong&gt;&lt;/
 span&gt;&lt;/li&gt;\n&lt;/ul&gt;\n&lt;p&gt;&lt;strong&gt;1) Rs.2550/- per group to be paid by a group
  representative.&lt;/strong&gt;&lt;/p&gt;\n&lt;p&gt;&lt;strong&gt;2) The group representative can 
 form his/her own team consisting of 3 members and notify Organisers of the
  names of&amp;nbsp\; other team members. &lt;/strong&gt;&lt;strong&gt;( email: faizaldalal
 184@gmail.com\, adarsh1rao@gmail.com\, 120simran0024@dbit.in )&amp;nbsp\;&lt;/str
 ong&gt;&lt;/p&gt;\n&lt;p&gt;&lt;span style=&quot;font-weight: 400\;&quot;&gt;*Rs. 350/- will be refunded 
 to every IEEE member and &lt;/span&gt;&lt;span style=&quot;font-weight: 400\;&quot;&gt;Rs 150/- 
 will be refunded to DBIT member respectively on the day of the event after
  furnising relevant information.&lt;br /&gt;&lt;/span&gt;&lt;/p&gt;\n&lt;p&gt;&lt;strong&gt;Hurry !!&lt;br 
 /&gt;&lt;/strong&gt;&lt;/p&gt;\n&lt;p&gt;&lt;strong&gt;*Offer valid for first 20 registering groups o
 f 3 members each.&lt;/strong&gt;&lt;/p&gt;\n&lt;p&gt;&amp;nbsp\;&lt;/p&gt;\n&lt;p&gt;&amp;nbsp\;&lt;/p&gt;
END:VEVENT
END:VCALENDAR

